BEGIN:VCALENDAR
VERSION:2.0
PRODID:-//Emerson College UnCommon Corner - ECPv6.15.19//NONSGML v1.0//EN
CALSCALE:GREGORIAN
METHOD:PUBLISH
X-ORIGINAL-URL:https://uncommoncorner.org
X-WR-CALDESC:Events for Emerson College UnCommon Corner
REFRESH-INTERVAL;VALUE=DURATION:PT1H
X-Robots-Tag:noindex
X-PUBLISHED-TTL:PT1H
BEGIN:VTIMEZONE
TZID:America/New_York
BEGIN:DAYLIGHT
TZOFFSETFROM:-0500
TZOFFSETTO:-0400
TZNAME:EDT
DTSTART:20240310T070000
END:DAYLIGHT
BEGIN:STANDARD
TZOFFSETFROM:-0400
TZOFFSETTO:-0500
TZNAME:EST
DTSTART:20241103T060000
END:STANDARD
BEGIN:DAYLIGHT
TZOFFSETFROM:-0500
TZOFFSETTO:-0400
TZNAME:EDT
DTSTART:20250309T070000
END:DAYLIGHT
BEGIN:STANDARD
TZOFFSETFROM:-0400
TZOFFSETTO:-0500
TZNAME:EST
DTSTART:20251102T060000
END:STANDARD
BEGIN:DAYLIGHT
TZOFFSETFROM:-0500
TZOFFSETTO:-0400
TZNAME:EDT
DTSTART:20260308T070000
END:DAYLIGHT
BEGIN:STANDARD
TZOFFSETFROM:-0400
TZOFFSETTO:-0500
TZNAME:EST
DTSTART:20261101T060000
END:STANDARD
END:VTIMEZONE
BEGIN:VEVENT
DTSTART;TZID=America/New_York:20251030T170000
DTEND;TZID=America/New_York:20251030T190000
DTSTAMP:20260423T061221
CREATED:20251027T224908Z
LAST-MODIFIED:20251028T165452Z
UID:5874-1761843600-1761850800@uncommoncorner.org
SUMMARY:172 Below Presents: Trick or Treat
DESCRIPTION:172 Below Presents: Trick or Treat\n\n\n\n\nUnCommon Corner\, Boylston St &\, Tremont St\, Boston\, MA 02116\n\n\n\nBOO! Did we scare you? If so\, you should come see our TERRIFYINGLY talented performers this Thursday\, 10/30\, from 5-7pm. The evening will be filled with frightfully-fun tunes\, and we hope to see you there! \n\n\n\n172 Below Presents: Trick or Treat a Halloween Cabaret Featuring Ella Batogowski\, Lucy Negron-Hall\, Seth Greenberg\, Fionntán Mac Seáin\, Petra Munter\, Django Nachmanoff\, Amanda Marcos\, Arianna Arocho\, Katie Roy\, Lucia Kelemen\, Eve Freyou\, Ella Barrett. Produced by Emily Barnett & Rowen Goring \n\n\n\n\n\nArtist Bios\n\n\n\n\n\n\n\n\n\n\n\n\n\n\n\nElla Batogowski\n\n\n\nElla Batogowski is a Junior Musical Theater Major and is thrilled to be making her 172 Below Debut! She is currently in MTAG’s production of The Cradle Will Rock playing Moll/Sister Mister. Previous shows: Head Over Heels (Swing)\, Alice by Heart (Cheshire Cat/Tabatha)\, Honk! (Grace\, Dot\, Lowbutt). She sends lots of love to her friends and family!  \n\n\n\n\n\n\n\n\n\n\n\n\n\n\n\n\n\n\n\n\n\n\n\n\n\n\n\n\n\n\n\n\n\n\n\n\n\n\n\nLucy Negron-Hall\n\n\n\nLucy Negron Hall is a Senior Theatre and Performance major with a minor in Dance and is thrilled to be part of her first 172 Below Cabaret\, Trick or Treat\, at the Uncommon Corner. She is incredibly grateful for this opportunity and sends a big thank you to everyone who made it all possible. Lucy can’t wait to celebrate this spooky holiday with everyone! \n\n\n\n\n\n\n\n\n\n\n\n\n\n\n\n\n\n\n\nSeth Greenberg\n\n\n\nSeth Greenberg wasn’t actually supposed to be performing in this cabaret. Olivia Rodrigo herself was supposed to be the special guest tonight but she called Seth up this morning and was like “Waitt I’m lowkey busy can you cover this performance for me?” and Seth was like “Livvvv don’t make me I have other things I have to worry about.” and Olivia was like “Pleaseeeee I’ll love you forever!” and Seth was like “Okay fineeeee. Fine. Okay I’ll do it but only just this once.” So now he’s here. We want to thank him for stepping in on such short notice! \n\n\n\n\n\n\n\n\n\n\n\n\n\n\n\n\n\n\n\nFionntán Mac Seáin\n\n\n\nFIONNTÁN HANSON MAC SEÁIN (he/him) is over the moon to be making his 172 Below Debut. Originally from southern New Hampshire\, Finn is a freshman BFA Theatre Education & Performance major. Upcoming Emerson College credits: BlueJay Theatre Collective’s The Omniscient Bus (Omnibus #2)\, Emerson Urban Dance Theatre’s SWEAT (Tap Company). He is thrilled to be performing on the Uncommon Corner stage and to be celebrating the spooky season with you all. Happy Halloween! Instagram: @fionntanmacseain \n\n\n\n\n\n\n\n\n\n\n\n\n\n\n\n\n\nPetra Munter\n\n\n\nPetra Munter is a sophomore transfer MT\, born and raised in Washington DC. You may find her doing background vocals in U2’s Bono & The Edge Tiny Desk Concert on Youtube. \n\n\n\n\n\n\n\n\n\n\n\n\n\n\n\n\n\n\n\nDjango Nachmanoff\n\n\n\nDjango Nachmanoff – BFA 2029 Theatre Education and Performance. Emerson College Credits: 172 Below’s Sexy September Cabaret (Soloist)\, Kidding Around’s Diary of a Wimpy Kid the Musical (Lionel James\, U/S Rowley). Other Credits (outside of school theatre\, film\, TV\, events\, etc): Missoula Children’s Theatre Performing Arts Camp’s SpongeBob the Musical (SpongeBob)\, Davis High School’s Mean Girls (Damian)\, Woodland Opera House’s The Lightning Thief (Grover)\, Woodland Opera House’s The Prom (Nick)\, Winters Shakespeare Workshop’s Twelfth Night (Sir Toby Belch)\, Sidecar Theatre Companies Hadestown (Director\, Hades)\, Sidecar Theatre Companies Tick Tick Boom… (Michael\, Director)\, Sidecar Theatre Companies’ 13 the Musical (Archie\, Director)\, Davis Musical Theatre Companies The Hunchback of Notre Dame (Jehan/Frederic/Gargoyle)\, Da Vinci Charter Academies’ Little Shop of Horrors (Seymour). Let’s get spooky! \n\n\n\n\n\n\n\n\n\n\n\n\n\n\n\n\n\n\n\nAmanda Marcos\n\n\n\nAmanda Marcos – BFA ‘27 Musical Theatre. Emerson Stage Credits: 25th Annual Putnam County Spelling Bee (Swing Marcy and Logainne). Emerson College Credits: Em Shakes’ The Sea End At Troy (Polyxena)\, MTS’ Cabaret of Color (performer). Other credits: Mean Girls (Regina George)\, Heathers (Heather Duke)\, Freaky Friday (Ellie Blake)\, Head Over Heels (Mopsa)\, Beauty & The Beast (Mrs. Potts)\, Xanadu (Euterpe)\, and Locker No. 89 (Rita). She would like to thank her family and friends for always being so supportive! @a_manda_marcos  \n\n\n\n\n\n\n\n\n\n\n\n\n\n\n\n\n\n\n\nArianna Arocho\n\n\n\nArianna Arocho is thrilled to be making her 172 Below debut!  She is a first-year Musical Theatre BFA major from Brewster\, New York.  Arianna is involved in Musical Theatre Against the Grain’s Spring Awakening\, playing Martha\, a member of the Noteworthy A Cappella group\, one of Emerson’s Got Talent’s first place winners\, a cast member in the Musical Theatre Society’s GleEFA cabaret\, and a member of the National Association of Hispanic Journalists.  She would like to shout out her family for their unwavering support and Emily and Rowen for offering her the opportunity to be part of this amazing cabaret!   \n\n\n\n\n\n\n\n\n\n\n\n\n\n\n\n\n\n\n\nKatie Roy\n\n\n\nKatie Roy is super excited to be in 172 Below’s Halloween at Uncommon Stage performance! She is a junior Theatre Education & Performance major who has always loved singing ever since she was little. Her favorite TV show is Stranger Things\, and one of her favorite movies is Scott Pilgrim vs. The World which is why she chose the song she is singing today! She hopes you have an awesome Halloween 🙂  \n\n\n\n\n\n\n\n\n\n\n\n\n\n\n\n\n\n\n\nLucia Kelemen \n\n\n\nLucia Kelemen is thrilled to be back with 172! Halloween’s her favorite holiday\, which tells you everything you need to know about her. \n\n\n\n\n\n\n\n\n\n\n\n\n\n\n\n\n\n\n\nEve Freyou\n\n\n\nEve Freyou… \n\n\n\n\n\n\n\n\n\n\n\n\n\n\n\n\n\n\n\nElla Barrett\n\n\n\nElla Rae Barrett (Musical Theatre 2028): Emerson College- My Dearest Apologies (Mercutio Troupe); Daddy Longlegs (Musical Theatre Against The Grain). Ella is thrilled that you’re here tonight and hopes you’re ready for some SPOOKtacular performances. This show will definitely lift your SPIRITS\, have a TERRORific time!
URL:https://uncommoncorner.org/event/172-below-presents-trick-or-treat/
CATEGORIES:DJ,Live Music
ATTACH;FMTTYPE=image/png:https://uncommoncorner.org/wp-content/uploads/sites/64/2025/10/172-Below-Presents.png
END:VEVENT
END:VCALENDAR