BEGIN:VCALENDAR
VERSION:2.0
PRODID:-//Emerson College UnCommon Corner - ECPv6.15.19//NONSGML v1.0//EN
CALSCALE:GREGORIAN
METHOD:PUBLISH
X-WR-CALNAME:Emerson College UnCommon Corner
X-ORIGINAL-URL:https://uncommoncorner.org
X-WR-CALDESC:Events for Emerson College UnCommon Corner
REFRESH-INTERVAL;VALUE=DURATION:PT1H
X-Robots-Tag:noindex
X-PUBLISHED-TTL:PT1H
BEGIN:VTIMEZONE
TZID:America/New_York
BEGIN:DAYLIGHT
TZOFFSETFROM:-0500
TZOFFSETTO:-0400
TZNAME:EDT
DTSTART:20240310T070000
END:DAYLIGHT
BEGIN:STANDARD
TZOFFSETFROM:-0400
TZOFFSETTO:-0500
TZNAME:EST
DTSTART:20241103T060000
END:STANDARD
BEGIN:DAYLIGHT
TZOFFSETFROM:-0500
TZOFFSETTO:-0400
TZNAME:EDT
DTSTART:20250309T070000
END:DAYLIGHT
BEGIN:STANDARD
TZOFFSETFROM:-0400
TZOFFSETTO:-0500
TZNAME:EST
DTSTART:20251102T060000
END:STANDARD
BEGIN:DAYLIGHT
TZOFFSETFROM:-0500
TZOFFSETTO:-0400
TZNAME:EDT
DTSTART:20260308T070000
END:DAYLIGHT
BEGIN:STANDARD
TZOFFSETFROM:-0400
TZOFFSETTO:-0500
TZNAME:EST
DTSTART:20261101T060000
END:STANDARD
END:VTIMEZONE
BEGIN:VEVENT
DTSTART;TZID=America/New_York:20251025T130000
DTEND;TZID=America/New_York:20251025T150000
DTSTAMP:20260420T081352
CREATED:20251021T191438Z
LAST-MODIFIED:20251021T191441Z
UID:5840-1761397200-1761404400@uncommoncorner.org
SUMMARY:Manuela Sánchez Goubert
DESCRIPTION:Manuela Sánchez Goubert\n\n\n\n\n\nUnCommon Corner\, Boylston St &\, Tremont St\, Boston\, MA 02116\n\n\n\nManuela Sánchez Goubert is a Colombian artist who combines jazz with Latin American folklore\, creating a cosmopolitan sound. Manuela and her band belong to a new generation\, who–inspired by the folkloric traditions of the 50’s–propose new compositions with a modern touch\, nourished by jazz reharmonizations. Manuela is a Colombian artist who combines jazz with Latin American folklore\, creating a cosmopolitan sound. She studies at the Berklee Global Jazz Institute led by Maestro Danilo Pérez and Patricia Zárate\, where she hones her social activism skills by engaging in community outreach programs\, participating in social justice initiatives\, and collaborating on projects that use music as a tool for social change. Furthermore\, she is an ambassador for the Latin Grammy Cultural Foundation and participates in the Foundation’s 2024 “Leading Ladies of Entertainment” Program. \n\n\n\nBorn and raised in the Colombian Andes\, Manuela moved to New York City as a teenager\, where she was introduced to the jazz scene by mentors like Lucía Pulido and Lauren Kinhan. She has performed in major venues around the world\, including the Panamá Jazz Festival\, Jazz at Lincoln Center\, and Radio City Valencia alongside world-renowned artists such as Andrés Cepeda\, Luciana Souza\, Olga Román\, and  New York Voices. Manuela is about to release her first album of original songs\, which will include a tour throughout the Americas. \n\n\n\n\n\n\n\n\n\n@manuelasanchezgb \n\n\n\n \n\n\n\n\n\n\n\n\n\n\n\n@manuelasanchezgb \n\n\n\n\n\n \n\n\n\n\n\n\n\n\n\nwww.manuelasanchezgoubert.com \n\n\n\n\n\n \n\n\n\n\n\n\n\n\n\n@manuelasanchezgoubert9516
URL:https://uncommoncorner.org/event/manuela-sanchez-goubert-7/
CATEGORIES:Live Music
ATTACH;FMTTYPE=image/png:https://uncommoncorner.org/wp-content/uploads/sites/64/2024/05/Untitled.png
END:VEVENT
BEGIN:VEVENT
DTSTART;TZID=America/New_York:20251025T160000
DTEND;TZID=America/New_York:20251025T180000
DTSTAMP:20260420T081352
CREATED:20251023T180403Z
LAST-MODIFIED:20251023T180405Z
UID:5857-1761408000-1761415200@uncommoncorner.org
SUMMARY:Addy LaMaute
DESCRIPTION:172 Below Presents: Trick or Treat\n\n\n\n\nUnCommon Corner\, Boylston St &\, Tremont St\, Boston\, MA 02116\n\n\n\n \n\n\n\n\n\n \n\n\n\n \n\n\n\n\n\n\n\n \n\n\n\n\n\n \n\n\n\n\n\n \n\n\n\n\n\n \n\n\n\n\n\n\n\n\n\n@Twitter
URL:https://uncommoncorner.org/event/addy-lamaute/
CATEGORIES:Live Music
END:VEVENT
BEGIN:VEVENT
DTSTART;TZID=America/New_York:20251025T190000
DTEND;TZID=America/New_York:20251025T210000
DTSTAMP:20260420T081352
CREATED:20251023T180557Z
LAST-MODIFIED:20251023T180559Z
UID:5859-1761418800-1761426000@uncommoncorner.org
SUMMARY:Dwayne Haggins
DESCRIPTION:Dwayne Haggins\n\n\n\n\n\nUnCommon Corner\, Boylston St &\, Tremont St\, Boston\, MA 02116\n\n\n\nHe’s been described as “the love child of Otis Redding and Doc Watson.” “The John Legend of rockabilly.” And recently\, “a ‘what-took-you-so-long’ fusion of Elvis and Marvin Gaye.” But he is Dwayne Haggins\, and his voice is his own. Whether on the stage of a metropolitan concert hall or the makeshift bandstand of a neighborhood dive\, you will find him exploring uncharted musical territories\, listening for new ways to stir his influences into this night’s expression of his unique sound – strangely familiar\, naturally mysterious\, unmistakably his own. \n\n\n\nNotably\, Haggins has shared the stage with acts such as Joe Bonamassa\, Keb Mo\, Jimmy Vivino\, Chris Lane\, Suzanne Santo\, and Fitz and the Tantrums. Haggins was signed in November of 2021 and his Verdict debut LP was released in June of 2022 titled “Call Me Boston”. \n\n\n\n\n\n\n\n\n\n@hagginsmusic \n\n\n\n \n\n\n\n\n\n\n\n\n\n\n\n@hagginsmusic \n\n\n\n\n\n \n\n\n\n\n\n\n\n\n\nwww.dwaynehaggins.com
URL:https://uncommoncorner.org/event/dwayne-haggins-28/
CATEGORIES:Live Music
END:VEVENT
END:VCALENDAR