BEGIN:VCALENDAR
VERSION:2.0
PRODID:-//Emerson College UnCommon Corner - ECPv6.15.19//NONSGML v1.0//EN
CALSCALE:GREGORIAN
METHOD:PUBLISH
X-ORIGINAL-URL:https://uncommoncorner.org
X-WR-CALDESC:Events for Emerson College UnCommon Corner
REFRESH-INTERVAL;VALUE=DURATION:PT1H
X-Robots-Tag:noindex
X-PUBLISHED-TTL:PT1H
BEGIN:VTIMEZONE
TZID:America/New_York
BEGIN:DAYLIGHT
TZOFFSETFROM:-0500
TZOFFSETTO:-0400
TZNAME:EDT
DTSTART:20240310T070000
END:DAYLIGHT
BEGIN:STANDARD
TZOFFSETFROM:-0400
TZOFFSETTO:-0500
TZNAME:EST
DTSTART:20241103T060000
END:STANDARD
BEGIN:DAYLIGHT
TZOFFSETFROM:-0500
TZOFFSETTO:-0400
TZNAME:EDT
DTSTART:20250309T070000
END:DAYLIGHT
BEGIN:STANDARD
TZOFFSETFROM:-0400
TZOFFSETTO:-0500
TZNAME:EST
DTSTART:20251102T060000
END:STANDARD
BEGIN:DAYLIGHT
TZOFFSETFROM:-0500
TZOFFSETTO:-0400
TZNAME:EDT
DTSTART:20260308T070000
END:DAYLIGHT
BEGIN:STANDARD
TZOFFSETFROM:-0400
TZOFFSETTO:-0500
TZNAME:EST
DTSTART:20261101T060000
END:STANDARD
END:VTIMEZONE
BEGIN:VEVENT
DTSTART;TZID=America/New_York:20251024T120000
DTEND;TZID=America/New_York:20251024T140000
DTSTAMP:20260420T064345
CREATED:20251021T191001Z
LAST-MODIFIED:20251021T191004Z
UID:5834-1761307200-1761314400@uncommoncorner.org
SUMMARY:Mohamed Abdelgawad
DESCRIPTION:172 Below Presents: Trick or Treat\n\n\n\n\nUnCommon Corner\, Boylston St &\, Tremont St\, Boston\, MA 02116\n\n\n\n \n\n\n\n\n\n \n\n\n\n \n\n\n\n\n\n\n\n \n\n\n\n\n\n \n\n\n\n\n\n \n\n\n\n\n\n \n\n\n\n\n\n\n\n\n\n@Twitter
URL:https://uncommoncorner.org/event/mohamed-abdelgawad-2/
CATEGORIES:Live Music
END:VEVENT
BEGIN:VEVENT
DTSTART;TZID=America/New_York:20251024T150000
DTEND;TZID=America/New_York:20251024T170000
DTSTAMP:20260420T064345
CREATED:20251021T191134Z
LAST-MODIFIED:20251021T191138Z
UID:5836-1761318000-1761325200@uncommoncorner.org
SUMMARY:Preston Chan
DESCRIPTION:172 Below Presents: Trick or Treat\n\n\n\n\nUnCommon Corner\, Boylston St &\, Tremont St\, Boston\, MA 02116\n\n\n\nPreston Chan is a DJ and producer pushing the boundaries of housemusic with a sound that’s equal parts heavy\, rhythmic\, and infectious.Based in Boston and studying at Berklee College of Music\, Preston brings both technical precision and creative energy to his craft.  \n\n\n\nHe has performed at bars and clubs across Singapore and Boston\, sharing his unique blend of late night grooves and funky beach vibes with influences from popular music/hiphop. His sets are designed to keep the crowd locked in from start to finish\, telling a unique story with every set. \n\n\n\nAlongside his performances\, Preston is steadily building a catalog ofpersonal releases and edits that showcase his knack for heavy drops\,punchy low-end\, and festival-ready energy. His tracks reflect the sameintensity and precision he brings to his DJ sets\, positioning him as both a performer and creator ready for the stage. With a growing catalog of original productions and an ear for curation\, Preston is emerging as an exciting new voice in the global music scene. \n\n\n\n\n\n\n\n\n\n@Instagram \n\n\n\n@prestonchannn
URL:https://uncommoncorner.org/event/preston-chan-3/
CATEGORIES:Live Music
ATTACH;FMTTYPE=image/jpeg:https://uncommoncorner.org/wp-content/uploads/sites/64/2025/09/07d31702-bac9-4649-a638-d83d26f4ad29-2-1.jpg
END:VEVENT
BEGIN:VEVENT
DTSTART;TZID=America/New_York:20251024T180000
DTEND;TZID=America/New_York:20251024T200000
DTSTAMP:20260420T064345
CREATED:20251021T191308Z
LAST-MODIFIED:20251021T191310Z
UID:5838-1761328800-1761336000@uncommoncorner.org
SUMMARY:Daniel Sturgis
DESCRIPTION:Daniel Sturgis is a talented musician hailing from the vibrant music scene of Cape Cod. With a musical style that seamlessly blends alternative\, funk\, pop\, and rock\, Sturgis has created a captivating sound that is uniquely his own. Influenced by legendary artists such as Jimmy Hendrix\, B.B. King\, and The Beatles\, Sturgis draws inspiration from the rich history of music while also pushing boundaries and experimenting with new sonic landscapes.  \n\n\n\n Having honed his craft at the prestigious Berklee College of Music\, Sturgis is a true master of his instrument. His impressive guitar skills\, combined with his soulful vocals and dynamic stage presence\, make for a captivating live performance that leaves audiences in awe. Sturgis’ talents have not gone unnoticed\, as he emerged victorious in the Cape Cod Battle of the Bands in 2011. This accomplishment solidified his place among the region’s most promising musicians and propelled him to new heights in his career.  \n\n\n\nCurrently\, Daniel Sturgis is focused on his ongoing musical projects\, constantly pushing himself to create fresh and innovative music. Whether he’s writing thought-provoking lyrics or crafting infectious melodies\, Sturgis consistently delivers music that resonates with listeners on a profound level. With a diverse range of influences and a dedication to his craft\, Daniel Sturgis is an artist to watch. With each new endeavor\, he continues to captivate audiences and push the boundaries of his musical style. As he navigates the ever-evolving music industry\, Sturgis remains poised to make a lasting impact with his unique sound and unbridled passion for music. \n\n\n\nFacebook.com/Danielsturgisband \n\n\n\nInstagram: @danielsturgis
URL:https://uncommoncorner.org/event/daniel-sturgis-15/
CATEGORIES:Live Music
ATTACH;FMTTYPE=image/jpeg:https://uncommoncorner.org/wp-content/uploads/sites/64/2023/10/Untitled-design-61.jpg
END:VEVENT
END:VCALENDAR