BEGIN:VCALENDAR
VERSION:2.0
PRODID:-//Emerson College UnCommon Corner - ECPv6.15.19//NONSGML v1.0//EN
CALSCALE:GREGORIAN
METHOD:PUBLISH
X-WR-CALNAME:Emerson College UnCommon Corner
X-ORIGINAL-URL:https://uncommoncorner.org
X-WR-CALDESC:Events for Emerson College UnCommon Corner
REFRESH-INTERVAL;VALUE=DURATION:PT1H
X-Robots-Tag:noindex
X-PUBLISHED-TTL:PT1H
BEGIN:VTIMEZONE
TZID:America/New_York
BEGIN:DAYLIGHT
TZOFFSETFROM:-0500
TZOFFSETTO:-0400
TZNAME:EDT
DTSTART:20240310T070000
END:DAYLIGHT
BEGIN:STANDARD
TZOFFSETFROM:-0400
TZOFFSETTO:-0500
TZNAME:EST
DTSTART:20241103T060000
END:STANDARD
BEGIN:DAYLIGHT
TZOFFSETFROM:-0500
TZOFFSETTO:-0400
TZNAME:EDT
DTSTART:20250309T070000
END:DAYLIGHT
BEGIN:STANDARD
TZOFFSETFROM:-0400
TZOFFSETTO:-0500
TZNAME:EST
DTSTART:20251102T060000
END:STANDARD
BEGIN:DAYLIGHT
TZOFFSETFROM:-0500
TZOFFSETTO:-0400
TZNAME:EDT
DTSTART:20260308T070000
END:DAYLIGHT
BEGIN:STANDARD
TZOFFSETFROM:-0400
TZOFFSETTO:-0500
TZNAME:EST
DTSTART:20261101T060000
END:STANDARD
END:VTIMEZONE
BEGIN:VEVENT
DTSTART;TZID=America/New_York:20251019T120000
DTEND;TZID=America/New_York:20251019T140000
DTSTAMP:20260419T231013
CREATED:20250424T163128Z
LAST-MODIFIED:20250424T163130Z
UID:4146-1760875200-1760882400@uncommoncorner.org
SUMMARY:Jules Grace
DESCRIPTION:Jules Grace is an independent artist from Boston who just released her debut album “Diaries & Daydreams.” She has been playing guitar since she was nine and grew up playing in cover bands. Jules enjoys making a variety of music\, ranging from dreamy indie-pop to heavier rock. Performing on radio station WERS\, Musicians Wanted\, and local venues around Boston\, Jules has been gaining momentum in her music career.
URL:https://uncommoncorner.org/event/jules-grace-4/
CATEGORIES:Live Music
ATTACH;FMTTYPE=image/jpeg:https://uncommoncorner.org/wp-content/uploads/sites/64/2025/04/01896731-808D-4A1D-B78D-BEE07228A3A3.jpeg
END:VEVENT
BEGIN:VEVENT
DTSTART;TZID=America/New_York:20251019T150000
DTEND;TZID=America/New_York:20251019T170000
DTSTAMP:20260419T231013
CREATED:20250515T163412Z
LAST-MODIFIED:20250515T170724Z
UID:4578-1760886000-1760893200@uncommoncorner.org
SUMMARY:Sam Spear
DESCRIPTION:Sam Spear\n\n\n\n\n\nThe Sam Spear Quinet delivers hard-hitting bop\, soulful swing\, and blistering ballads. Composed of two saxes\, piano\, bass\, and drums\, the group performs an eclectic mix of original tunes and cleverly crafted arrangements of jazz standards. \n\n\n\n\n\n\n\n\n\n\n\n@sam_spear_music \n\n\n\n\n\n\n\n\n\n\n\n\n\nSam Spear Music \n\n\n\n\n\n\n\n\n\n\n\n\n\nhttps://samspearmusic.com/
URL:https://uncommoncorner.org/event/sam-spear-12/
CATEGORIES:Live Music
ATTACH;FMTTYPE=image/jpeg:https://uncommoncorner.org/wp-content/uploads/sites/64/2023/08/sam-spear-bio-pic-scaled-e1697404801195.jpeg
END:VEVENT
END:VCALENDAR