BEGIN:VCALENDAR
VERSION:2.0
PRODID:-//Emerson College UnCommon Corner - ECPv6.15.19//NONSGML v1.0//EN
CALSCALE:GREGORIAN
METHOD:PUBLISH
X-ORIGINAL-URL:https://uncommoncorner.org
X-WR-CALDESC:Events for Emerson College UnCommon Corner
REFRESH-INTERVAL;VALUE=DURATION:PT1H
X-Robots-Tag:noindex
X-PUBLISHED-TTL:PT1H
BEGIN:VTIMEZONE
TZID:America/New_York
BEGIN:DAYLIGHT
TZOFFSETFROM:-0500
TZOFFSETTO:-0400
TZNAME:EDT
DTSTART:20240310T070000
END:DAYLIGHT
BEGIN:STANDARD
TZOFFSETFROM:-0400
TZOFFSETTO:-0500
TZNAME:EST
DTSTART:20241103T060000
END:STANDARD
BEGIN:DAYLIGHT
TZOFFSETFROM:-0500
TZOFFSETTO:-0400
TZNAME:EDT
DTSTART:20250309T070000
END:DAYLIGHT
BEGIN:STANDARD
TZOFFSETFROM:-0400
TZOFFSETTO:-0500
TZNAME:EST
DTSTART:20251102T060000
END:STANDARD
BEGIN:DAYLIGHT
TZOFFSETFROM:-0500
TZOFFSETTO:-0400
TZNAME:EDT
DTSTART:20260308T070000
END:DAYLIGHT
BEGIN:STANDARD
TZOFFSETFROM:-0400
TZOFFSETTO:-0500
TZNAME:EST
DTSTART:20261101T060000
END:STANDARD
END:VTIMEZONE
BEGIN:VEVENT
DTSTART;TZID=America/New_York:20251007T170000
DTEND;TZID=America/New_York:20251007T190000
DTSTAMP:20260419T100034
CREATED:20251003T192943Z
LAST-MODIFIED:20251003T192946Z
UID:5786-1759856400-1759863600@uncommoncorner.org
SUMMARY:Catherine Bent’s World Jazz Trio
DESCRIPTION:Catherine Bent’s World Jazz Trio\n\n\n\n\n\nUnCommon Corner\, Boylston St &\, Tremont St\, Boston\, MA 02116\n\n\n\nLocal multi-style cellist Catherine Bent will return to the UnCommon Corner with her trio. \n\n\n\nCatherine Bent\, an alumna of Cirque du Soleil\, has performed and recorded with Joe Jackson\, Lee Konitz\, Donna Summer\, and many others. She is regarded in Brazil as the leading cellist in choro.  \n\n\n\nChoro (pronounced “shoh-roh”) is an instrumental music that has its origins in late 1800s Rio de Janeiro. It’s been likened to New Orleans jazz\, and shares that tradition’s improvisation\, soulfulness\, and often irrepressible joyfulness.  \n\n\n\n\n\n\n\n\n\n@CatherineBentMusic \n\n\n\n \n\n\n\n\n\n\n\n\n\n\n\n@CatherineBentMusic \n\n\n\n\n\n \n\n\n\n\n\n\n\n\n\nhttps://catherinebent.com
URL:https://uncommoncorner.org/event/catherine-bents-world-jazz-trio/
CATEGORIES:Live Music
END:VEVENT
END:VCALENDAR