BEGIN:VCALENDAR
VERSION:2.0
PRODID:-//Emerson College UnCommon Corner - ECPv6.15.19//NONSGML v1.0//EN
CALSCALE:GREGORIAN
METHOD:PUBLISH
X-WR-CALNAME:Emerson College UnCommon Corner
X-ORIGINAL-URL:https://uncommoncorner.org
X-WR-CALDESC:Events for Emerson College UnCommon Corner
REFRESH-INTERVAL;VALUE=DURATION:PT1H
X-Robots-Tag:noindex
X-PUBLISHED-TTL:PT1H
BEGIN:VTIMEZONE
TZID:America/New_York
BEGIN:DAYLIGHT
TZOFFSETFROM:-0500
TZOFFSETTO:-0400
TZNAME:EDT
DTSTART:20240310T070000
END:DAYLIGHT
BEGIN:STANDARD
TZOFFSETFROM:-0400
TZOFFSETTO:-0500
TZNAME:EST
DTSTART:20241103T060000
END:STANDARD
BEGIN:DAYLIGHT
TZOFFSETFROM:-0500
TZOFFSETTO:-0400
TZNAME:EDT
DTSTART:20250309T070000
END:DAYLIGHT
BEGIN:STANDARD
TZOFFSETFROM:-0400
TZOFFSETTO:-0500
TZNAME:EST
DTSTART:20251102T060000
END:STANDARD
BEGIN:DAYLIGHT
TZOFFSETFROM:-0500
TZOFFSETTO:-0400
TZNAME:EDT
DTSTART:20260308T070000
END:DAYLIGHT
BEGIN:STANDARD
TZOFFSETFROM:-0400
TZOFFSETTO:-0500
TZNAME:EST
DTSTART:20261101T060000
END:STANDARD
END:VTIMEZONE
BEGIN:VEVENT
DTSTART;TZID=America/New_York:20251001T160000
DTEND;TZID=America/New_York:20251001T180000
DTSTAMP:20260423T050505
CREATED:20250918T162141Z
LAST-MODIFIED:20250918T162144Z
UID:5719-1759334400-1759341600@uncommoncorner.org
SUMMARY:The Water Street Wranglers
DESCRIPTION:The Water Street Wranglers\n\n\n\n\n\nUnCommon Corner\, Boylston St &\, Tremont St\, Boston\, MA 02116\n\n\n\nEmbark on a musical journey with the Water Street Wranglers\, a Boston-based bluegrass/Americana band. Known for their blend of original and traditional tunes\, join us for mesmerizing live performances that capture the essence of good old-fashioned vibes mixed with a modern touch. \n\n\n\n\n\n\n\n\n\n@waterstreetwranglers \n\n\n\n \n\n\n\n\n\n\n\n\n\n\n\n@TheWaterStreetWranglers \n\n\n\n\n\n \n\n\n\n\n\n\n\n\n\nwww.thewaterstreetwranglers.com
URL:https://uncommoncorner.org/event/the-water-street-wranglers-3/
CATEGORIES:Live Music
END:VEVENT
BEGIN:VEVENT
DTSTART;TZID=America/New_York:20251001T180000
DTEND;TZID=America/New_York:20251001T200000
DTSTAMP:20260423T050505
CREATED:20250918T162237Z
LAST-MODIFIED:20250918T162239Z
UID:5721-1759341600-1759348800@uncommoncorner.org
SUMMARY:Manuela Sánchez Goubert
DESCRIPTION:Manuela Sánchez Goubert\n\n\n\n\n\nUnCommon Corner\, Boylston St &\, Tremont St\, Boston\, MA 02116\n\n\n\nManuela Sánchez Goubert is a Colombian artist who combines jazz with Latin American folklore\, creating a cosmopolitan sound. Manuela and her band belong to a new generation\, who–inspired by the folkloric traditions of the 50’s–propose new compositions with a modern touch\, nourished by jazz reharmonizations. Manuela is a Colombian artist who combines jazz with Latin American folklore\, creating a cosmopolitan sound. She studies at the Berklee Global Jazz Institute led by Maestro Danilo Pérez and Patricia Zárate\, where she hones her social activism skills by engaging in community outreach programs\, participating in social justice initiatives\, and collaborating on projects that use music as a tool for social change. Furthermore\, she is an ambassador for the Latin Grammy Cultural Foundation and participates in the Foundation’s 2024 “Leading Ladies of Entertainment” Program. \n\n\n\nBorn and raised in the Colombian Andes\, Manuela moved to New York City as a teenager\, where she was introduced to the jazz scene by mentors like Lucía Pulido and Lauren Kinhan. She has performed in major venues around the world\, including the Panamá Jazz Festival\, Jazz at Lincoln Center\, and Radio City Valencia alongside world-renowned artists such as Andrés Cepeda\, Luciana Souza\, Olga Román\, and  New York Voices. Manuela is about to release her first album of original songs\, which will include a tour throughout the Americas. \n\n\n\n\n\n\n\n\n\n@manuelasanchezgb \n\n\n\n \n\n\n\n\n\n\n\n\n\n\n\n@manuelasanchezgb \n\n\n\n\n\n \n\n\n\n\n\n\n\n\n\nwww.manuelasanchezgoubert.com \n\n\n\n\n\n \n\n\n\n\n\n\n\n\n\n@manuelasanchezgoubert9516
URL:https://uncommoncorner.org/event/manuela-sanchez-goubert-6/
CATEGORIES:Live Music
ATTACH;FMTTYPE=image/png:https://uncommoncorner.org/wp-content/uploads/sites/64/2024/05/Untitled.png
END:VEVENT
END:VCALENDAR