BEGIN:VCALENDAR
VERSION:2.0
PRODID:-//Emerson College UnCommon Corner - ECPv6.15.19//NONSGML v1.0//EN
CALSCALE:GREGORIAN
METHOD:PUBLISH
X-ORIGINAL-URL:https://uncommoncorner.org
X-WR-CALDESC:Events for Emerson College UnCommon Corner
REFRESH-INTERVAL;VALUE=DURATION:PT1H
X-Robots-Tag:noindex
X-PUBLISHED-TTL:PT1H
BEGIN:VTIMEZONE
TZID:America/New_York
BEGIN:DAYLIGHT
TZOFFSETFROM:-0500
TZOFFSETTO:-0400
TZNAME:EDT
DTSTART:20240310T070000
END:DAYLIGHT
BEGIN:STANDARD
TZOFFSETFROM:-0400
TZOFFSETTO:-0500
TZNAME:EST
DTSTART:20241103T060000
END:STANDARD
BEGIN:DAYLIGHT
TZOFFSETFROM:-0500
TZOFFSETTO:-0400
TZNAME:EDT
DTSTART:20250309T070000
END:DAYLIGHT
BEGIN:STANDARD
TZOFFSETFROM:-0400
TZOFFSETTO:-0500
TZNAME:EST
DTSTART:20251102T060000
END:STANDARD
BEGIN:DAYLIGHT
TZOFFSETFROM:-0500
TZOFFSETTO:-0400
TZNAME:EDT
DTSTART:20260308T070000
END:DAYLIGHT
BEGIN:STANDARD
TZOFFSETFROM:-0400
TZOFFSETTO:-0500
TZNAME:EST
DTSTART:20261101T060000
END:STANDARD
END:VTIMEZONE
BEGIN:VEVENT
DTSTART;TZID=America/New_York:20250924T160000
DTEND;TZID=America/New_York:20250924T170000
DTSTAMP:20260423T044438
CREATED:20250912T222545Z
LAST-MODIFIED:20250912T222548Z
UID:5680-1758729600-1758733200@uncommoncorner.org
SUMMARY:The ZYG 808
DESCRIPTION:The ZYG 808 (pronounced ‘Zee Why Gee’ Eight-0h-Eight)  is a Grammy nominated Soul Poet music maker (musician\, composer\, producer\, vocalist\, DJ)\, and recording artist of Indie Groove\, Alternative Pop &\, Rare Groove/Funk\, Afrobeats\, and Hip-Hop.  A leading figure in the Thump & Soul music movement; he is definitely doing his part to bring the good vibes to the people.
URL:https://uncommoncorner.org/event/the-zyg-808-2/
CATEGORIES:DJ,Live Music
ATTACH;FMTTYPE=image/jpeg:https://uncommoncorner.org/wp-content/uploads/sites/64/2024/05/PHOTO-The-ZYG-808.jpeg
END:VEVENT
BEGIN:VEVENT
DTSTART;TZID=America/New_York:20250924T170000
DTEND;TZID=America/New_York:20250924T190000
DTSTAMP:20260423T044438
CREATED:20250912T222835Z
LAST-MODIFIED:20250918T155956Z
UID:5682-1758733200-1758740400@uncommoncorner.org
SUMMARY:Dj Cha
DESCRIPTION:172 Below Presents: Trick or Treat\n\n\n\n\nUnCommon Corner\, Boylston St &\, Tremont St\, Boston\, MA 02116\n\n\n\nDJ Cha is a versatile DJ from Connecticut\, now based in Boston\, spinning throughout New England and beyond. Known for effortlessly blending hip-hop\, R&B\, dancehall\, afrobeats\, and overall feel-good throwbacks\, DJ Cha brings the perfect balance of energy\, nostalgia\, and pure vibes to every set. Whether it’s a packed dance floor or a laid-back lounge\, her mixes are rooted in rhythm\, soul\, and intention—always leaving crowds wanting more.
URL:https://uncommoncorner.org/event/dj-cha/
CATEGORIES:Live Music
ATTACH;FMTTYPE=image/jpeg:https://uncommoncorner.org/wp-content/uploads/sites/64/2025/09/image5-1.jpeg
END:VEVENT
BEGIN:VEVENT
DTSTART;TZID=America/New_York:20250924T190000
DTEND;TZID=America/New_York:20250924T200000
DTSTAMP:20260423T044438
CREATED:20250912T223021Z
LAST-MODIFIED:20250912T223023Z
UID:5685-1758740400-1758744000@uncommoncorner.org
SUMMARY:Aniye
DESCRIPTION:172 Below Presents: Trick or Treat\n\n\n\n\nUnCommon Corner\, Boylston St &\, Tremont St\, Boston\, MA 02116
URL:https://uncommoncorner.org/event/aniye/
CATEGORIES:Live Music
END:VEVENT
END:VCALENDAR