BEGIN:VCALENDAR
VERSION:2.0
PRODID:-//Emerson College UnCommon Corner - ECPv6.15.19//NONSGML v1.0//EN
CALSCALE:GREGORIAN
METHOD:PUBLISH
X-WR-CALNAME:Emerson College UnCommon Corner
X-ORIGINAL-URL:https://uncommoncorner.org
X-WR-CALDESC:Events for Emerson College UnCommon Corner
REFRESH-INTERVAL;VALUE=DURATION:PT1H
X-Robots-Tag:noindex
X-PUBLISHED-TTL:PT1H
BEGIN:VTIMEZONE
TZID:America/New_York
BEGIN:DAYLIGHT
TZOFFSETFROM:-0500
TZOFFSETTO:-0400
TZNAME:EDT
DTSTART:20240310T070000
END:DAYLIGHT
BEGIN:STANDARD
TZOFFSETFROM:-0400
TZOFFSETTO:-0500
TZNAME:EST
DTSTART:20241103T060000
END:STANDARD
BEGIN:DAYLIGHT
TZOFFSETFROM:-0500
TZOFFSETTO:-0400
TZNAME:EDT
DTSTART:20250309T070000
END:DAYLIGHT
BEGIN:STANDARD
TZOFFSETFROM:-0400
TZOFFSETTO:-0500
TZNAME:EST
DTSTART:20251102T060000
END:STANDARD
BEGIN:DAYLIGHT
TZOFFSETFROM:-0500
TZOFFSETTO:-0400
TZNAME:EDT
DTSTART:20260308T070000
END:DAYLIGHT
BEGIN:STANDARD
TZOFFSETFROM:-0400
TZOFFSETTO:-0500
TZNAME:EST
DTSTART:20261101T060000
END:STANDARD
END:VTIMEZONE
BEGIN:VEVENT
DTSTART;TZID=America/New_York:20250912T120000
DTEND;TZID=America/New_York:20250912T140000
DTSTAMP:20260423T045538
CREATED:20250826T181621Z
LAST-MODIFIED:20250826T181624Z
UID:5601-1757678400-1757685600@uncommoncorner.org
SUMMARY:Dan DeCristofaro
DESCRIPTION:Dan DeCristofaro\n\n\n\n\n\nUnCommon Corner\, Boylston St &\, Tremont St\, Boston\, MA 02116\n\n\n\nDan DeCristofaro is a soulful singer\, songwriter\, producer and arranger based in Massachusetts. He is a founding member of Blue Light Bandits\, an award winning\, 4-piece independent groove rock band from Worcester\, MA that has amassed over 3 million streams on Spotify over the course of 3 full length albums\, 2 EP’s\, and an array of singles. In 2022 he formed quiet thrill\, a singer / songwriter super duo along with long time friend and collaborator Joel Ansett and Dan DeCristofaro. They released their debut self-titled album in July ‘22 and are currently on a nationwide house tour\, directly engaging with their fans in an intimate setting. Whether he is performing with a band or as a solo artist\, Dan has been a staple of the New England music scene for 10 years.
URL:https://uncommoncorner.org/event/dan-decristofaro-4/
CATEGORIES:Live Music
ATTACH;FMTTYPE=image/png:https://uncommoncorner.org/wp-content/uploads/sites/64/2025/08/Screenshot-2025-08-26-at-2.15.48-PM.png
END:VEVENT
BEGIN:VEVENT
DTSTART;TZID=America/New_York:20250912T150000
DTEND;TZID=America/New_York:20250912T170000
DTSTAMP:20260423T045538
CREATED:20250826T182015Z
LAST-MODIFIED:20250911T171655Z
UID:5604-1757689200-1757696400@uncommoncorner.org
SUMMARY:Preston Chan
DESCRIPTION:172 Below Presents: Trick or Treat\n\n\n\n\nUnCommon Corner\, Boylston St &\, Tremont St\, Boston\, MA 02116\n\n\n\nPreston Chan is a DJ and producer pushing the boundaries of housemusic with a sound that’s equal parts heavy\, rhythmic\, and infectious.Based in Boston and studying at Berklee College of Music\, Preston bringsboth technical precision and creative energy to his craft. He hasperformed at bars and clubs across Singapore and Boston\, sharing hisunique blend of late night grooves and funky beach vibes with influencesfrom popular music/hiphop. His sets are designed to keep the crowdlocked in from start to finish\, telling a unique story with every set.Alongside his performances\, Preston is steadily building a catalog ofpersonal releases and edits that showcase his knack for heavy drops\,punchy low-end\, and festival-ready energy. His tracks reflect the sameintensity and precision he brings to his DJ sets\, positioning him as both aperformer and creator ready for the stage. With a growing catalog oforiginal productions and an ear for curation\, Preston is emerging as anexciting new voice in the global music scene. \n\n\n\n\n\n\n\n\n\n@prestonchannn
URL:https://uncommoncorner.org/event/preston-chan/
CATEGORIES:Live Music
END:VEVENT
BEGIN:VEVENT
DTSTART;TZID=America/New_York:20250912T190000
DTEND;TZID=America/New_York:20250912T210000
DTSTAMP:20260423T045538
CREATED:20250911T174941Z
LAST-MODIFIED:20250912T160033Z
UID:5657-1757703600-1757710800@uncommoncorner.org
SUMMARY:Jules Grace
DESCRIPTION:Jules Grace\n\n\n\nUnCommon Corner\, Boylston St &\, Tremont St\, Boston\, MA 02116\n\n\n\n\n\nJules Grace is an independent artist from Boston who just released her debut album “Diaries & Daydreams.”  She has been playing guitar since she was nine and grew up playing in cover bands. Jules enjoys making a variety of music\, ranging from dreamy indie-pop to heavier rock. Performing on radio station WERS\, Musicians Wanted\, and local venues around Boston\, Jules has been gaining momentum in her music career.
URL:https://uncommoncorner.org/event/jules-grace-3/
CATEGORIES:Live Music
END:VEVENT
END:VCALENDAR