BEGIN:VCALENDAR
VERSION:2.0
PRODID:-//Emerson College UnCommon Corner - ECPv6.15.19//NONSGML v1.0//EN
CALSCALE:GREGORIAN
METHOD:PUBLISH
X-ORIGINAL-URL:https://uncommoncorner.org
X-WR-CALDESC:Events for Emerson College UnCommon Corner
REFRESH-INTERVAL;VALUE=DURATION:PT1H
X-Robots-Tag:noindex
X-PUBLISHED-TTL:PT1H
BEGIN:VTIMEZONE
TZID:America/New_York
BEGIN:DAYLIGHT
TZOFFSETFROM:-0500
TZOFFSETTO:-0400
TZNAME:EDT
DTSTART:20240310T070000
END:DAYLIGHT
BEGIN:STANDARD
TZOFFSETFROM:-0400
TZOFFSETTO:-0500
TZNAME:EST
DTSTART:20241103T060000
END:STANDARD
BEGIN:DAYLIGHT
TZOFFSETFROM:-0500
TZOFFSETTO:-0400
TZNAME:EDT
DTSTART:20250309T070000
END:DAYLIGHT
BEGIN:STANDARD
TZOFFSETFROM:-0400
TZOFFSETTO:-0500
TZNAME:EST
DTSTART:20251102T060000
END:STANDARD
BEGIN:DAYLIGHT
TZOFFSETFROM:-0500
TZOFFSETTO:-0400
TZNAME:EDT
DTSTART:20260308T070000
END:DAYLIGHT
BEGIN:STANDARD
TZOFFSETFROM:-0400
TZOFFSETTO:-0500
TZNAME:EST
DTSTART:20261101T060000
END:STANDARD
END:VTIMEZONE
BEGIN:VEVENT
DTSTART;TZID=America/New_York:20250726T120000
DTEND;TZID=America/New_York:20250726T130000
DTSTAMP:20260419T112351
CREATED:20250715T171756Z
LAST-MODIFIED:20250715T172059Z
UID:5183-1753531200-1753534800@uncommoncorner.org
SUMMARY:Puppet Showplace presents “Growing Things: A Cow and Mouse Story”
DESCRIPTION:Puppet Showplace presents “Growing Things: A Cow and Mouse Story”\n\n\n\n\n\nUnCommon Corner\, Boylston St &\, Tremont St\, Boston\, MA 02116\n\n\n\nThis summer\, Puppet Showplace Theater is bringing puppetry to Emerson College’sUnCommon Stage in the Boston Common for free outdoor performances. \n\n\n\nCow and Mouse are old enough to help with planting day. Cow plants hay\, his favorite food; Mouseplants cheese. With the help of audience members\, rain is plentiful. The soil is rich. Why won’t thecheese grow? Only Cousin Rat seems to know.  \n\n\n\nIn this interactive show\, friends Cow and Mouse learn about healthy soil\, careful planting\, and howimportant weather is to farmers\, all accompanied by live mandolin music. At the end of the story\,audience members join the puppeteers in harvesting the crops together!  \n\n\n\nAll ages welcome\, especially enjoyed by ages 3 – 8Hand and rod puppetsLength: 35 minutesLanguage: EnglishFrom Arlington\, MA! \n\n\n\n \n\n\n\n \n\n\n\n\n\n\n\n\n\n@puppetshowplace \n\n\n\n \n\n\n\n\n\n\n\n\n\n\n\n@puppetshowplacetheater \n\n\n\n\n\n \n\n\n\n\n\n\n\n\n\nwww.puppetshowplace.org
URL:https://uncommoncorner.org/event/puppet-showplace-presents-growing-things-a-cow-and-mouse-story/
CATEGORIES:Live Music
END:VEVENT
BEGIN:VEVENT
DTSTART;TZID=America/New_York:20250726T130000
DTEND;TZID=America/New_York:20250726T150000
DTSTAMP:20260419T112351
CREATED:20250715T200504Z
LAST-MODIFIED:20250721T133354Z
UID:5187-1753534800-1753542000@uncommoncorner.org
SUMMARY:Kristalis y Son de Tres
DESCRIPTION:172 Below Presents: Trick or Treat\n\n\n\n\nUnCommon Corner\, Boylston St &\, Tremont St\, Boston\, MA 02116\n\n\n\nIntroducing the vibrant rhythms and soulful melodies of Kristalis and Latin Breeze\, a Latin band whose music embodies the rich cultural tapestry of the Caribbean islands. Formed against sun-kissed beaches and bustling streets\, Sabor Caribeño infuses traditional Latin rhythms with modern flair\, creating an irresistible fusion that transports audiences to the heart of the tropics.Led by seasoned musicians hailing from Puerto Rico\, the Dominican Republic\, and Colombia\, Latin Breeze is a musical mosaic\, blending salsa\, Jazz\, and Latin Jazz into a harmonious symphony of sound. With each member bringing their unique style and expertise to the stage\, the band creates an electrifying atmosphere that captivates audiences of all ages.From intimate venues to large-scale festivals\, Kristalis y Son de Tres delivers performances that are as infectious as they are exhilarating. With infectious energy and irresistible grooves\, their music transcends language barriers\, bringing people together in celebration of life\, love\, and the universal language of music. \n\n\n\n\n\n\n\n\n\n@kristalisylns \n\n\n\n \n\n\n\n\n\n\n\n\n\n\n\n@amusic89 \n\n\n\n \n\n\n\n\n\n\n\n\n\n\n\nKristalis YouTube
URL:https://uncommoncorner.org/event/kristalis-y-son-de-tres/
CATEGORIES:Live Music
END:VEVENT
BEGIN:VEVENT
DTSTART;TZID=America/New_York:20250726T160000
DTEND;TZID=America/New_York:20250726T180000
DTSTAMP:20260419T112351
CREATED:20250723T175508Z
LAST-MODIFIED:20250723T203121Z
UID:5212-1753545600-1753552800@uncommoncorner.org
SUMMARY:MARiANO & FRiENDS
DESCRIPTION:172 Below Presents: Trick or Treat\n\n\n\n\nUnCommon Corner\, Boylston St &\, Tremont St\, Boston\, MA 02116\n\n\n\nMARiANO & FRiENDS \n\n\n\nMARiANO is returning to his roots\, singing and playing drums at the same time. \n\n\n\nMARiANO is an artist\, musician\, and educator born and raised in Venezuela. At seven\, he began his formal studies through El Sistema\, the world-renowned music education program. His journey then took him to the Boys & Girls Harbor Conservatory in New York City and on to his dream school\, Berklee College of Music\, where he earned a degree in Contemporary Writing & Production. \n\n\n\nOver the years\, MARiANO has built a truly multifaceted career as a singer\, drummer\, percussionist\, producer\, songwriter\, and performer. He’s graced stages from Boston’s House of Blues to Madison Square Garden\, Puerto Rico’s Hard Rock Café\, and Venezuela’s Simón Bolívar Hall. He has toured nationwide with the iconic Latin pop group RBD\, crafted an extensive catalog of released and unreleased originals\, and collaborated with world-renowned artists\, all testaments to his versatility and passion across genres and venues. \n\n\n\nMARiANO will be accompanied by Anibal Cruz from Cuba on keyboards and Ali Tovar from Venezuela on bass.   \n\n\n\n\n\n\n\n\n\n@Anibal Cruz IG \n\n\n\n \n\n\n\n\n\n\n\n\n\n\n\n@marianoooooooooooooooooooooo
URL:https://uncommoncorner.org/event/mariano-friends-2/
CATEGORIES:Live Music
END:VEVENT
BEGIN:VEVENT
DTSTART;TZID=America/New_York:20250726T190000
DTEND;TZID=America/New_York:20250726T210000
DTSTAMP:20260419T112351
CREATED:20250714T193430Z
LAST-MODIFIED:20250714T194210Z
UID:5156-1753556400-1753563600@uncommoncorner.org
SUMMARY:Dwayne Haggins
DESCRIPTION:Dwayne Haggins\n\n\n\n\n\nUnCommon Corner\, Boylston St &\, Tremont St\, Boston\, MA 02116\n\n\n\nHe’s been described as “the love child of Otis Redding and Doc Watson.” “The John Legend of rockabilly.” And recently\, “a ‘what-took-you-so-long’ fusion of Elvis and Marvin Gaye.” But he is Dwayne Haggins\, and his voice is his own. Whether on the stage of a metropolitan concert hall or the makeshift bandstand of a neighborhood dive\, you will find him exploring uncharted musical territories\, listening for new ways to stir his influences into this night’s expression of his unique sound – strangely familiar\, naturally mysterious\, unmistakably his own. \n\n\n\nNotably\, Haggins has shared the stage with acts such as Joe Bonamassa\, Keb Mo\, Jimmy Vivino\, Chris Lane\, Suzanne Santo\, and Fitz and the Tantrums. Haggins was signed in November of 2021 and his Verdict debut LP was released in June of 2022 titled “Call Me Boston”. \n\n\n\n\n\n\n\n\n\n@hagginsmusic \n\n\n\n \n\n\n\n\n\n\n\n\n\n\n\n@hagginsmusic \n\n\n\n\n\n \n\n\n\n\n\n\n\n\n\nwww.dwaynehaggins.com
URL:https://uncommoncorner.org/event/dwayne-haggins-25/
CATEGORIES:Live Music
END:VEVENT
END:VCALENDAR