BEGIN:VCALENDAR
VERSION:2.0
PRODID:-//Emerson College UnCommon Corner - ECPv6.15.19//NONSGML v1.0//EN
CALSCALE:GREGORIAN
METHOD:PUBLISH
X-ORIGINAL-URL:https://uncommoncorner.org
X-WR-CALDESC:Events for Emerson College UnCommon Corner
REFRESH-INTERVAL;VALUE=DURATION:PT1H
X-Robots-Tag:noindex
X-PUBLISHED-TTL:PT1H
BEGIN:VTIMEZONE
TZID:America/New_York
BEGIN:DAYLIGHT
TZOFFSETFROM:-0500
TZOFFSETTO:-0400
TZNAME:EDT
DTSTART:20240310T070000
END:DAYLIGHT
BEGIN:STANDARD
TZOFFSETFROM:-0400
TZOFFSETTO:-0500
TZNAME:EST
DTSTART:20241103T060000
END:STANDARD
BEGIN:DAYLIGHT
TZOFFSETFROM:-0500
TZOFFSETTO:-0400
TZNAME:EDT
DTSTART:20250309T070000
END:DAYLIGHT
BEGIN:STANDARD
TZOFFSETFROM:-0400
TZOFFSETTO:-0500
TZNAME:EST
DTSTART:20251102T060000
END:STANDARD
BEGIN:DAYLIGHT
TZOFFSETFROM:-0500
TZOFFSETTO:-0400
TZNAME:EDT
DTSTART:20260308T070000
END:DAYLIGHT
BEGIN:STANDARD
TZOFFSETFROM:-0400
TZOFFSETTO:-0500
TZNAME:EST
DTSTART:20261101T060000
END:STANDARD
END:VTIMEZONE
BEGIN:VEVENT
DTSTART;TZID=America/New_York:20250705T120000
DTEND;TZID=America/New_York:20250705T130000
DTSTAMP:20260419T083613
CREATED:20250623T190412Z
LAST-MODIFIED:20250623T190415Z
UID:4929-1751716800-1751720400@uncommoncorner.org
SUMMARY:Puppet Showplace presents “Party Animals” by Puppet Motion
DESCRIPTION:Puppet Showplace presents “Party Animals” by Puppet Motion\n\n\n\n\n\nUnCommon Corner\, Boylston St &\, Tremont St\, Boston\, MA 02116\n\n\n\nParty Animals follows five furry friends as they navigate the biggest social hurdle of their young lives — throwing their first party! Meet a bunny with boundless energy\, a sloth with social anxiety\, a hedgehog wrestling with wrapping\, and a skunk who’s trying to keep everything cool and under control. Through song\, dance\, and original rock ‘n’ roll music by Boston local Phil Berman (of Puppet Playtime & The Holiday Sing-Along)\, these little stars discover that musiccan be an exuberant and healthy way to express their inner selves. This latest Incubator show comes from Sarah Nolen (Puppet Motion) — creator of Judy Saves the Day and Lisa the Wise; and our beloved Resident Artist! Party Animals balances silly antics with deeper truths\, all conveyed through traditional hand puppetry performance: the life of the party!Legendary rock star Pete Townshend once said\, “Rock ‘n’ roll might not solve your problems\, but it does let you dance all over them” — equally true for children and their grown-ups! \n\n\n\nAll ages welcome\, especially enjoyed by ages 4 – 9Hand puppetryLength: 40 minutesLanguage: EnglishFrom Waltham!The development of Party Animals was funded in part by a Family Grant from the Jim Henson Foundation and supported by Puppet Showplace Theater’s Incubator program \n\n\n\n \n\n\n\n\n\n\n\n\n\n@puppetshowplace \n\n\n\n \n\n\n\n\n\n\n\n\n\n\n\n@puppetshowplacetheater \n\n\n\n\n\n \n\n\n\n\n\n\n\n\n\nwww.puppetshowplace.org
URL:https://uncommoncorner.org/event/puppet-showplace-presents-party-animals-by-puppet-motion/
CATEGORIES:Live Music
END:VEVENT
BEGIN:VEVENT
DTSTART;TZID=America/New_York:20250705T130000
DTEND;TZID=America/New_York:20250705T150000
DTSTAMP:20260419T083613
CREATED:20250625T031653Z
LAST-MODIFIED:20250625T031655Z
UID:4969-1751720400-1751727600@uncommoncorner.org
SUMMARY:Trio Jazz Caribe
DESCRIPTION:Trio Jazz Caribe\n\n\n\n\n\nUnCommon Corner\, Boylston St &\, Tremont St\, Boston\, MA 02116\n\n\n\nTrío Jazz Caribe is a vibrant ensemble that fuses the rhythms of the Caribbean with the sophistication of jazz\, drawing on its members’ Venezuelan\, Panamanian\, and Puerto Rican roots. Featuring Adrián Delgado on piano\, Héctor Falú on drums\, and Jorge Rodríguez on bass\, the trio brings to Boston an energetic and soulful repertoire that celebrates the spirit of island music.
URL:https://uncommoncorner.org/event/trio-jazz-caribe/
CATEGORIES:Live Music
END:VEVENT
BEGIN:VEVENT
DTSTART;TZID=America/New_York:20250705T150000
DTEND;TZID=America/New_York:20250705T170000
DTSTAMP:20260419T083613
CREATED:20250701T203124Z
LAST-MODIFIED:20250701T203210Z
UID:5081-1751727600-1751734800@uncommoncorner.org
SUMMARY:Estefanía Núñez & Arman Wali
DESCRIPTION:172 Below Presents: Trick or Treat\n\n\n\n\nUnCommon Corner\, Boylston St &\, Tremont St\, Boston\, MA 02116\n\n\n\n\n\nArtist Bios\n\n\n\n\n\n\n\n\n\n\n\n\n\n\n\nEstefanía Núñez\n\n\n\nEstefania Núñez Villamandos is a Cuban pianist\, film composer\, and arranger whose distinct sound blends Afro-Cuban rhythms\, jazz\, and film soundtrack influences. Born in Havana\, she began studying piano at the age of six and earned a full scholarship to attend Berklee College of Music. Estefania’s band\, Mestizas\, has toured the USA and Spain\, performing their EP El Alma de la Olvidada\, which reimagines forgotten songs with a fresh twist. As a film composer\, she has scored short films and documentaries showcased at festivals such as the Women in Animation NYC Film Festival. She recently graduated from the Global Jazz Institute Master’s Program at Berklee\, where she developed a thesis on music and schizophrenia entitled The Enigma of Misunderstood Minds. She is currently working on a new album with Mestizas\, marking a new era with a more instrumental approach. \n\n\n\n\n\n\n\n\n\n\n@estefania_nunez_villamandos \n\n\n\n\n\n\n\n\n\n\n\n\n\n\n\n\n\n\n\n\nArman Wali\n\n\n\nArman Wali is a Pakistani-American musician from South Portland\, Maine. His music incorporates strong influences from nature\, classical/impressionist composers\, jazz\, and traditional Pashtun music. He blends critical elements of each of these diverse sources to create a unique musical expression. Arman has recorded and performed extensively throughout New England\, Chicago\, New York\, and Washington DC and around the U.S. \n\n\n\n\n\n\n\n\n\n\n@armanwalii
URL:https://uncommoncorner.org/event/estefania-nunez-arman-wali/
CATEGORIES:DJ,Live Music
ATTACH;FMTTYPE=image/jpeg:https://uncommoncorner.org/wp-content/uploads/sites/64/2025/07/6II1356.jpeg
END:VEVENT
BEGIN:VEVENT
DTSTART;TZID=America/New_York:20250705T180000
DTEND;TZID=America/New_York:20250705T210000
DTSTAMP:20260419T083613
CREATED:20250619T023906Z
LAST-MODIFIED:20250701T194630Z
UID:4905-1751738400-1751749200@uncommoncorner.org
SUMMARY:¡Baila Boston! Salsa Night
DESCRIPTION:Photo by Emerson College\n\n\n\n\n\n¡Baila Boston! Salsa Night\n\n\n\nFeaturing Ágora Cultural Architects and Salsa y Control \n\n\n\n\n\nUnCommon Corner\, Boylston St &\, Tremont St\, Boston\, MA 02116\n\n\n\nIn partnership with our community curator Ágora Cultural Architects\, the premiere Latinx cultural presenting organization Greater Boston\, and Hernan Choque of beloved Salsa studio Salsa y Control\, UnCommon’s Salsa Nights feature a live Salsa band led by Manolo Mairena\, DJ Hernan Choque\, free community Salsa dance lessons from Salsa y Control\, professional performances\, and open dance.  The Common comes to life with Salsa beats and UnCommon provides an unforgettable opportunity for shared\, cultural experiences. \n\n\n\nTo make the evening even more delicious\, El Jefe’s Taqueria will be serving an UnCommon Salsa Flight (three salsas and chips) for $9.95 and will be featuring a salsa tasting!
URL:https://uncommoncorner.org/event/baila-boston-salsa-night-2/
CATEGORIES:Live Music,Special Event
ATTACH;FMTTYPE=image/jpeg:https://uncommoncorner.org/wp-content/uploads/sites/64/2025/06/250606_SalsaNightUncommonCorner-075-scaled.jpg
END:VEVENT
END:VCALENDAR