BEGIN:VCALENDAR
VERSION:2.0
PRODID:-//Emerson College UnCommon Corner - ECPv6.15.19//NONSGML v1.0//EN
CALSCALE:GREGORIAN
METHOD:PUBLISH
X-WR-CALNAME:Emerson College UnCommon Corner
X-ORIGINAL-URL:https://uncommoncorner.org
X-WR-CALDESC:Events for Emerson College UnCommon Corner
REFRESH-INTERVAL;VALUE=DURATION:PT1H
X-Robots-Tag:noindex
X-PUBLISHED-TTL:PT1H
BEGIN:VTIMEZONE
TZID:America/New_York
BEGIN:DAYLIGHT
TZOFFSETFROM:-0500
TZOFFSETTO:-0400
TZNAME:EDT
DTSTART:20240310T070000
END:DAYLIGHT
BEGIN:STANDARD
TZOFFSETFROM:-0400
TZOFFSETTO:-0500
TZNAME:EST
DTSTART:20241103T060000
END:STANDARD
BEGIN:DAYLIGHT
TZOFFSETFROM:-0500
TZOFFSETTO:-0400
TZNAME:EDT
DTSTART:20250309T070000
END:DAYLIGHT
BEGIN:STANDARD
TZOFFSETFROM:-0400
TZOFFSETTO:-0500
TZNAME:EST
DTSTART:20251102T060000
END:STANDARD
BEGIN:DAYLIGHT
TZOFFSETFROM:-0500
TZOFFSETTO:-0400
TZNAME:EDT
DTSTART:20260308T070000
END:DAYLIGHT
BEGIN:STANDARD
TZOFFSETFROM:-0400
TZOFFSETTO:-0500
TZNAME:EST
DTSTART:20261101T060000
END:STANDARD
END:VTIMEZONE
BEGIN:VEVENT
DTSTART;TZID=America/New_York:20250625T160000
DTEND;TZID=America/New_York:20250625T200000
DTSTAMP:20260419T090448
CREATED:20250623T153339Z
LAST-MODIFIED:20250623T160404Z
UID:4918-1750867200-1750881600@uncommoncorner.org
SUMMARY:HipStory presents The Break
DESCRIPTION:The Break featuring Eva Davenport and Rilla Force\n\n\n\n\n\n“The Break” is bi-weekly showcase dedicated to Boston’s hip-hop/R&B artists and DJs\, connecting thecity’s underground talent with new audiences.  This program is curated by HipStory. \n\n\n\n\n\nArtist Bios\n\n\n\n\n\n\n\n\n\n\n\n\n\n\n\nEva Davenport\n\n\n\nMusic has been in Eva Davenport’s heart and soul since birth. Inspired by powerful songstresses Aretha\, Etta\, Beyonce & Alicia Keys. Eva asked for voice lessons her 8th birthday\, started\, and continued studying until her last day at Berklee College of Music. Infusing R&B\, Hip-Hop\, Soul & many similar genres into her songs. This multitalented singer/songwriter from Rhode Island and Boston. As a professional singer she’s worked in many genres and performed with 30+ different bands/music groups in over 1K shows across New England. Officially starting her career as a solo artist in 2017\, Eva brings the upmost authenticity to her lyricism and performances\, and aims to inspire and enlighten her audience with honesty and love. Creating music inclusive to everyone\, in hopes of bringing all types of people together through music. \n\n\n\n\n\n\n\n\n\n\n@lyricsbyeva \n\n\n\n\n\n\n\n\n\n\n\n\n\n@evadavenportmusic \n\n\n\n\n\n\n\n\n\n\n\n\n\n@lyricsbyeva \n\n\n\n\n\n\n\n\n\n\n\n\n\nwww.evadavenportmusic.com \n\n\n\n\n\n\n\n\n\n\n\n\n\n\n\n\n\n\n\n\nRilla Force\n\n\n\nArtist\, producer\, songwriter\, & international DJ from Boston\, Massachusetts. \n\n\n\nRilla Force makes kinetic\, bass-heavy tracks that straddle the boundary between ambient soundscapes and sophisticated\, club-ready jams. \n\n\n\nNominated as “Dance/Electronic Artist of the Year” – Boston Music Awards 2019\, 2020\, 2021\, 2022\, 2023 and Boston Music Awards 2024 “Dance/Electronic Artist of the Year” \n\n\n\n\n\n\n\n\n\n\n@rillaforce \n\n\n\n\n\n\n\n\n\n\n\n\n\n@rillaforce \n\n\n\n\n\n\n\n\n\n\n\n\n\n@rillaforce \n\n\n\n\n\n\n\n\n\n\n\n\n\n\nwww.rillaforce.com
URL:https://uncommoncorner.org/event/hipstory-presents-the-break/
CATEGORIES:DJ,Live Music
END:VEVENT
END:VCALENDAR