BEGIN:VCALENDAR
VERSION:2.0
PRODID:-//Emerson College UnCommon Corner - ECPv6.15.19//NONSGML v1.0//EN
CALSCALE:GREGORIAN
METHOD:PUBLISH
X-WR-CALNAME:Emerson College UnCommon Corner
X-ORIGINAL-URL:https://uncommoncorner.org
X-WR-CALDESC:Events for Emerson College UnCommon Corner
REFRESH-INTERVAL;VALUE=DURATION:PT1H
X-Robots-Tag:noindex
X-PUBLISHED-TTL:PT1H
BEGIN:VTIMEZONE
TZID:America/New_York
BEGIN:DAYLIGHT
TZOFFSETFROM:-0500
TZOFFSETTO:-0400
TZNAME:EDT
DTSTART:20240310T070000
END:DAYLIGHT
BEGIN:STANDARD
TZOFFSETFROM:-0400
TZOFFSETTO:-0500
TZNAME:EST
DTSTART:20241103T060000
END:STANDARD
BEGIN:DAYLIGHT
TZOFFSETFROM:-0500
TZOFFSETTO:-0400
TZNAME:EDT
DTSTART:20250309T070000
END:DAYLIGHT
BEGIN:STANDARD
TZOFFSETFROM:-0400
TZOFFSETTO:-0500
TZNAME:EST
DTSTART:20251102T060000
END:STANDARD
BEGIN:DAYLIGHT
TZOFFSETFROM:-0500
TZOFFSETTO:-0400
TZNAME:EDT
DTSTART:20260308T070000
END:DAYLIGHT
BEGIN:STANDARD
TZOFFSETFROM:-0400
TZOFFSETTO:-0500
TZNAME:EST
DTSTART:20261101T060000
END:STANDARD
END:VTIMEZONE
BEGIN:VEVENT
DTSTART;TZID=America/New_York:20250621T130000
DTEND;TZID=America/New_York:20250621T150000
DTSTAMP:20260419T090345
CREATED:20250612T012659Z
LAST-MODIFIED:20250612T012701Z
UID:4865-1750510800-1750518000@uncommoncorner.org
SUMMARY:Iris Luis-Gomez
DESCRIPTION:Iris Luis Gomez\n\n\n\n\n\nUnCommon Corner\, Boylston St &\, Tremont St\, Boston\, MA 02116\n\n\n\nIris is a Cuban multi-instrumentalist\, artist\, and educator based in Boston. Passionate about Afro-Latin rhythms\, vibrant cultures\, and the classical repertoire\, she seamlessly blends these influences into her music. As a composer and arranger\, her greatest inspirations include Bach\, Leo Brouwer\, Villa-Lobos\, Tom Jobim\, Los Van Van\, and João Gilberto\, shaping her sound with a wide spectrum of textures and styles.With a rich performance history\, Iris has played with numerous bands and at prestigious venues such as the Amadeo Roldán Theater in Havana\, the University of Guadalajara in Mexico\, and Jordan Hall in Boston\, as well as at various festivals along the East Coast. Sharing the stage with amazing artists like Clave & Blues\, Manolo Mairena\, Juan de Marcos\, Los Adolescentes\, Jeremy Bosch\, Frankie Ruiz Jr.\, and many others as the bass player in these wonderful bands\, and now producing her debut album with Rosewood & Strings\, her latest project as a songwriter and bandleader. This new production brings together her Cuban and Latin roots with her classical training\, creating a distinctive and evocative musical fusion.
URL:https://uncommoncorner.org/event/iris-luis-gomez-2/
CATEGORIES:Live Music
END:VEVENT
BEGIN:VEVENT
DTSTART;TZID=America/New_York:20250621T160000
DTEND;TZID=America/New_York:20250621T180000
DTSTAMP:20260419T090345
CREATED:20250606T192702Z
LAST-MODIFIED:20250606T192704Z
UID:4799-1750521600-1750528800@uncommoncorner.org
SUMMARY:Palo Rosa & Cuerda
DESCRIPTION:Palo Rosa & Cuerda\n\n\n\n\n\nUnCommon Corner\, Boylston St &\, Tremont St\, Boston\, MA 02116\n\n\n\nExperience the mesmerizing fusion of Afro rhythms\, classical guitar\, and Cuban Tres improvisations in every performance. \n\n\n\nThe trio is brought to you by Iris\, a Cuban multi-instrumentalist\, arranger\, and composer whose work in this project showcases a passion for classical repertoire and Afro-Latin rhythms\, as well as the storytelling of folk music\, blending tradition with innovation. Iris\, on guitar\, alongside incredible artists such as Olivia Soler and Rafael Heredia\, creates a joyful journey for audiences to enjoy.
URL:https://uncommoncorner.org/event/palo-rosa-cuerda/
CATEGORIES:Live Music
ATTACH;FMTTYPE=image/jpeg:https://uncommoncorner.org/wp-content/uploads/sites/64/2025/06/Palo-Rosa-Cuerda.jpeg
END:VEVENT
BEGIN:VEVENT
DTSTART;TZID=America/New_York:20250621T190000
DTEND;TZID=America/New_York:20250621T210000
DTSTAMP:20260419T090345
CREATED:20250617T190923Z
LAST-MODIFIED:20250617T190926Z
UID:4887-1750532400-1750539600@uncommoncorner.org
SUMMARY:Bencils
DESCRIPTION:Bencils\n\n\n\n\n\nUnCommon Corner\, Boylston St &\, Tremont St\, Boston\, MA 02116\n\n\n\nBencils is an indie/alternative artist with the swag of a hip-hop icon. His latest original single: “Pushstart” is a standout track from his new album “Lonely”\, released on April 18th\, 2025. The song encapsulates Bencils’ journey of re-finding himself after a situation related to family resulted in his whole world getting turned upside-down. Resonating with listeners because of its catchy hook\, driving instrumental\, and personal yet relatable lyrics\, and drawing influences from a wise range of artists such as: The Smashing Pumpkins\, The Strokes\, Laundry Day\, MGMT\, and Jean Dawson; Bencils delivers a fresh and exciting sound that blends nostalgia with the raw yet polished energy needed for a perfect Summer anthem. \n\n\n\n\n\n\n\n\n\n@2002bencils
URL:https://uncommoncorner.org/event/bencils-4/
CATEGORIES:Live Music
END:VEVENT
END:VCALENDAR