BEGIN:VCALENDAR
VERSION:2.0
PRODID:-//Emerson College UnCommon Corner - ECPv6.15.19//NONSGML v1.0//EN
CALSCALE:GREGORIAN
METHOD:PUBLISH
X-WR-CALNAME:Emerson College UnCommon Corner
X-ORIGINAL-URL:https://uncommoncorner.org
X-WR-CALDESC:Events for Emerson College UnCommon Corner
REFRESH-INTERVAL;VALUE=DURATION:PT1H
X-Robots-Tag:noindex
X-PUBLISHED-TTL:PT1H
BEGIN:VTIMEZONE
TZID:America/New_York
BEGIN:DAYLIGHT
TZOFFSETFROM:-0500
TZOFFSETTO:-0400
TZNAME:EDT
DTSTART:20240310T070000
END:DAYLIGHT
BEGIN:STANDARD
TZOFFSETFROM:-0400
TZOFFSETTO:-0500
TZNAME:EST
DTSTART:20241103T060000
END:STANDARD
BEGIN:DAYLIGHT
TZOFFSETFROM:-0500
TZOFFSETTO:-0400
TZNAME:EDT
DTSTART:20250309T070000
END:DAYLIGHT
BEGIN:STANDARD
TZOFFSETFROM:-0400
TZOFFSETTO:-0500
TZNAME:EST
DTSTART:20251102T060000
END:STANDARD
BEGIN:DAYLIGHT
TZOFFSETFROM:-0500
TZOFFSETTO:-0400
TZNAME:EDT
DTSTART:20260308T070000
END:DAYLIGHT
BEGIN:STANDARD
TZOFFSETFROM:-0400
TZOFFSETTO:-0500
TZNAME:EST
DTSTART:20261101T060000
END:STANDARD
END:VTIMEZONE
BEGIN:VEVENT
DTSTART;TZID=America/New_York:20250620T120000
DTEND;TZID=America/New_York:20250620T140000
DTSTAMP:20260419T090343
CREATED:20250606T032542Z
LAST-MODIFIED:20250606T033402Z
UID:4780-1750420800-1750428000@uncommoncorner.org
SUMMARY:Emily Nawrocki
DESCRIPTION:Emily Nawrocki\n\n\n\n\n\nUnCommon Corner\, Boylston St &\, Tremont St\, Boston\, MA 02116\n\n\n\nEmily Nawrocki is proving to be a rising star in the pop-soul world\, blending powerhouse vocals\, heartfelt storytelling\, and undeniable stage presence. The Boston\, MA native has been making waves with her debut single\, Blue Eyed Baby\, which earned her two nominations at the 2025 International Portuguese Music Awards (IPMAs)—one for Best Pop Song and another for the People’s Choice Award. \n\n\n\n​Her debut album\, Evolving\, produced by multi Grammy-nominated John Mailloux at Bongo Beach Productions has been praised for its fusion of pop\, soul\, and Motown influences. Wavy Magazine describes it as “a journey of self-discovery and artistry\, blending rhythmic energy with lyrical introspection.” Nawrocki worked alongside Grammy-level musicians—who have played with legends like Michael Bublé and Jackson Browne—to craft an album that’s both polished and deeply personal. \n\n\n\nAs double graduate of Berklee College of Music with a master’s in Songwriting\, Nawrocki’s music draws inspiration from Amy Winehouse\, Carole King\, and James Brown\, fusing vintage soul with modern pop hooks. The Herald News praised Blue Eyed Baby for its “infectious energy and playful charm.” \n\n\n\nHer album release show at The Narrows Center for the Arts was a full-house\, sold-out success\, proving that her music resonates deeply with audiences. Wavy Magazine notes\, “Live performances are where Nawrocki’s passion shines brightest\, creating an energy that’s both spontaneous and electric.” \n\n\n\nWith an ever-growing fanbase\, Emily Nawrocki is just getting started—and the world is taking notice. \n\n\n\n\n\n\n\n\n\n@emily.nawrocki \n\n\n\n \n\n\n\n\n\n\n\n\n\n\n\n@emilynawrockimusic \n\n\n\n\n\n \n\n\n\n\n\n\n\n\n\nhttps://www.emilynawrockimusic.com
URL:https://uncommoncorner.org/event/emily-nawrocki/
CATEGORIES:Live Music
END:VEVENT
BEGIN:VEVENT
DTSTART;TZID=America/New_York:20250620T150000
DTEND;TZID=America/New_York:20250620T170000
DTSTAMP:20260419T090343
CREATED:20250606T033302Z
LAST-MODIFIED:20250606T175000Z
UID:4789-1750431600-1750438800@uncommoncorner.org
SUMMARY:Farayi Malek
DESCRIPTION:Farayi Malek\n\n\n\n\n\nUnCommon Corner\, Boylston St &\, Tremont St\, Boston\, MA 02116\n\n\n\nWith her warm\, soulful voice\, Farayi Malek has captivated audiences around the globe as a Grammy-nominated vocalist with Danilo Pérez’s Global Messengers. Now\, she’s returning to her musical roots\, embarking on a new chapter of her journey. \n\n\n\nThe child of a Zimbabwean immigrant and a white American mother\, Farayi grew up in a small\, rural town in Southern Idaho\, playing the fiddle and absorbing the culture of seemingly conflicting communities. Her goal is to bring all of the diverse sounds and experiences of her life into her music: the Gospel of the church she grew up in\, the American folk music and hymns of her childhood\, and the blues and jazz she studied\, all woven into pure\, resonant songs that allow her effortless vocals to shine. \n\n\n\nNow a Salt Lick Incubator award-winner\, Farayi is stepping out as a solo artist on her much anticipated debut recording project produced by Alain Mallet [Phil Woods\, Paul Simon\, Paquito D’Rivera\, Marc Johnson\, and Madeleine Peyroux.] Her writing showcases very accessible themes with a unique compositional intelligence\, demonstrated in songs like “Tonight”. \n\n\n\nWhen she is not performing and recording\, Farayi shares her vast musical knowledge as a professor at various esteemed institutions including Berklee College of Music and New England Conservatory.  In an interview with The Boston Globe\, Farayi says\, “Seeing my students be so brave and confident\, so artistic and free…they’re the ones who actually inspired me to pursue my artistic career.” \n\n\n\nWhether she is engaging with her audience through performance or education\, Farayi is driven by the desire to make people feel seen and at home in their otherness.  \n\n\n\nShe will be releasing her debut EP March 27th\, 2025. \n\n\n\n\n\n\n\n\n\n@farayi.malek \n\n\n\n \n\n\n\n\n\n\n\n\n\n\n\n@farayi.malek \n\n\n\n\n\n \n\n\n\n\n\n\n\n\n\nwww.farayimalek.com
URL:https://uncommoncorner.org/event/farayi-malek-3/
CATEGORIES:Live Music
ATTACH;FMTTYPE=image/jpeg:https://uncommoncorner.org/wp-content/uploads/sites/64/2025/06/Najee_Visuals_02.jpeg
END:VEVENT
BEGIN:VEVENT
DTSTART;TZID=America/New_York:20250620T180000
DTEND;TZID=America/New_York:20250620T200000
DTSTAMP:20260419T090343
CREATED:20250612T181745Z
LAST-MODIFIED:20250617T203046Z
UID:4872-1750442400-1750449600@uncommoncorner.org
SUMMARY:HipStory Presents Rhythm and Roots
DESCRIPTION:HipStory Presents Rhythm and Roots featuring Zion Rodman and Gogo Norales\n\n\n\n\n\nJoin HipStory for their bi-weekly series\, “Rhythm and Roots\,” a live music and dance event that celebrates the deep-rooted traditions of Black music and movement. Rhythm & Roots will feature a rotating lineup of live bands\, dance performances\, and open jam sessions where musicians and dancers can exchange rhythms and movement. This event will focus on blending Afro-diasporic music styles\, jazz\, blues\, hip-hop\, and house music. \n\n\n\n\n\nArtist Bios\n\n\n\n\n\n\n\n\n\n\n\n\n\n\n\nGogo Norales\n\n\n\nGogo Norales is a Garifuna musician and ambassador for the culture. Providing world music to the public and expressing how culture is also an identity. \n\n\n\n\n\n\n\n\n\n\n@noralesgogo \n\n\n\n\n\n\n\n\n\n\n\n\n\n@gomany.norales \n\n\n\n\n\n\n\n\n\n\n\n\n\n\n\n\n\n\n\n\nZion Rodman\n\n\n\nZion Rodman is a multi-instrumental singer-songwriter known for his soulful voice\, intricate guitar playing\, and poignant lyrics. With a melodic style that blends folk and rock influences\, Zion’s performances are heartfelt and captivating. Based in Boston\, he brings a mix of introspection and energy to the stage\, both as a solo act and with his band\, making each show a memorable experience. Fans of Dawes\, Steely Dan\, The Band\, and Pinegrove are often drawn to Zion’s music. \n\n\n\nZion’s latest EP “The Lives I’ve Kept” was met with a sold-out release show and praise in the Boston Globe: “Boston artist Zion Rodman forges a brief respite from the forthcoming winter gloom with this fireplace-cozy EP.” \n\n\n\nPast released projects include “Whatever Happens” (2020)\, “Did Not Wake Up Today” (2018)\, and “You’re Invited” (2017). Zion is currently recording another full-length record that will be titled “The Acquisition Of All Things” at Rusty’s Recording Studio with the full band. \n\n\n\nOutside of recording and performing his own music\, Zion is a sound engineer for The Burren and SoFar Sounds. Zion is also a proponent of boosting the local music scene and cohosts a monthly open mic with Christian Colegrove at Medford Brewing Co and a weekly open mic at McCarthys and Toad. \n\n\n\n\n\n\n\n\n\n\n@zion_rodman \n\n\n\n\n\n\n\n\n\n\n\n\n\n@zionrodmanmusic \n\n\n\n\n\n\n\n\n\n\n\n\n\n\nwww.zionrodmanmusic.com
URL:https://uncommoncorner.org/event/hipstory-presents-rhythm-and-roots-2/
CATEGORIES:DJ,Live Music
END:VEVENT
END:VCALENDAR