BEGIN:VCALENDAR
VERSION:2.0
PRODID:-//Emerson College UnCommon Corner - ECPv6.15.19//NONSGML v1.0//EN
CALSCALE:GREGORIAN
METHOD:PUBLISH
X-WR-CALNAME:Emerson College UnCommon Corner
X-ORIGINAL-URL:https://uncommoncorner.org
X-WR-CALDESC:Events for Emerson College UnCommon Corner
REFRESH-INTERVAL;VALUE=DURATION:PT1H
X-Robots-Tag:noindex
X-PUBLISHED-TTL:PT1H
BEGIN:VTIMEZONE
TZID:America/New_York
BEGIN:DAYLIGHT
TZOFFSETFROM:-0500
TZOFFSETTO:-0400
TZNAME:EDT
DTSTART:20240310T070000
END:DAYLIGHT
BEGIN:STANDARD
TZOFFSETFROM:-0400
TZOFFSETTO:-0500
TZNAME:EST
DTSTART:20241103T060000
END:STANDARD
BEGIN:DAYLIGHT
TZOFFSETFROM:-0500
TZOFFSETTO:-0400
TZNAME:EDT
DTSTART:20250309T070000
END:DAYLIGHT
BEGIN:STANDARD
TZOFFSETFROM:-0400
TZOFFSETTO:-0500
TZNAME:EST
DTSTART:20251102T060000
END:STANDARD
BEGIN:DAYLIGHT
TZOFFSETFROM:-0500
TZOFFSETTO:-0400
TZNAME:EDT
DTSTART:20260308T070000
END:DAYLIGHT
BEGIN:STANDARD
TZOFFSETFROM:-0400
TZOFFSETTO:-0500
TZNAME:EST
DTSTART:20261101T060000
END:STANDARD
END:VTIMEZONE
BEGIN:VEVENT
DTSTART;TZID=America/New_York:20250614T130000
DTEND;TZID=America/New_York:20250614T150000
DTSTAMP:20260419T090357
CREATED:20250606T030313Z
LAST-MODIFIED:20250606T030316Z
UID:4772-1749906000-1749913200@uncommoncorner.org
SUMMARY:Marilyn Simone
DESCRIPTION:Marilyn Simone\n\n\n\n\n\nUnCommon Corner\, Boylston St &\, Tremont St\, Boston\, MA 02116\n\n\n\nAn enigmatic songwriter and DJ with a voice dripping in reverb and delay\, Marilyn Simone blends the soulful echoes of R&B with the limitless creation of sound design. Raised in Oakland’s vibrant pulse and guided by the spirits of artists like Stevie Wonder and Erykah Badu\, their music whispers stories of identity\, rebirth\, and the shadowcorners of the mind. Each layered harmony and haunting melody invite the listeners into a space both grounded and unearthly\, where sound becomes a medium for metamorphosis. \n\n\n\n \n\n\n\n\n\n\n\n\n\n@marilynsimonee \n\n\n\n \n\n\n\n\n\n\n\n\n\n\n\nhttps://marilynsimone.my.canva.site/#home
URL:https://uncommoncorner.org/event/marilyn-simone/
CATEGORIES:Live Music
END:VEVENT
BEGIN:VEVENT
DTSTART;TZID=America/New_York:20250614T180000
DTEND;TZID=America/New_York:20250614T200000
DTSTAMP:20260419T090357
CREATED:20250529T205138Z
LAST-MODIFIED:20250606T030052Z
UID:4716-1749924000-1749931200@uncommoncorner.org
SUMMARY:PRIDE: An Evening with Patty Bourrée
DESCRIPTION:Patty Bourrée\n\n\n\n\n\nPRIDE: An Evening with Patty Bourrée featuring Doriann Blonch and Lucy Diamonds\n\n\n\n\n\nUnCommon Corner\, Boylston St &\, Tremont St\, Boston\, MA 02116\n\n\n\nJoin Patty Bourrée\, Emerson alum and the Definitive Boston-based Singing Blonde Comedy Queen for an evening of family-friendly drag fun at UnCommon! \n\n\n\nPatty has delighted audiences near and far. Patty and friends Doriann Blonch and Lucy Diamonds will be the perfect way to cap off your parade weekend in the city! \n\n\n\nPatty Bourrée is a Boston-based drag and cabaret artist known for her big voice\, vintage style\, and bad attitude. With a Theater BFA from NYU and MFA from Emerson College\, she’s not only overqualified for this gig\, she desperately needs the money to pay back her student loans. A fixture of the local drag scene\, she heads the Boston branch of Drag Story Hour and show directs at Boston’s historic drag bar Jacque’s Cabaret in addition to being featured on national television programs and on stages around the country. Follow Patty @pattybourree on all platforms for more.  \n\n\n\nAnd to make tonight even more delicious\, our friends at El Jefe’s will be serving up Pride Rainbow Churros! \n\n\n\n\n\n\n\n\n\n@pattybourree \n\n\n\n \n\n\n\n\n\n\n\n\n\n\n\n@pattybourree
URL:https://uncommoncorner.org/event/pride-an-evening-with-patty-bourree/
CATEGORIES:Comedy,Live Music,Special Event
ATTACH;FMTTYPE=image/jpeg:https://uncommoncorner.org/wp-content/uploads/sites/64/2025/05/AfterlightImage-scaled.jpg
END:VEVENT
END:VCALENDAR