BEGIN:VCALENDAR
VERSION:2.0
PRODID:-//Emerson College UnCommon Corner - ECPv6.15.19//NONSGML v1.0//EN
CALSCALE:GREGORIAN
METHOD:PUBLISH
X-ORIGINAL-URL:https://uncommoncorner.org
X-WR-CALDESC:Events for Emerson College UnCommon Corner
REFRESH-INTERVAL;VALUE=DURATION:PT1H
X-Robots-Tag:noindex
X-PUBLISHED-TTL:PT1H
BEGIN:VTIMEZONE
TZID:America/New_York
BEGIN:DAYLIGHT
TZOFFSETFROM:-0500
TZOFFSETTO:-0400
TZNAME:EDT
DTSTART:20240310T070000
END:DAYLIGHT
BEGIN:STANDARD
TZOFFSETFROM:-0400
TZOFFSETTO:-0500
TZNAME:EST
DTSTART:20241103T060000
END:STANDARD
BEGIN:DAYLIGHT
TZOFFSETFROM:-0500
TZOFFSETTO:-0400
TZNAME:EDT
DTSTART:20250309T070000
END:DAYLIGHT
BEGIN:STANDARD
TZOFFSETFROM:-0400
TZOFFSETTO:-0500
TZNAME:EST
DTSTART:20251102T060000
END:STANDARD
BEGIN:DAYLIGHT
TZOFFSETFROM:-0500
TZOFFSETTO:-0400
TZNAME:EDT
DTSTART:20260308T070000
END:DAYLIGHT
BEGIN:STANDARD
TZOFFSETFROM:-0400
TZOFFSETTO:-0500
TZNAME:EST
DTSTART:20261101T060000
END:STANDARD
END:VTIMEZONE
BEGIN:VEVENT
DTSTART;TZID=America/New_York:20250613T120000
DTEND;TZID=America/New_York:20250613T140000
DTSTAMP:20260419T090642
CREATED:20250424T233940Z
LAST-MODIFIED:20250425T011331Z
UID:4196-1749816000-1749823200@uncommoncorner.org
SUMMARY:Itay Dayan
DESCRIPTION:Itay Dayan and his band are a Boston based group that has been performing in and around Boston for the last few years\, pretty much wherever you can think of. From nightclubs to synagogues – they’ve played there. With a combination of klezmer (traditional Jewish music) and Middle Eastern Pop music\, their shows are energetic parties with lots of humor and dancing. \n\n\n\nMembers:Itay Dayan- clarinet\, vocalsNadav Brenner- guitar\, vocalsGeorge Maclaurin- keysBen Friedland- bassPaul July Joseph- drums \n\n\n\nInstagram: @itayclarinetTiktok: @itayclarinetYoutube: @itayclarinetFacebook: Itay Dayan
URL:https://uncommoncorner.org/event/itay-dayan-2/
CATEGORIES:Live Music
END:VEVENT
BEGIN:VEVENT
DTSTART;TZID=America/New_York:20250613T150000
DTEND;TZID=America/New_York:20250613T170000
DTSTAMP:20260419T090642
CREATED:20250530T014237Z
LAST-MODIFIED:20250530T014239Z
UID:4739-1749826800-1749834000@uncommoncorner.org
SUMMARY:Devon Gates
DESCRIPTION:Devon Gates\n\n\n\n\n\nUnCommon Corner\, Boylston St &\, Tremont St\, Boston\, MA 02116\n\n\n\nDevon Gates is a bassist\, vocalist\, and composer from Atlanta\, Georgia\, now based in Brooklyn\, NY. After studying anthropology and jazz performance at Harvard University\, Berklee College of Music\, and the Royal Academy of Music (London\, UK) she has emerged in the contemporary jazz scene\, working with esteemed artists including Terri Lyne Carrington\, Vijay Iyer\, Jen Shyu\, and Nicole Mitchell\, and performing at venues such as The Kennedy Center\, SFJazz\, Dizzy’s Club Coca-Cola\, and the London Jazz Festival. Recently named one of 2024’s Up and Comers of the Year (The New York City Jazz Record)\, she also leads her own projects as a bandleader\, collaborator\, and composer\, bringing her unique blend of jazz\, chamber\, and soul influences to New York\, Japan\, Italy\, Mongolia\, India\, the UK\, and more in recent years.  \n\n\n\nIn 2022\, her original composition “Don’t Wait” was published in the Berklee Press New Standards collection of 101 lead sheets by female jazz composers curated by Terri Lyne Carrington\, and since then she has been the recipient of the inaugural Marion Brown Prize (Bowdoin College)\, Composers Now First Commission Award 2024\, and HerVoice Prize (Chicago Acapella) for her choral and chamber compositions.  \n\n\n\nCreating across boundaries of discipline and genre\, Gates has written original music in collaboration with playwright Phillip Howze for theatrical work\, “Self Portraits” (Bushwick Starr\, Brooklyn)\, worked as a curatorial assistant for the Berklee Institute of Jazz and Gender Justice’s New Standards touring gallery exhibition\, garnered viral attention for her arrangement and live performance of H.E.R.’s “Hard Place” with the Harvard Opportunes acapella ensemble\, and has contributed original music for the audio edition of Tricia Hersey (The Nap Ministry)’s newest book We Will Rest! The Art of Escape (released November 2024). \n\n\n\nDevon is also a passionate educator and facilitator\, who has held teaching positions at Harvard College (Music Department Teaching Fellow to Prof. Vijay Iyer)\, the Berklee Bass Department Summer Workshop\, Brooklyn Conservatory of Music\, and Hilton Head Jazz Camp\, and organizes carceral education work as a founding member of Freedom Classroom\, a continuation of the Prison Studies Project. As part of her honors thesis for the Harvard Anthropology Department\, she developed the SOL\, or Sounds of Liberation Collective\, a community-engaged initiative to provide commissions and build community among other non-male-identifying peers in the Boston jazz/creative music scene. \n\n\n\n\n\n\n\n\n\n@devongatesmusic \n\n\n\n \n\n\n\n\n\n\n\n\n\n\n\nwww.devongatesmusic.com
URL:https://uncommoncorner.org/event/devon-gates-3/
CATEGORIES:Live Music
END:VEVENT
BEGIN:VEVENT
DTSTART;TZID=America/New_York:20250613T180000
DTEND;TZID=America/New_York:20250613T200000
DTSTAMP:20260419T090642
CREATED:20250529T205759Z
LAST-MODIFIED:20250606T022333Z
UID:4724-1749837600-1749844800@uncommoncorner.org
SUMMARY:PRIDE: Divas Night with The Femmes
DESCRIPTION:PRIDE: Divas Night with The Femmes\n\n\n\n\n\nUnCommon Corner\, Boylston St &\, Tremont St\, Boston\, MA 02116\n\n\n\nKick off the Pride Parade weekend with The Femmes\, the all-woman and non-binary band specializing in songs by female and non-binary artists!  They’ll perform hits from Divas both new and legendary as we come together to celebrate Pride! \n\n\n\nThe Femmes are an all-woman and non-binary wedding band specializing in songs by female and non-binary artists. When you’re at a Femmes show\, you’re at a high energy concert experience. Epic sing alongs\, expertly crafted harmonies\, and musicians who absolutely LOVE to interact with the audience\, the Femmes are Boston’s go-to women’s party band!  \n\n\n\nThe Femmes have been booked solid since their sold-out debut showcase at Club Cafe in February 2023. Finding quick success in the MA market and all across New England\, The Femmes have become one of Boston’s top bands\, performing for the Human Rights Campaign\, Boston Pride\, Martha’s Vineyard Pride\, Harley Davidson’s Women’s Rider Day\, and have been featured on CBS News and the Boston Globe. \n\n\n\nAnd to make tonight even more delicious\, our friends at El Jefe’s will be serving up Pride Rainbow Churros! \n\n\n\n\n\n\n\n\n\n@thefemmesband  \n\n\n\n \n\n\n\n\n\n\n\n\n\n\n\nwww.thefemmesband.com
URL:https://uncommoncorner.org/event/pride-divas-night-with-the-femmes/
CATEGORIES:Live Music
END:VEVENT
END:VCALENDAR