BEGIN:VCALENDAR
VERSION:2.0
PRODID:-//Emerson College UnCommon Corner - ECPv6.15.19//NONSGML v1.0//EN
CALSCALE:GREGORIAN
METHOD:PUBLISH
X-WR-CALNAME:Emerson College UnCommon Corner
X-ORIGINAL-URL:https://uncommoncorner.org
X-WR-CALDESC:Events for Emerson College UnCommon Corner
REFRESH-INTERVAL;VALUE=DURATION:PT1H
X-Robots-Tag:noindex
X-PUBLISHED-TTL:PT1H
BEGIN:VTIMEZONE
TZID:America/New_York
BEGIN:DAYLIGHT
TZOFFSETFROM:-0500
TZOFFSETTO:-0400
TZNAME:EDT
DTSTART:20240310T070000
END:DAYLIGHT
BEGIN:STANDARD
TZOFFSETFROM:-0400
TZOFFSETTO:-0500
TZNAME:EST
DTSTART:20241103T060000
END:STANDARD
BEGIN:DAYLIGHT
TZOFFSETFROM:-0500
TZOFFSETTO:-0400
TZNAME:EDT
DTSTART:20250309T070000
END:DAYLIGHT
BEGIN:STANDARD
TZOFFSETFROM:-0400
TZOFFSETTO:-0500
TZNAME:EST
DTSTART:20251102T060000
END:STANDARD
BEGIN:DAYLIGHT
TZOFFSETFROM:-0500
TZOFFSETTO:-0400
TZNAME:EDT
DTSTART:20260308T070000
END:DAYLIGHT
BEGIN:STANDARD
TZOFFSETFROM:-0400
TZOFFSETTO:-0500
TZNAME:EST
DTSTART:20261101T060000
END:STANDARD
END:VTIMEZONE
BEGIN:VEVENT
DTSTART;TZID=America/New_York:20250608T120000
DTEND;TZID=America/New_York:20250608T140000
DTSTAMP:20260419T094949
CREATED:20250530T012947Z
LAST-MODIFIED:20250530T012949Z
UID:4729-1749384000-1749391200@uncommoncorner.org
SUMMARY:The Tripps
DESCRIPTION:The Tripps\n\n\n\n\n\nUnCommon Corner\, Boylston St &\, Tremont St\, Boston\, MA 02116\n\n\n\nThe Tripps are a Berklee-bred psychedelic improv band that cannot be defined by one genre.  They have a new album out\, entitled “What It Is.” \n\n\n\n\n\n\n\n\n\n@the._.tripps
URL:https://uncommoncorner.org/event/the-tripps/
CATEGORIES:Live Music
END:VEVENT
BEGIN:VEVENT
DTSTART;TZID=America/New_York:20250608T150000
DTEND;TZID=America/New_York:20250608T170000
DTSTAMP:20260419T094949
CREATED:20250530T013502Z
LAST-MODIFIED:20250530T013505Z
UID:4733-1749394800-1749402000@uncommoncorner.org
SUMMARY:Devon Gates
DESCRIPTION:Devon Gates\n\n\n\n\n\nUnCommon Corner\, Boylston St &\, Tremont St\, Boston\, MA 02116\n\n\n\nDevon Gates is a bassist\, vocalist\, and composer from Atlanta\, Georgia\, now based in Brooklyn\, NY. After studying anthropology and jazz performance at Harvard University\, Berklee College of Music\, and the Royal Academy of Music (London\, UK) she has emerged in the contemporary jazz scene\, working with esteemed artists including Terri Lyne Carrington\, Vijay Iyer\, Jen Shyu\, and Nicole Mitchell\, and performing at venues such as The Kennedy Center\, SFJazz\, Dizzy’s Club Coca-Cola\, and the London Jazz Festival. Recently named one of 2024’s Up and Comers of the Year (The New York City Jazz Record)\, she also leads her own projects as a bandleader\, collaborator\, and composer\, bringing her unique blend of jazz\, chamber\, and soul influences to New York\, Japan\, Italy\, Mongolia\, India\, the UK\, and more in recent years.  \n\n\n\nIn 2022\, her original composition “Don’t Wait” was published in the Berklee Press New Standards collection of 101 lead sheets by female jazz composers curated by Terri Lyne Carrington\, and since then she has been the recipient of the inaugural Marion Brown Prize (Bowdoin College)\, Composers Now First Commission Award 2024\, and HerVoice Prize (Chicago Acapella) for her choral and chamber compositions.  \n\n\n\nCreating across boundaries of discipline and genre\, Gates has written original music in collaboration with playwright Phillip Howze for theatrical work\, “Self Portraits” (Bushwick Starr\, Brooklyn)\, worked as a curatorial assistant for the Berklee Institute of Jazz and Gender Justice’s New Standards touring gallery exhibition\, garnered viral attention for her arrangement and live performance of H.E.R.’s “Hard Place” with the Harvard Opportunes acapella ensemble\, and has contributed original music for the audio edition of Tricia Hersey (The Nap Ministry)’s newest book We Will Rest! The Art of Escape (released November 2024). \n\n\n\nDevon is also a passionate educator and facilitator\, who has held teaching positions at Harvard College (Music Department Teaching Fellow to Prof. Vijay Iyer)\, the Berklee Bass Department Summer Workshop\, Brooklyn Conservatory of Music\, and Hilton Head Jazz Camp\, and organizes carceral education work as a founding member of Freedom Classroom\, a continuation of the Prison Studies Project. As part of her honors thesis for the Harvard Anthropology Department\, she developed the SOL\, or Sounds of Liberation Collective\, a community-engaged initiative to provide commissions and build community among other non-male-identifying peers in the Boston jazz/creative music scene. \n\n\n\n\n\n\n\n\n\n@devongatesmusic \n\n\n\n \n\n\n\n\n\n\n\n\n\n\n\nwww.devongatesmusic.com
URL:https://uncommoncorner.org/event/devon-gates-2/
CATEGORIES:Live Music
END:VEVENT
END:VCALENDAR