BEGIN:VCALENDAR
VERSION:2.0
PRODID:-//Emerson College UnCommon Corner - ECPv6.15.19//NONSGML v1.0//EN
CALSCALE:GREGORIAN
METHOD:PUBLISH
X-WR-CALNAME:Emerson College UnCommon Corner
X-ORIGINAL-URL:https://uncommoncorner.org
X-WR-CALDESC:Events for Emerson College UnCommon Corner
REFRESH-INTERVAL;VALUE=DURATION:PT1H
X-Robots-Tag:noindex
X-PUBLISHED-TTL:PT1H
BEGIN:VTIMEZONE
TZID:America/New_York
BEGIN:DAYLIGHT
TZOFFSETFROM:-0500
TZOFFSETTO:-0400
TZNAME:EDT
DTSTART:20240310T070000
END:DAYLIGHT
BEGIN:STANDARD
TZOFFSETFROM:-0400
TZOFFSETTO:-0500
TZNAME:EST
DTSTART:20241103T060000
END:STANDARD
BEGIN:DAYLIGHT
TZOFFSETFROM:-0500
TZOFFSETTO:-0400
TZNAME:EDT
DTSTART:20250309T070000
END:DAYLIGHT
BEGIN:STANDARD
TZOFFSETFROM:-0400
TZOFFSETTO:-0500
TZNAME:EST
DTSTART:20251102T060000
END:STANDARD
BEGIN:DAYLIGHT
TZOFFSETFROM:-0500
TZOFFSETTO:-0400
TZNAME:EDT
DTSTART:20260308T070000
END:DAYLIGHT
BEGIN:STANDARD
TZOFFSETFROM:-0400
TZOFFSETTO:-0500
TZNAME:EST
DTSTART:20261101T060000
END:STANDARD
END:VTIMEZONE
BEGIN:VEVENT
DTSTART;TZID=America/New_York:20250606T120000
DTEND;TZID=America/New_York:20250606T140000
DTSTAMP:20260419T090344
CREATED:20250529T021346Z
LAST-MODIFIED:20250529T023949Z
UID:4691-1749211200-1749218400@uncommoncorner.org
SUMMARY:Brooke Annibale
DESCRIPTION:Brooke Annibale\n\n\n\n\n\nBroor\, Boylston St &\, Tremont St\, Boston\, MA 02116\n\n\n\nNot confined by any one genre\, Brooke Annibale’s expressive and beautifully thoughtful songwriting creates a dreamy\, dark\, and enticing sonic landscape. Her songs have been placed on many TV shows including Grey’s Anatomy\, Pretty Little Liars\, and One Tree Hill. Brooke has recently performed on SiriusXM The Coffee House\, AudioTree Live\, Paste and more. ​Brooke’s new album Better By Now is out now. 
URL:https://uncommoncorner.org/event/brooke-annibale-18/
CATEGORIES:Live Music
END:VEVENT
BEGIN:VEVENT
DTSTART;TZID=America/New_York:20250606T150000
DTEND;TZID=America/New_York:20250606T170000
DTSTAMP:20260419T090344
CREATED:20250529T022022Z
LAST-MODIFIED:20250529T024011Z
UID:4693-1749222000-1749229200@uncommoncorner.org
SUMMARY:Zion Rodman
DESCRIPTION:Zion Rodman\n\n\n\n\n\nUnCommon Corner\, Boylston St &\, Tremont St\, Boston\, MA 02116\n\n\n\nZion Rodman is a multi-instrumental singer-songwriter. He grew up in Cape Cod where he played around since the age of 15 and eventually received a B.A. in music from the University of Massachusetts in Boston. \n\n\n\nIn 2017\, Zion teamed up with producer Alex Katz and released his debut full-length record You’re Invited. The folk-rock album received praise and local media attention following its anticipated release. Crossfader Magazine wrote that in an era of “lo-fi bedroom projects\, it’s refreshing to hear a young creative voice this professionally produced\, fully realized\, and cohesively structured around a distinct personality and energy.” \n\n\n\nLess than a year later\, Zion released an EP titled “Did Not Wake up Today” on January 20th\, 2018. This project features heavier topics and harder rock than his debut album. Even before its release\, the title track was recognized by AFROPUNK: “Rodman turns up the volume of his melodic indie pop\, with his stunning voice just barely masking his anger beneath the hook.” \n\n\n\nHis most recent album “Whatever Happens” was recorded in Chicago and released in 2020. Zion currently lives in Boston with his fiancé and their cats. Check the calendar for upcoming shows\, or catch the full band every Fourth Friday at Ford Tavern or at the Melodies On Tap open mic every First Thursday at Medford Brewing.
URL:https://uncommoncorner.org/event/zion-rodman-2/
CATEGORIES:Live Music
END:VEVENT
BEGIN:VEVENT
DTSTART;TZID=America/New_York:20250606T180000
DTEND;TZID=America/New_York:20250606T210000
DTSTAMP:20260419T090344
CREATED:20250528T181059Z
LAST-MODIFIED:20250605T180628Z
UID:4667-1749232800-1749243600@uncommoncorner.org
SUMMARY:¡Baila Boston! Salsa Night
DESCRIPTION:Barbára Zamora at UnCommon’s ¡Baila Boston! Salsa Night in 2024\n\n\n\n\n\n¡Baila Boston! Salsa Night\n\n\n\nFeaturing Ágora Cultural Architects and Salsa y Control \n\n\n\n\n\nUnCommon Corner\, Boylston St &\, Tremont St\, Boston\, MA 02116\n\n\n\nIn partnership with our community curator Ágora Cultural Architects\, the premiere Latinae cultural presenting organization greater Boston\, and Hernan Choque of beloved Salsa studio Salsa y Control\, UnCommon’s Salsa Nights feature a live Salsa band featuring the inimitable Barbára Zamora\, DJ Hernan Choque\, free community Salsa dance lessons from Salsa y Control\, professional performances\, and open dance.  The Common comes to life with Salsa beats and UnCommon provides an unforgettable opportunity for shared\, cultural experiences. \n\n\n\nTo make the evening even more delicious\, El Jefe’s Taqueria will be serving an UnCommon Salsa Flight (three salsas and chips) for $9.95 and will be featuring a salsa tasting!
URL:https://uncommoncorner.org/event/baila-boston-salsa-night/
CATEGORIES:Live Music,Special Event
ATTACH;FMTTYPE=image/jpeg:https://uncommoncorner.org/wp-content/uploads/sites/64/2025/05/240720_Salsanight-059-scaled.jpg
END:VEVENT
END:VCALENDAR