BEGIN:VCALENDAR
VERSION:2.0
PRODID:-//Emerson College UnCommon Corner - ECPv6.15.19//NONSGML v1.0//EN
CALSCALE:GREGORIAN
METHOD:PUBLISH
X-WR-CALNAME:Emerson College UnCommon Corner
X-ORIGINAL-URL:https://uncommoncorner.org
X-WR-CALDESC:Events for Emerson College UnCommon Corner
REFRESH-INTERVAL;VALUE=DURATION:PT1H
X-Robots-Tag:noindex
X-PUBLISHED-TTL:PT1H
BEGIN:VTIMEZONE
TZID:America/New_York
BEGIN:DAYLIGHT
TZOFFSETFROM:-0500
TZOFFSETTO:-0400
TZNAME:EDT
DTSTART:20240310T070000
END:DAYLIGHT
BEGIN:STANDARD
TZOFFSETFROM:-0400
TZOFFSETTO:-0500
TZNAME:EST
DTSTART:20241103T060000
END:STANDARD
BEGIN:DAYLIGHT
TZOFFSETFROM:-0500
TZOFFSETTO:-0400
TZNAME:EDT
DTSTART:20250309T070000
END:DAYLIGHT
BEGIN:STANDARD
TZOFFSETFROM:-0400
TZOFFSETTO:-0500
TZNAME:EST
DTSTART:20251102T060000
END:STANDARD
BEGIN:DAYLIGHT
TZOFFSETFROM:-0500
TZOFFSETTO:-0400
TZNAME:EDT
DTSTART:20260308T070000
END:DAYLIGHT
BEGIN:STANDARD
TZOFFSETFROM:-0400
TZOFFSETTO:-0500
TZNAME:EST
DTSTART:20261101T060000
END:STANDARD
END:VTIMEZONE
BEGIN:VEVENT
DTSTART;TZID=America/New_York:20250603T140000
DTEND;TZID=America/New_York:20250603T150000
DTSTAMP:20260419T090510
CREATED:20250529T012733Z
LAST-MODIFIED:20250529T014327Z
UID:4680-1748959200-1748962800@uncommoncorner.org
SUMMARY:Ben McGee
DESCRIPTION:Ben McGee\n\n\n\n\n\nUnCommon Corner\, Boylston St &\, Tremont St\, Boston\, MA 02116\n\n\n\nCheck back for more information soon! \n\n\n\n\n\n\n\n\n\n@Instagram \n\n\n\n \n\n\n\n\n\n\n\n\n\n\n\n@Facebook \n\n\n\n\n\n \n\n\n\n\n\n\n\n\n\nwww.websiteexample.com \n\n\n\n\n\n \n\n\n\n\n\n\n\n\n\n@Twitter
URL:https://uncommoncorner.org/event/ben-mcgee/
CATEGORIES:Live Music
END:VEVENT
BEGIN:VEVENT
DTSTART;TZID=America/New_York:20250603T180000
DTEND;TZID=America/New_York:20250603T200000
DTSTAMP:20260419T090510
CREATED:20250529T013812Z
LAST-MODIFIED:20250529T024641Z
UID:4682-1748973600-1748980800@uncommoncorner.org
SUMMARY:Catherine Bent and Ian Coury
DESCRIPTION:Catherine Bent and Ian Coury\n\n\n\n\n\nUnCommon Corner\, Boylston St &\, Tremont St\, Boston\, MA 02116\n\n\n\nLocal multi-style cellist Catherine Bent and Brazilian mandolin prodigy Ian Coury dazzle and charm listeners with their unique take on Brazilian instrumental music. The duo will play a set before inviting other musicians to join for a “roda de choro”. Audiences may find themselves on a journey into the rootsy dance rhythms of forró\, or lifting their voices in a cathartic samba.  Choro musicians\, bring your instruments! \n\n\n\nCatherine Bent\, an alumna of Cirque du Soleil\, has performed and recorded with Joe Jackson\, Lee Konitz\, Donna Summer\, and many others. She is regarded in Brazil as the leading cellist in choro. Ian Coury is an award-winning 10-string bandolim player and composer from Brazil who has shared stages with Brazilian legends like Toninho Horta and Hamilton de Holanda. \n\n\n\nThe two have a musical connection that transcends their backgrounds and crystallizes around their passion for Brazilian choro music.  Choro (pronounced “shoh-roh”) is an instrumental music that has its origins in late 1800s Rio de Janeiro. It’s been likened to New Orleans jazz\, and shares that tradition’s improvisation\, soulfulness\, and often irrepressible joyfulness. \n\n\n\n\n\n\n\n\n\n@CatherineBentMusic \n\n\n\n \n\n\n\n\n\n\n\n\n\n\n\n@CatherineBentMusic \n\n\n\n\n\n \n\n\n\n\n\n\n\n\n\nhttps://catherinebent.com
URL:https://uncommoncorner.org/event/catherine-bent-and-ian-coury-6/
CATEGORIES:Live Music
END:VEVENT
END:VCALENDAR