BEGIN:VCALENDAR
VERSION:2.0
PRODID:-//Emerson College UnCommon Corner - ECPv6.15.19//NONSGML v1.0//EN
CALSCALE:GREGORIAN
METHOD:PUBLISH
X-WR-CALNAME:Emerson College UnCommon Corner
X-ORIGINAL-URL:https://uncommoncorner.org
X-WR-CALDESC:Events for Emerson College UnCommon Corner
REFRESH-INTERVAL;VALUE=DURATION:PT1H
X-Robots-Tag:noindex
X-PUBLISHED-TTL:PT1H
BEGIN:VTIMEZONE
TZID:America/New_York
BEGIN:DAYLIGHT
TZOFFSETFROM:-0500
TZOFFSETTO:-0400
TZNAME:EDT
DTSTART:20240310T070000
END:DAYLIGHT
BEGIN:STANDARD
TZOFFSETFROM:-0400
TZOFFSETTO:-0500
TZNAME:EST
DTSTART:20241103T060000
END:STANDARD
BEGIN:DAYLIGHT
TZOFFSETFROM:-0500
TZOFFSETTO:-0400
TZNAME:EDT
DTSTART:20250309T070000
END:DAYLIGHT
BEGIN:STANDARD
TZOFFSETFROM:-0400
TZOFFSETTO:-0500
TZNAME:EST
DTSTART:20251102T060000
END:STANDARD
BEGIN:DAYLIGHT
TZOFFSETFROM:-0500
TZOFFSETTO:-0400
TZNAME:EDT
DTSTART:20260308T070000
END:DAYLIGHT
BEGIN:STANDARD
TZOFFSETFROM:-0400
TZOFFSETTO:-0500
TZNAME:EST
DTSTART:20261101T060000
END:STANDARD
END:VTIMEZONE
BEGIN:VEVENT
DTSTART;TZID=America/New_York:20250601T120000
DTEND;TZID=America/New_York:20250601T140000
DTSTAMP:20260419T090344
CREATED:20250529T012307Z
LAST-MODIFIED:20250529T012507Z
UID:4674-1748779200-1748786400@uncommoncorner.org
SUMMARY:Goodwin
DESCRIPTION:Goodwin\n\n\n\n\n\nUnCommon Corner\, Boylston St &\, Tremont St\, Boston\, MA 02116\n\n\n\nIf you have seen them live\, or listened to their recordings\, you know that Goodwin is not an easy band to pin down. Indie Funk? Reggae Folk? Art Rock? \n\n\n\nPerhaps they can best be described as both raw and sophisticated. That is\, the songs are unadorned with extraneous frills while offering myriad layers of complexity. \n\n\n\nComprised of Emily Campagna on vocals\, Jason Fletcher on guitar\, Yahuba Garica on percussion\, Michael E Goodwin on vocals/guitar\, Matt Lydon on drums\, and Ethan Stewart on bass\, Goodwin has become an integral and inspired feature of the contemporary sonic landscape. \n\n\n\nExperimentation is always the thing for this band. As such\, Goodwin has welcomed a host of musicians to the stage and into the studio\, notably Danny James on piano\, Ben Lester (Bon Iver\, S Carey) on pedal steel\, Yinfei Li on violin\, Peter Maclean (Maceo Parker) on drums\, Kathleen Parks (Twisted Pine) on fiddle\, Cory Pesatruo on accordion\, Anne Preis on violin\, Chris Sartori (Twisted Pine) on bass\, Celia Sieckert on cello\, and Tamer Tarhan on viola. \n\n\n\nThe band recorded their first album “The Hunt\,” in June of 2023 at The Halo Studio in Windham\, Maine with engineer and co-producer Jonathan Wyman. The final track “Tetons\,” was reviewed by Global Tunes in a fashion that speaks to the ethos of Goodwin’s overall approach: “This track is built little by little until an explosive expressiveness is achieved without losing a sense of softness and sweetness.”  \n\n\n\nFollowing a slew of performances to promote their first album\, the band began work on their second full length record “The Monarch and The Milkweed.” The first two singles\, “Needs” and “New England Man\,” were recorded in February 2024 at Mad Oak Studios in Boston with engineer and co-producer Benny Grotto. The bulk of the album was recorded once again at The Halo Studio with Jonathan Wyman in June of 2024.  \n\n\n\n\n\n\n\n\n\n@goodwintunes \n\n\n\n \n\n\n\n\n\n\n\n\n\n\n\n@goodwintunes \n\n\n\n\n\n \n\n\n\n\n\n\n\n\n\nwww.goodwintunes.com
URL:https://uncommoncorner.org/event/goodwin-2/
CATEGORIES:Live Music
ATTACH;FMTTYPE=image/jpeg:https://uncommoncorner.org/wp-content/uploads/sites/64/2025/05/E32A7712-Enhanced-NR-2-scaled.jpg
END:VEVENT
BEGIN:VEVENT
DTSTART;TZID=America/New_York:20250601T150000
DTEND;TZID=America/New_York:20250601T160000
DTSTAMP:20260419T090344
CREATED:20250529T011006Z
LAST-MODIFIED:20250529T011009Z
UID:4670-1748790000-1748793600@uncommoncorner.org
SUMMARY:Thea Hopkins
DESCRIPTION:Thea Hopkins\n\n\n\n\n\nA member of Aquinnah Wampanoag tribe of Martha’s Vineyard MA\, performing songwriter Thea Hopkins calls her music Red Roots Americana. She has been described as a “standout writer” by the Washington Post. Her new album\, “Blossom & Ghosts”\, is scheduled to be released in September 2025. In 2024\, Thea attended the ISPA Congress in Perth (AUS) and WOMEX in Manchester (UK) as a Western Arts Alliance artist delegate. She was an official showcase artist at the International Indigenous Music Summit in June 2023. Her song\, “The Ghost Of Emmett Till” was the grand prize winner of the Great American Song Contest in 2021. \n\n\n\nVenues where Thea has performed include Massey Hall (CN)\, Banff Centre For The Arts (CN) Kennedy Center (DC)\, Woody Guthrie Festival (OK)\, the Moseley Folk Festival (UK)\, the Summertyne Americana Festival (UK) and the Bluebird Cafe (TN). Her new album\, “Here In Our World” is scheduled to be released in September 2024. She first came to wider public notice when Peter\, Paul & Mary recorded her song “Jesus Is On The Wire” in 2004\, and then again in 2010 with the Prague Symphony Orchestra. It is considered one of their later signature songs. \n\n\n\n\n\n\n\n\n\n\n\n@theahopkinssongs \n\n\n\n\n\n\n\n\n\n\n\n\n\n@theahopkinssongsall \n\n\n\n\n\n\n\n\n\n\n\n\n\n@theahopkins \n\n\n\n\n\n\n\n\n\n\n\n\n\nwww.theahopkins.com
URL:https://uncommoncorner.org/event/thea-hopkins-3/
CATEGORIES:Live Music
ATTACH;FMTTYPE=image/jpeg:https://uncommoncorner.org/wp-content/uploads/sites/64/2024/06/image0-scaled.jpeg
END:VEVENT
BEGIN:VEVENT
DTSTART;TZID=America/New_York:20250601T160000
DTEND;TZID=America/New_York:20250601T170000
DTSTAMP:20260419T090344
CREATED:20250529T011228Z
LAST-MODIFIED:20250529T011230Z
UID:4672-1748793600-1748797200@uncommoncorner.org
SUMMARY:Jasmine Rochelle Goodspeed
DESCRIPTION:Acoustic and Soulful Sundays featuring Jasmine Rochelle Goodspeed\n\n\n\n\n\nUnCommon Corner is located on Boylston St &\, Tremont St\, Boston\, MA 02116\n\n\n\nJasmine Rochelle Goodspeed[She/They](Nipmuc) is a Massachusetts based actor\, singer/songwriter\, playwright and director. Coming up in a musical family\, Jasmine first stepped on stage at 3 years old. Her music stylings are heavily influenced by her love for musical theater\, and historic  ballads. As an actress\, Jasmine has performed on several stages. Among her favorite performances is a collaboration with the Wampanoag Nation and Theatre Royal Plymouth in the UK where she also performed in a music showcase. Her most frequented of stages is not a stage at all\, but rather various locations at faires\, SCA events\, and flea markets. She does not currently have a Spotify or way to stream her music\, and instead sings and performs where she feels called to\, simply for the fun of it. \n\n\n\n\n\n\n\n\n\n\n\n@jasminerochellegoodspeed \n\n\n\n@Starlenia \n\n\n\n\n\n\n\n\n\n\n\n\n\n@Starlenia \n\n\n\n\n\n\n\n\n\n\n\n\n\nwww.jasminerochellegoodspeed.online
URL:https://uncommoncorner.org/event/jasmine-rochelle-goodspeed-2/
CATEGORIES:Live Music
ATTACH;FMTTYPE=image/jpeg:https://uncommoncorner.org/wp-content/uploads/sites/64/2025/04/image-1.jpeg
END:VEVENT
END:VCALENDAR