BEGIN:VCALENDAR
VERSION:2.0
PRODID:-//Emerson College UnCommon Corner - ECPv6.15.19//NONSGML v1.0//EN
CALSCALE:GREGORIAN
METHOD:PUBLISH
X-ORIGINAL-URL:https://uncommoncorner.org
X-WR-CALDESC:Events for Emerson College UnCommon Corner
REFRESH-INTERVAL;VALUE=DURATION:PT1H
X-Robots-Tag:noindex
X-PUBLISHED-TTL:PT1H
BEGIN:VTIMEZONE
TZID:America/New_York
BEGIN:DAYLIGHT
TZOFFSETFROM:-0500
TZOFFSETTO:-0400
TZNAME:EDT
DTSTART:20240310T070000
END:DAYLIGHT
BEGIN:STANDARD
TZOFFSETFROM:-0400
TZOFFSETTO:-0500
TZNAME:EST
DTSTART:20241103T060000
END:STANDARD
BEGIN:DAYLIGHT
TZOFFSETFROM:-0500
TZOFFSETTO:-0400
TZNAME:EDT
DTSTART:20250309T070000
END:DAYLIGHT
BEGIN:STANDARD
TZOFFSETFROM:-0400
TZOFFSETTO:-0500
TZNAME:EST
DTSTART:20251102T060000
END:STANDARD
BEGIN:DAYLIGHT
TZOFFSETFROM:-0500
TZOFFSETTO:-0400
TZNAME:EDT
DTSTART:20260308T070000
END:DAYLIGHT
BEGIN:STANDARD
TZOFFSETFROM:-0400
TZOFFSETTO:-0500
TZNAME:EST
DTSTART:20261101T060000
END:STANDARD
END:VTIMEZONE
BEGIN:VEVENT
DTSTART;TZID=America/New_York:20250531T130000
DTEND;TZID=America/New_York:20250531T150000
DTSTAMP:20260419T090643
CREATED:20250429T042603Z
LAST-MODIFIED:20250429T042606Z
UID:4446-1748696400-1748703600@uncommoncorner.org
SUMMARY:Anibal Cruz
DESCRIPTION:Cuban Pianist\, Composer\, Arranger\, and Bandleader Anibal Cruz is a Berklee graduate\, skilled in Composition and Jazz performance. Since launching his career\, he has achieved significant milestones including his first single\, “La Raza\,” released in 2021. Cruz has performed alongside notable artists such as Paquito de Rivera\, Armando Manzanero\, Egui Castrillo\, Joe McCarthy\, Ruben Rodrigez\, Alain Perez\, and Berta Rojas\, in addition to being part of the cast of Ayodele Casel’s “Chasing Magic.” \n\n\n\nHis international tours span Europe\, Latin America\, and the United States\, featuring performances with Ayodele Casel\, David Rivera\, DeJan\, Los Adolescentes\, Manolo Mairena\, Cucu Diamantes\, and Adonis Puentes since 2018. As a bandleader\, he heads Clave & Blues\, a Cuban & Latin Music Orchestra\, and The Blue Island Project\, a Latin Jazz quartet. \n\n\n\nIn his growing discography\, Cruz has contributed to several albums including “Ricano” by Jonathan Suazo\, “Illegal Grooves” by Nacho Gonzalez\, “Ká Berto” by Jaasiel Sança\, “Coffee Gold Sugar Cane” by Flavio Lira\, “De todo un poco” by Manolo Mairena\, and “Desde Lejos” by Juan Ruiz. His involvement in these diverse projects showcases his versatility and commitment to his musical career.
URL:https://uncommoncorner.org/event/anibal-cruz-6/
CATEGORIES:Live Music
ATTACH;FMTTYPE=image/jpeg:https://uncommoncorner.org/wp-content/uploads/sites/64/2024/05/13-edited-1.jpg
END:VEVENT
BEGIN:VEVENT
DTSTART;TZID=America/New_York:20250531T160000
DTEND;TZID=America/New_York:20250531T180000
DTSTAMP:20260419T090643
CREATED:20250429T042733Z
LAST-MODIFIED:20250529T194641Z
UID:4448-1748707200-1748714400@uncommoncorner.org
SUMMARY:Trío Jazz Caribe
DESCRIPTION:Adrián Delgado (piano)\, Héctor Falú (drums)\, Jorge Rodríguez (bass)\n\n\n\nTrío Jazz Caribe is a vibrant ensemble that fuses the rhythms of the Caribbean with the sophistication of jazz\, drawing on its members’ Venezuelan\, Panamanian\, and Puerto Rican roots. Featuring Adrián Delgado on piano\, Héctor Falú on drums\, and Jorge Rodríguez on bass\, the trio brings to Boston an energetic and soulful repertoire that celebrates the spirit of island music.
URL:https://uncommoncorner.org/event/georgie-rodriguez-7/
CATEGORIES:Live Music
ATTACH;FMTTYPE=image/jpeg:https://uncommoncorner.org/wp-content/uploads/sites/64/2024/06/Georgie-Rodriguez-Photo-1-1.jpg
END:VEVENT
BEGIN:VEVENT
DTSTART;TZID=America/New_York:20250531T190000
DTEND;TZID=America/New_York:20250531T210000
DTSTAMP:20260419T090643
CREATED:20250425T011316Z
LAST-MODIFIED:20250425T011318Z
UID:4273-1748718000-1748725200@uncommoncorner.org
SUMMARY:Millennial Night with The Femmes
DESCRIPTION:Enjoy the hits millennials know and love featuring the darlings of Boston’s music scene\, The Femmes!  \n\n\n\nThe Femmes are an all-woman and non-binary wedding band specializing in songs by female and non-binary artists. When you’re at a Femmes show\, you’re at a high energy concert experience. Epic sing alongs\, expertly crafted harmonies\, and musicians who absolutely LOVE to interact with the audience\, the Femmes are Boston’s go-to women’s party band!  \n\n\n\nThe Femmes have been booked solid since their sold-out debut showcase at Club Cafe in February 2023. Finding quick success in the MA market and all across New England\, The Femmes have become one of Boston’s top bands\, performing for the Human Rights Campaign\, Boston Pride\, Martha’s Vineyard Pride\, Harley Davidson’s Women’s Rider Day\, and have been featured on CBS News and the Boston Globe. \n\n\n\nSocial Media: @thefemmesband  \n\n\n\nWebsite: thefemmesband.com
URL:https://uncommoncorner.org/event/millennial-night-with-the-femmes/
CATEGORIES:Live Music
ATTACH;FMTTYPE=image/jpeg:https://uncommoncorner.org/wp-content/uploads/sites/64/2025/04/Ginette-Slaughter-IMG_0630-scaled.jpg
END:VEVENT
END:VCALENDAR