BEGIN:VCALENDAR
VERSION:2.0
PRODID:-//Emerson College UnCommon Corner - ECPv6.15.19//NONSGML v1.0//EN
CALSCALE:GREGORIAN
METHOD:PUBLISH
X-ORIGINAL-URL:https://uncommoncorner.org
X-WR-CALDESC:Events for Emerson College UnCommon Corner
REFRESH-INTERVAL;VALUE=DURATION:PT1H
X-Robots-Tag:noindex
X-PUBLISHED-TTL:PT1H
BEGIN:VTIMEZONE
TZID:America/New_York
BEGIN:DAYLIGHT
TZOFFSETFROM:-0500
TZOFFSETTO:-0400
TZNAME:EDT
DTSTART:20240310T070000
END:DAYLIGHT
BEGIN:STANDARD
TZOFFSETFROM:-0400
TZOFFSETTO:-0500
TZNAME:EST
DTSTART:20241103T060000
END:STANDARD
BEGIN:DAYLIGHT
TZOFFSETFROM:-0500
TZOFFSETTO:-0400
TZNAME:EDT
DTSTART:20250309T070000
END:DAYLIGHT
BEGIN:STANDARD
TZOFFSETFROM:-0400
TZOFFSETTO:-0500
TZNAME:EST
DTSTART:20251102T060000
END:STANDARD
BEGIN:DAYLIGHT
TZOFFSETFROM:-0500
TZOFFSETTO:-0400
TZNAME:EDT
DTSTART:20260308T070000
END:DAYLIGHT
BEGIN:STANDARD
TZOFFSETFROM:-0400
TZOFFSETTO:-0500
TZNAME:EST
DTSTART:20261101T060000
END:STANDARD
END:VTIMEZONE
BEGIN:VEVENT
DTSTART;TZID=America/New_York:20250523T120000
DTEND;TZID=America/New_York:20250523T140000
DTSTAMP:20260419T104235
CREATED:20250424T233612Z
LAST-MODIFIED:20250429T040225Z
UID:4190-1748001600-1748008800@uncommoncorner.org
SUMMARY:Itay Dayan
DESCRIPTION:Itay Dayan and his band are a Boston based group that has been performing in and around Boston for the last few years\, pretty much wherever you can think of. From nightclubs to synagogues – they’ve played there. With a combination of klezmer (traditional Jewish music) and Middle Eastern Pop music\, their shows are energetic parties with lots of humor and dancing.Members:Itay Dayan- clarinet\, vocalsNadav Brenner- guitar\, vocalsGeorge Maclaurin- keysBen Friedland- bassPaul July Joseph- drums \n\n\n\nInstagram: @itayclarinetTiktok: @itayclarinetYoutube: @itayclarinetFacebook: Itay Dayan
URL:https://uncommoncorner.org/event/itay-dayan/
CATEGORIES:Live Music
ATTACH;FMTTYPE=image/jpeg:https://uncommoncorner.org/wp-content/uploads/sites/64/2025/04/1713554675196.jpg
END:VEVENT
BEGIN:VEVENT
DTSTART;TZID=America/New_York:20250523T150000
DTEND;TZID=America/New_York:20250523T170000
DTSTAMP:20260419T104235
CREATED:20250429T040402Z
LAST-MODIFIED:20250513T130306Z
UID:4416-1748012400-1748019600@uncommoncorner.org
SUMMARY:Off the Coast
DESCRIPTION:Off the Coast is a band from Easton\, MA that writes and plays pop punk\, indie and alternative rock. Brought together as Urban Lunchmeat in 2016\, the band plays at local music venues\, events and bars around the Boston Area\, Cape Cod\, and RI. The band composes and records their own unique high-energy music and released their debut single “Kerosene” which was nominated for Song of the Year by the New England Music Awards followed by their 2024 debut EP “A Million Reflections.”
URL:https://uncommoncorner.org/event/live-music-performance-9/
CATEGORIES:Live Music
ATTACH;FMTTYPE=image/jpeg:https://uncommoncorner.org/wp-content/uploads/sites/64/2025/04/OTC-Fallout-2024.jpg
END:VEVENT
BEGIN:VEVENT
DTSTART;TZID=America/New_York:20250523T180000
DTEND;TZID=America/New_York:20250523T200000
DTSTAMP:20260419T104235
CREATED:20250429T040454Z
LAST-MODIFIED:20250429T040456Z
UID:4418-1748023200-1748030400@uncommoncorner.org
SUMMARY:Live Music Performance
DESCRIPTION:Check back for artist details!
URL:https://uncommoncorner.org/event/live-music-performance-10/
CATEGORIES:Live Music
END:VEVENT
END:VCALENDAR