BEGIN:VCALENDAR
VERSION:2.0
PRODID:-//Emerson College UnCommon Corner - ECPv6.15.19//NONSGML v1.0//EN
CALSCALE:GREGORIAN
METHOD:PUBLISH
X-WR-CALNAME:Emerson College UnCommon Corner
X-ORIGINAL-URL:https://uncommoncorner.org
X-WR-CALDESC:Events for Emerson College UnCommon Corner
REFRESH-INTERVAL;VALUE=DURATION:PT1H
X-Robots-Tag:noindex
X-PUBLISHED-TTL:PT1H
BEGIN:VTIMEZONE
TZID:America/New_York
BEGIN:DAYLIGHT
TZOFFSETFROM:-0500
TZOFFSETTO:-0400
TZNAME:EDT
DTSTART:20240310T070000
END:DAYLIGHT
BEGIN:STANDARD
TZOFFSETFROM:-0400
TZOFFSETTO:-0500
TZNAME:EST
DTSTART:20241103T060000
END:STANDARD
BEGIN:DAYLIGHT
TZOFFSETFROM:-0500
TZOFFSETTO:-0400
TZNAME:EDT
DTSTART:20250309T070000
END:DAYLIGHT
BEGIN:STANDARD
TZOFFSETFROM:-0400
TZOFFSETTO:-0500
TZNAME:EST
DTSTART:20251102T060000
END:STANDARD
BEGIN:DAYLIGHT
TZOFFSETFROM:-0500
TZOFFSETTO:-0400
TZNAME:EDT
DTSTART:20260308T070000
END:DAYLIGHT
BEGIN:STANDARD
TZOFFSETFROM:-0400
TZOFFSETTO:-0500
TZNAME:EST
DTSTART:20261101T060000
END:STANDARD
END:VTIMEZONE
BEGIN:VEVENT
DTSTART;TZID=America/New_York:20250518T130000
DTEND;TZID=America/New_York:20250518T140000
DTSTAMP:20260419T104154
CREATED:20250513T023853Z
LAST-MODIFIED:20250515T204727Z
UID:4531-1747573200-1747576800@uncommoncorner.org
SUMMARY:Thea Hopkins
DESCRIPTION:Thea Hopkins\n\n\n\n\n\nA member of Aquinnah Wampanoag tribe of Martha’s Vineyard MA\, performing songwriter Thea Hopkins calls her music Red Roots Americana. She has been described as a “standout writer” by the Washington Post. Her new album\, “Blossom & Ghosts”\, is scheduled to be released in September 2025. In 2024\, Thea attended the ISPA Congress in Perth (AUS) and WOMEX in Manchester (UK) as a Western Arts Alliance artist delegate. She was an official showcase artist at the International Indigenous Music Summit in June 2023. Her song\, “The Ghost Of Emmett Till” was the grand prize winner of the Great American Song Contest in 2021. \n\n\n\nVenues where Thea has performed include Massey Hall (CN)\, Banff Centre For The Arts (CN) Kennedy Center (DC)\, Woody Guthrie Festival (OK)\, the Moseley Folk Festival (UK)\, the Summertyne Americana Festival (UK) and the Bluebird Cafe (TN). Her new album\, “Here In Our World” is scheduled to be released in September 2024. She first came to wider public notice when Peter\, Paul & Mary recorded her song “Jesus Is On The Wire” in 2004\, and then again in 2010 with the Prague Symphony Orchestra. It is considered one of their later signature songs. \n\n\n\n\n\n\n\n\n\n\n\n@theahopkinssongs \n\n\n\n\n\n\n\n\n\n\n\n\n\n@theahopkinssongsall \n\n\n\n\n\n\n\n\n\n\n\n\n\n@theahopkins \n\n\n\n\n\n\n\n\n\n\n\n\n\nwww.theahopkins.com
URL:https://uncommoncorner.org/event/thea-hopkins-2/
CATEGORIES:Live Music
ATTACH;FMTTYPE=image/jpeg:https://uncommoncorner.org/wp-content/uploads/sites/64/2024/06/image0-scaled.jpeg
END:VEVENT
BEGIN:VEVENT
DTSTART;TZID=America/New_York:20250518T140000
DTEND;TZID=America/New_York:20250518T150000
DTSTAMP:20260419T104155
CREATED:20250515T175242Z
LAST-MODIFIED:20250519T192312Z
UID:4592-1747576800-1747580400@uncommoncorner.org
SUMMARY:Jasmine Rochelle Goodspeed
DESCRIPTION:Acoustic and Soulful Sundays featuring Jasmine Rochelle Goodspeed\n\n\n\n\n\nUnCommon Corner is located on Boylston St &\, Tremont St\, Boston\, MA 02116\n\n\n\nJasmine Rochelle Goodspeed[She/They](Nipmuc) is a Massachusetts based actor\, singer/songwriter\, playwright and director. Coming up in a musical family\, Jasmine first stepped on stage at 3 years old. Her music stylings are heavily influenced by her love for musical theater\, and historic  ballads. As an actress\, Jasmine has performed on several stages. Among her favorite performances is a collaboration with the Wampanoag Nation and Theatre Royal Plymouth in the UK where she also performed in a music showcase. Her most frequented of stages is not a stage at all\, but rather various locations at faires\, SCA events\, and flea markets. She does not currently have a Spotify or way to stream her music\, and instead sings and performs where she feels called to\, simply for the fun of it. \n\n\n\n\n\n\n\n\n\n\n\n@jasminerochellegoodspeed \n\n\n\n@Starlenia \n\n\n\n\n\n\n\n\n\n\n\n\n\n@Starlenia \n\n\n\n\n\n\n\n\n\n\n\n\n\nwww.jasminerochellegoodspeed.online
URL:https://uncommoncorner.org/event/jasmine-rochelle-goodspeed/
CATEGORIES:Live Music
ATTACH;FMTTYPE=image/jpeg:https://uncommoncorner.org/wp-content/uploads/sites/64/2025/04/image-1.jpeg
END:VEVENT
BEGIN:VEVENT
DTSTART;TZID=America/New_York:20250518T160000
DTEND;TZID=America/New_York:20250518T180000
DTSTAMP:20260419T104155
CREATED:20250513T022037Z
LAST-MODIFIED:20250513T022039Z
UID:4522-1747584000-1747591200@uncommoncorner.org
SUMMARY:Lee Fish and Friends
DESCRIPTION:Lee Fish will be presenting his exciting trio featuring longtime collaborators – Kevin Harris on keys and Max Ridley on bass. Together they will explore some old soul favorites as well as Fish’s original music which can best be described as a blend of all his favorite styles – ranging from jazz\, soul/r&b to folk and film music. Groove\, melody\, and communication are the core elements that bring their unique sound to life. Keep an eye out for their future tour dates and more upcoming performances in Boston and NYC.
URL:https://uncommoncorner.org/event/lee-fish-and-friends-5/
CATEGORIES:Live Music
ATTACH;FMTTYPE=image/jpeg:https://uncommoncorner.org/wp-content/uploads/sites/64/2023/07/Untitled-design-38.jpg
END:VEVENT
END:VCALENDAR