BEGIN:VCALENDAR
VERSION:2.0
PRODID:-//Emerson College UnCommon Corner - ECPv6.15.19//NONSGML v1.0//EN
CALSCALE:GREGORIAN
METHOD:PUBLISH
X-WR-CALNAME:Emerson College UnCommon Corner
X-ORIGINAL-URL:https://uncommoncorner.org
X-WR-CALDESC:Events for Emerson College UnCommon Corner
REFRESH-INTERVAL;VALUE=DURATION:PT1H
X-Robots-Tag:noindex
X-PUBLISHED-TTL:PT1H
BEGIN:VTIMEZONE
TZID:America/New_York
BEGIN:DAYLIGHT
TZOFFSETFROM:-0500
TZOFFSETTO:-0400
TZNAME:EDT
DTSTART:20240310T070000
END:DAYLIGHT
BEGIN:STANDARD
TZOFFSETFROM:-0400
TZOFFSETTO:-0500
TZNAME:EST
DTSTART:20241103T060000
END:STANDARD
BEGIN:DAYLIGHT
TZOFFSETFROM:-0500
TZOFFSETTO:-0400
TZNAME:EDT
DTSTART:20250309T070000
END:DAYLIGHT
BEGIN:STANDARD
TZOFFSETFROM:-0400
TZOFFSETTO:-0500
TZNAME:EST
DTSTART:20251102T060000
END:STANDARD
BEGIN:DAYLIGHT
TZOFFSETFROM:-0500
TZOFFSETTO:-0400
TZNAME:EDT
DTSTART:20260308T070000
END:DAYLIGHT
BEGIN:STANDARD
TZOFFSETFROM:-0400
TZOFFSETTO:-0500
TZNAME:EST
DTSTART:20261101T060000
END:STANDARD
END:VTIMEZONE
BEGIN:VEVENT
DTSTART;TZID=America/New_York:20250517T130000
DTEND;TZID=America/New_York:20250517T150000
DTSTAMP:20260419T103959
CREATED:20250429T034919Z
LAST-MODIFIED:20250508T024452Z
UID:4399-1747486800-1747494000@uncommoncorner.org
SUMMARY:MARiANO & NENÉ ESCALONA
DESCRIPTION:MARiANO & NENÉ ESCALONA are a father-son duo hailing from Caracas\, Venezuela. NENÉ is a self-taught multi-instrumentalist with a lifelong passion for the Venezuelan cuatro. He is returning to his roots as a performer after a 40 year career behind the camera in film and television. Growing up playing alongside his father\, MARiANO went on to graduate from Berklee College of Music and build his own career as a multi-faceted performer\, even performing at Madison Square Garden and other stadiums and arenas across the U.S. on the iconic Soy Rebelde Tour.  \n\n\n\n      MARiANO & NENÉ will be performing a series of covers\, as well as debuting some of MARiANO’s original songs.  \n\n\n\nsocial handles : \n\n\n\nMARiANO: @marianooooooooooooooooooooooNENÉ: @lavidadesdemilente
URL:https://uncommoncorner.org/event/mariano-nene-escalona/
CATEGORIES:Live Music
ATTACH;FMTTYPE=image/jpeg:https://uncommoncorner.org/wp-content/uploads/sites/64/2025/04/MARiANO-NENE-ESCALONA-picture.jpg
END:VEVENT
END:VCALENDAR