BEGIN:VCALENDAR
VERSION:2.0
PRODID:-//Emerson College UnCommon Corner - ECPv6.15.19//NONSGML v1.0//EN
CALSCALE:GREGORIAN
METHOD:PUBLISH
X-WR-CALNAME:Emerson College UnCommon Corner
X-ORIGINAL-URL:https://uncommoncorner.org
X-WR-CALDESC:Events for Emerson College UnCommon Corner
REFRESH-INTERVAL;VALUE=DURATION:PT1H
X-Robots-Tag:noindex
X-PUBLISHED-TTL:PT1H
BEGIN:VTIMEZONE
TZID:America/New_York
BEGIN:DAYLIGHT
TZOFFSETFROM:-0500
TZOFFSETTO:-0400
TZNAME:EDT
DTSTART:20240310T070000
END:DAYLIGHT
BEGIN:STANDARD
TZOFFSETFROM:-0400
TZOFFSETTO:-0500
TZNAME:EST
DTSTART:20241103T060000
END:STANDARD
BEGIN:DAYLIGHT
TZOFFSETFROM:-0500
TZOFFSETTO:-0400
TZNAME:EDT
DTSTART:20250309T070000
END:DAYLIGHT
BEGIN:STANDARD
TZOFFSETFROM:-0400
TZOFFSETTO:-0500
TZNAME:EST
DTSTART:20251102T060000
END:STANDARD
BEGIN:DAYLIGHT
TZOFFSETFROM:-0500
TZOFFSETTO:-0400
TZNAME:EDT
DTSTART:20260308T070000
END:DAYLIGHT
BEGIN:STANDARD
TZOFFSETFROM:-0400
TZOFFSETTO:-0500
TZNAME:EST
DTSTART:20261101T060000
END:STANDARD
END:VTIMEZONE
BEGIN:VEVENT
DTSTART;TZID=America/New_York:20250508T140000
DTEND;TZID=America/New_York:20250508T160000
DTSTAMP:20260419T103956
CREATED:20250424T171118Z
LAST-MODIFIED:20250506T190453Z
UID:4164-1746712800-1746720000@uncommoncorner.org
SUMMARY:Cabaret Night featuring 172 Below
DESCRIPTION:Join 172 Below\, Emerson’s own cabaret and concert student organization\, at the UnCommon Corner for an evening of cabaret hits.  The theme is “Slumber Party Pop!”  \n\n\n\nFeaturing performances by:Tiffany Alvarez Ben McGeeHaley KirchhoffAutumn McNew Jordan Rochna Hope KimEm SalzmanAmelia DuvalEmily BarnettRowen GoringAsa Dupras
URL:https://uncommoncorner.org/event/cabaret-night-featuring-172-below/
CATEGORIES:Live Music,Special Event
END:VEVENT
BEGIN:VEVENT
DTSTART;TZID=America/New_York:20250508T160000
DTEND;TZID=America/New_York:20250508T180000
DTSTAMP:20260419T103956
CREATED:20250425T001107Z
LAST-MODIFIED:20250425T001433Z
UID:4214-1746720000-1746727200@uncommoncorner.org
SUMMARY:Soulelujah
DESCRIPTION:Formed in 2003 in Cambridge\, Massachusetts\, Soulelujah is an all-vinyl DJ collective and dance party that has been spinning the finest soul\, funk\, and R&B 45s\, along with other slabs of wax\, for the past two decades. Playing freshly-unearthed gems to solid favorites\, this award-winning dance party has become a Boston-area staple\, captivating dance-ready crowds with sweet soul grooves and infectious funk that gets bodies moving. \n\n\n\nWhat began as a modest gathering at ZuZu in Central Square quickly transformed into a weekly\, line-down-the-block beloved Cambridge nightlife institution you had to experience up close and personal. Soulelujah’s room-packing popularity led to its expansion\, adding a second space at The Middle East Upstairs. After 15 years of resounding success\, earning accolades from the Boston Music Awards\, the party moved to The Sinclair in Harvard Square\, establishing a vibrant weekly Saturday night residency for five years. Soulelujah has currently set up shop at State Park in Kendall Square\, hosting its smooth\, pulsating grooves on the third Saturday of each month. \n\n\n\nLed by a rotating crew of seasoned resident soul DJs\, including Raligh Fingers\, IPL\, DJ Rad Joy\, Sean Marquand\, Johnny Stevens\, Claude Money\, Ty Jesso\, and John Funke as well as a variety of guests from around the world\, Soulelujah thrives on an endless collection of records carefully curated to create an uplifting party like no other. Their deep crate-digging\, musical knowledge\, and passion for bringing vinyl rarities to light fuel their performances\, inviting you to experience a dance night of musical soul bliss that will keep your own soul happy. \n\n\n\nwww.soulelujah.com \n\n\n\n@soulelujah on Instagram /  www.facebook.com/Soulelujah \n\n\n\nJohnny Instagram: @jhnystvns
URL:https://uncommoncorner.org/event/soulelujah-2/
CATEGORIES:DJ,Live Music
END:VEVENT
END:VCALENDAR