BEGIN:VCALENDAR
VERSION:2.0
PRODID:-//Emerson College UnCommon Corner - ECPv6.15.19//NONSGML v1.0//EN
CALSCALE:GREGORIAN
METHOD:PUBLISH
X-WR-CALNAME:Emerson College UnCommon Corner
X-ORIGINAL-URL:https://uncommoncorner.org
X-WR-CALDESC:Events for Emerson College UnCommon Corner
REFRESH-INTERVAL;VALUE=DURATION:PT1H
X-Robots-Tag:noindex
X-PUBLISHED-TTL:PT1H
BEGIN:VTIMEZONE
TZID:America/New_York
BEGIN:DAYLIGHT
TZOFFSETFROM:-0500
TZOFFSETTO:-0400
TZNAME:EDT
DTSTART:20240310T070000
END:DAYLIGHT
BEGIN:STANDARD
TZOFFSETFROM:-0400
TZOFFSETTO:-0500
TZNAME:EST
DTSTART:20241103T060000
END:STANDARD
BEGIN:DAYLIGHT
TZOFFSETFROM:-0500
TZOFFSETTO:-0400
TZNAME:EDT
DTSTART:20250309T070000
END:DAYLIGHT
BEGIN:STANDARD
TZOFFSETFROM:-0400
TZOFFSETTO:-0500
TZNAME:EST
DTSTART:20251102T060000
END:STANDARD
BEGIN:DAYLIGHT
TZOFFSETFROM:-0500
TZOFFSETTO:-0400
TZNAME:EDT
DTSTART:20260308T070000
END:DAYLIGHT
BEGIN:STANDARD
TZOFFSETFROM:-0400
TZOFFSETTO:-0500
TZNAME:EST
DTSTART:20261101T060000
END:STANDARD
END:VTIMEZONE
BEGIN:VEVENT
DTSTART;TZID=America/New_York:20250502T120000
DTEND;TZID=America/New_York:20250502T140000
DTSTAMP:20260419T103958
CREATED:20250418T024414Z
LAST-MODIFIED:20250424T162447Z
UID:4072-1746187200-1746194400@uncommoncorner.org
SUMMARY:Jules Grace
DESCRIPTION:Jules Grace is an independent artist from Boston who just released her debut album “Diaries & Daydreams.” She has been playing guitar since she was nine and grew up playing in cover bands. Jules enjoys making a variety of music\, ranging from dreamy indie-pop to heavier rock. Performing on radio station WERS\, Musicians Wanted\, and local venues around Boston\, Jules has been gaining momentum in her music career.
URL:https://uncommoncorner.org/event/jules-grace/
CATEGORIES:Live Music
ATTACH;FMTTYPE=image/jpeg:https://uncommoncorner.org/wp-content/uploads/sites/64/2025/04/01896731-808D-4A1D-B78D-BEE07228A3A3.jpeg
END:VEVENT
BEGIN:VEVENT
DTSTART;TZID=America/New_York:20250502T140000
DTEND;TZID=America/New_York:20250502T160000
DTSTAMP:20260419T103958
CREATED:20250418T024742Z
LAST-MODIFIED:20250424T163454Z
UID:4075-1746194400-1746201600@uncommoncorner.org
SUMMARY:Thom Dunn
DESCRIPTION:Thom Dunn has been writing songs since the late 1900s. He is best known for his work with the Boston-based power-pop band the Roland High Life\, which formed at Emerson College and recently appeared at the Boston Rock & Roll Rumble\, as well as his Irish folk rock group\, Forfocséic. He also performs solo\, as an Americana folk punk singer-songwriter. Over the years\, he’s performed as a guitarist for several touring theatre productions along the northeast corridor\, and his songs have collectively garnered hundreds of thousands of streams. Thom is also a full-time writer and journalist\, whose work can be found in publications ranging from the New York Times to BoingBoing. He’s written several novels\, plays\, comic books\, and scripted podcasts as well. thomdunn.net
URL:https://uncommoncorner.org/event/thom-dunn/
CATEGORIES:Live Music
ATTACH;FMTTYPE=image/jpeg:https://uncommoncorner.org/wp-content/uploads/sites/64/2025/04/JPMusicFest_2023_web-23.jpg
END:VEVENT
BEGIN:VEVENT
DTSTART;TZID=America/New_York:20250502T180000
DTEND;TZID=America/New_York:20250502T200000
DTSTAMP:20260419T103958
CREATED:20250418T025656Z
LAST-MODIFIED:20250425T012239Z
UID:4080-1746208800-1746216000@uncommoncorner.org
SUMMARY:The Femmes
DESCRIPTION:The Femmes are an all-woman and non-binary band specializing in songs by female and non-binary artists. When you’re at a Femmes show\, you’re at a high energy concert experience. Epic sing alongs\, expertly crafted harmonies\, and musicians who absolutely LOVE to interact with the audience\, the Femmes are Boston’s go-to women’s party band!  \n\n\n\nThe Femmes have been booked solid since their sold-out debut showcase at Club Cafe in February 2023. Finding quick success in the MA market and all across New England\, The Femmes have become one of Boston’s top bands\, performing for the Human Rights Campaign\, Boston Pride\, Martha’s Vineyard Pride\, Harley Davidson’s Women’s Rider Day\, and have been featured on CBS News and the Boston Globe. \n\n\n\nSocial Media: @thefemmesband  \n\n\n\nWebsite: thefemmesband.com
URL:https://uncommoncorner.org/event/the-femmes-24/
CATEGORIES:Live Music
ATTACH;FMTTYPE=image/jpeg:https://uncommoncorner.org/wp-content/uploads/sites/64/2025/04/Ginette-Slaughter-IMG_0630-scaled.jpg
END:VEVENT
END:VCALENDAR