BEGIN:VCALENDAR
VERSION:2.0
PRODID:-//Emerson College UnCommon Corner - ECPv6.15.19//NONSGML v1.0//EN
CALSCALE:GREGORIAN
METHOD:PUBLISH
X-ORIGINAL-URL:https://uncommoncorner.org
X-WR-CALDESC:Events for Emerson College UnCommon Corner
REFRESH-INTERVAL;VALUE=DURATION:PT1H
X-Robots-Tag:noindex
X-PUBLISHED-TTL:PT1H
BEGIN:VTIMEZONE
TZID:America/New_York
BEGIN:DAYLIGHT
TZOFFSETFROM:-0500
TZOFFSETTO:-0400
TZNAME:EDT
DTSTART:20230312T070000
END:DAYLIGHT
BEGIN:STANDARD
TZOFFSETFROM:-0400
TZOFFSETTO:-0500
TZNAME:EST
DTSTART:20231105T060000
END:STANDARD
BEGIN:DAYLIGHT
TZOFFSETFROM:-0500
TZOFFSETTO:-0400
TZNAME:EDT
DTSTART:20240310T070000
END:DAYLIGHT
BEGIN:STANDARD
TZOFFSETFROM:-0400
TZOFFSETTO:-0500
TZNAME:EST
DTSTART:20241103T060000
END:STANDARD
BEGIN:DAYLIGHT
TZOFFSETFROM:-0500
TZOFFSETTO:-0400
TZNAME:EDT
DTSTART:20250309T070000
END:DAYLIGHT
BEGIN:STANDARD
TZOFFSETFROM:-0400
TZOFFSETTO:-0500
TZNAME:EST
DTSTART:20251102T060000
END:STANDARD
END:VTIMEZONE
BEGIN:VEVENT
DTSTART;TZID=America/New_York:20240927T120000
DTEND;TZID=America/New_York:20240927T210000
DTSTAMP:20260419T220753
CREATED:20240924T173819Z
LAST-MODIFIED:20240924T173821Z
UID:3887-1727438400-1727470800@uncommoncorner.org
SUMMARY:Flannel Friday!
DESCRIPTION:Celebrate Flannel Friday with Harpoon! \n\n\n\nAnyone who makes a purchase at the bar on Friday while wearing flannel can receive a free koozie! Limit one freebie per person.  \n\n\n\n**Purchasing alcohol is not required – any purchase at all qualifies.
URL:https://uncommoncorner.org/event/flannel-friday/
CATEGORIES:Live Music
ATTACH;FMTTYPE=image/png:https://uncommoncorner.org/wp-content/uploads/sites/64/2024/09/image001.png
END:VEVENT
BEGIN:VEVENT
DTSTART;TZID=America/New_York:20241018T140000
DTEND;TZID=America/New_York:20241018T160000
DTSTAMP:20260419T220753
CREATED:20241016T194928Z
LAST-MODIFIED:20241016T194951Z
UID:3984-1729260000-1729267200@uncommoncorner.org
SUMMARY:Catherine Bent Brazilian Choro
DESCRIPTION:Catherine Bent\, an alumna of Cirque du Soleil\, has performed and recorded with Joe Jackson\, Lee Konitz\, Donna Summer\, and many others. She is regarded in Brazil as the leading cellist in choro. \n\n\n\nChoro (pronounced “shoh-roh”) is an instrumental music that has its origins in late 1800s Rio de Janeiro. It’s been likened to New Orleans jazz\, and shares that tradition’s improvisation\, soulfulness\, and often irrepressible joyfulness. \n\n\n\nhttps://linktr.ee/catherinebentmusic
URL:https://uncommoncorner.org/event/catherine-bent-brazilian-choro/
CATEGORIES:Live Music
ATTACH;FMTTYPE=image/jpeg:https://uncommoncorner.org/wp-content/uploads/sites/64/2024/10/cbent-scaled.jpg
END:VEVENT
BEGIN:VEVENT
DTSTART;TZID=America/New_York:20241018T160000
DTEND;TZID=America/New_York:20241018T180000
DTSTAMP:20260419T220753
CREATED:20240916T165943Z
LAST-MODIFIED:20241009T231002Z
UID:3697-1729267200-1729274400@uncommoncorner.org
SUMMARY:ALDRA
DESCRIPTION:PC: Hayley Bigness Rockwood 2023 \n\n\n\nALDRA is a Somerville\, MA-based performing and recording artist whose music draws influence from soul\, R&B\, and alternative pop. She captivates listeners with velvety tones\, profound lyrics\, and imagery to bring them on a journey through her life experiences.InstagramTikTokFacebookOn the web
URL:https://uncommoncorner.org/event/aldra-2/
CATEGORIES:Live Music
ATTACH;FMTTYPE=image/jpeg:https://uncommoncorner.org/wp-content/uploads/sites/64/2024/08/ALDRA.jpeg
END:VEVENT
BEGIN:VEVENT
DTSTART;TZID=America/New_York:20241018T180000
DTEND;TZID=America/New_York:20241018T200000
DTSTAMP:20260419T220753
CREATED:20240529T180725Z
LAST-MODIFIED:20240529T180726Z
UID:2685-1729274400-1729281600@uncommoncorner.org
SUMMARY:Tolieth
DESCRIPTION:Tolieth is a contemporary soul singer fusing elements of reggae\, Afrobeats\, and pop into an upbeat live performance.  Good vibes and smooth grooves are guaranteed with Tolieth on the mic. \n\n\n\nhttps://tolieth.com/
URL:https://uncommoncorner.org/event/tolieth-15/
CATEGORIES:Live Music
ATTACH;FMTTYPE=image/png:https://uncommoncorner.org/wp-content/uploads/sites/64/2023/04/Tolieth-City-Shoot-6-1-scaled-1.png
END:VEVENT
END:VCALENDAR