BEGIN:VCALENDAR
VERSION:2.0
PRODID:-//Emerson College UnCommon Corner - ECPv6.15.19//NONSGML v1.0//EN
CALSCALE:GREGORIAN
METHOD:PUBLISH
X-ORIGINAL-URL:https://uncommoncorner.org
X-WR-CALDESC:Events for Emerson College UnCommon Corner
REFRESH-INTERVAL;VALUE=DURATION:PT1H
X-Robots-Tag:noindex
X-PUBLISHED-TTL:PT1H
BEGIN:VTIMEZONE
TZID:America/New_York
BEGIN:DAYLIGHT
TZOFFSETFROM:-0500
TZOFFSETTO:-0400
TZNAME:EDT
DTSTART:20230312T070000
END:DAYLIGHT
BEGIN:STANDARD
TZOFFSETFROM:-0400
TZOFFSETTO:-0500
TZNAME:EST
DTSTART:20231105T060000
END:STANDARD
BEGIN:DAYLIGHT
TZOFFSETFROM:-0500
TZOFFSETTO:-0400
TZNAME:EDT
DTSTART:20240310T070000
END:DAYLIGHT
BEGIN:STANDARD
TZOFFSETFROM:-0400
TZOFFSETTO:-0500
TZNAME:EST
DTSTART:20241103T060000
END:STANDARD
BEGIN:DAYLIGHT
TZOFFSETFROM:-0500
TZOFFSETTO:-0400
TZNAME:EDT
DTSTART:20250309T070000
END:DAYLIGHT
BEGIN:STANDARD
TZOFFSETFROM:-0400
TZOFFSETTO:-0500
TZNAME:EST
DTSTART:20251102T060000
END:STANDARD
END:VTIMEZONE
BEGIN:VEVENT
DTSTART;TZID=America/New_York:20241016T160000
DTEND;TZID=America/New_York:20241016T180000
DTSTAMP:20260419T220754
CREATED:20241002T143027Z
LAST-MODIFIED:20241015T194100Z
UID:3920-1729094400-1729101600@uncommoncorner.org
SUMMARY:Brooke Annibale Band
DESCRIPTION:Not confined by any one genre\, Brooke Annibale’s expressive and beautifully thoughtful songwriting creates a dreamy\, dark\, and enticing sonic landscape. Her songs have been placed on many TV shows including Grey’s Anatomy\, Pretty Little Liars\, and One Tree Hill. Brooke has recently performed on SiriusXM The Coffee House\, AudioTree Live\, Paste and more. ​Brooke’s new album Better By Now is out now.  \n\n\n\nhttp://brookeannibale.comInstagramFacebookBrooke on XTikTok @brookeannibale
URL:https://uncommoncorner.org/event/brooke-annibale-band-3/
CATEGORIES:Live Music
ATTACH;FMTTYPE=image/jpeg:https://uncommoncorner.org/wp-content/uploads/sites/64/2023/05/Untitled-design-15.jpg
END:VEVENT
BEGIN:VEVENT
DTSTART;TZID=America/New_York:20241016T180000
DTEND;TZID=America/New_York:20241016T200000
DTSTAMP:20260419T220754
CREATED:20241008T161220Z
LAST-MODIFIED:20241008T161221Z
UID:3946-1729101600-1729108800@uncommoncorner.org
SUMMARY:Ron Reid
DESCRIPTION:Ron Reid is a bassist\, steel drummer\, educator and composer. The Trinidadian musician is also a Professor of Contemporary Writing and Production at Berklee College of Music. He has performed with Randy Weston\, Carmen Lundy\, Dave Samuels Caribbean Jazz Project as well as a host of notable calypso and soca artists. He has three CDs as a leader\, the most recent ‘Precious Metals’ was released on the Jazz Urbane label. Ron also leads the Sunsteel Quintet in which he exclusively plays steel pans. \n\n\n\nronreid.com \n\n\n\nInstagram – @ronreidmusic \n\n\n\nFacebook – Ron Reid
URL:https://uncommoncorner.org/event/ron-reid-4/
CATEGORIES:Live Music
ATTACH;FMTTYPE=image/jpeg:https://uncommoncorner.org/wp-content/uploads/sites/64/2023/07/Untitled-design-37.jpg
END:VEVENT
END:VCALENDAR