BEGIN:VCALENDAR
VERSION:2.0
PRODID:-//Emerson College UnCommon Corner - ECPv6.15.19//NONSGML v1.0//EN
CALSCALE:GREGORIAN
METHOD:PUBLISH
X-ORIGINAL-URL:https://uncommoncorner.org
X-WR-CALDESC:Events for Emerson College UnCommon Corner
REFRESH-INTERVAL;VALUE=DURATION:PT1H
X-Robots-Tag:noindex
X-PUBLISHED-TTL:PT1H
BEGIN:VTIMEZONE
TZID:America/New_York
BEGIN:DAYLIGHT
TZOFFSETFROM:-0500
TZOFFSETTO:-0400
TZNAME:EDT
DTSTART:20230312T070000
END:DAYLIGHT
BEGIN:STANDARD
TZOFFSETFROM:-0400
TZOFFSETTO:-0500
TZNAME:EST
DTSTART:20231105T060000
END:STANDARD
BEGIN:DAYLIGHT
TZOFFSETFROM:-0500
TZOFFSETTO:-0400
TZNAME:EDT
DTSTART:20240310T070000
END:DAYLIGHT
BEGIN:STANDARD
TZOFFSETFROM:-0400
TZOFFSETTO:-0500
TZNAME:EST
DTSTART:20241103T060000
END:STANDARD
BEGIN:DAYLIGHT
TZOFFSETFROM:-0500
TZOFFSETTO:-0400
TZNAME:EDT
DTSTART:20250309T070000
END:DAYLIGHT
BEGIN:STANDARD
TZOFFSETFROM:-0400
TZOFFSETTO:-0500
TZNAME:EST
DTSTART:20251102T060000
END:STANDARD
END:VTIMEZONE
BEGIN:VEVENT
DTSTART;TZID=America/New_York:20241014T120000
DTEND;TZID=America/New_York:20241014T210000
DTSTAMP:20260419T220743
CREATED:20241002T150932Z
LAST-MODIFIED:20241008T230258Z
UID:3707-1728907200-1728939600@uncommoncorner.org
SUMMARY:Indigenous Peoples' Day Celebration!
DESCRIPTION:Boylston T Stop\, Boylston St & Tremont St\, Boston\, MA 02116 \n\n\n\n\n\n\n\n\n\n\n\n\n\n \n\n\n\nIn celebration of Indigenous Peoples’ Day\, UnCommon Stage is proud to host a special takeover of the stage curated by Cultural Consultant Maria Hendricks! \n\n\n\n\n\n1-2 PM | Thea Hopkins\n\n\n\n\n\n\n\n\n\n\n\n\nA member of the Aquinnah Wampanoag tribe of Martha’s Vineyard MA\, internationally performing songwriter Thea Hopkins calls her music Red Roots Americana. The Washington Post described Thea as a “standout writer”. Festivals and venues where Thea has performed include the Kennedy Center (DC)\, Woody Guthrie Festival (OK)\, the Green Note (UK)\, the Brooklyn Americana Festival (UK)\, Moseley Folk Festival (UK)\, Greenbelt Festival (UK)\, Saltaire Festival (UK)\, Summertyne Americana Festival (UK)\, the Atkinson (UK)\,  American Folk Art Museum (NY)\, Bluebird Cafe (TN). Her new album\, “Here In Our World”\, is scheduled to be released in January 2025. \n\n\n\n\n\n\n\n\n2-3 PM | Geri Barney\n\n\n\n\n\n\n\nGeraldine Barney\n\n\n\n\n\nGeraldine Barney’s music explores the relationship between the traditional Navajo values and beliefs she grew up with on the Navajo Reservation in Northwest New Mexico with contemporary city life off the reservation. Living in two cultures is a prominent theme in her music and art. \n\n\n\nGeraldine studied the Native American Flute at the Institute of American Indian Arts in Santa Fe\, NM. \n\n\n\nGeraldine\, singer and song writer whose work is included in two Smithsonian Folkways CD’s; “Music of New Mexico: Native American Traditions” and “Heartbeat: Voices of First Nations Women”. \n\n\n\n\n\n\n\n\n\n\n\n\n\n3-4 PM | MaDarrius Maximus & Friends\n\n\n\n\n\n\n\n\n\n\n\n\n\nMaDarrius Maximus – From Mattapan To Mashpee Massachusetts! has performed in Connecticut with the  “Coast To Coast” Tours Dj Franchise available on YouTube \n\n\n\nHe also had the good fortune to perform with Jadakiss\, Freeway\, Mickey Facts\, Cuban Linx & Boston’s Own Chilla Jones.   \n\n\n\n Local Performances Include The Music Room In Yarmouth\, various Churches and around the Cape\, Cyphers at Bridge Side in Cambridge and other bars & clubs.  \n\n\n\nFrom Boston To Brooklyn New York! You Can Find My Music By Looking Up MaDarrius Maximus On Any  streaming Platform. \n\n\n\nMadarrius Maximus – Easy To Remember Impossible To Forget!Featuring Rock Dicey (Bli$$\, Big Mike & Rock Dicey) \n\n\n\n\n\n\n\n\n\n\n\n\n\n4:15-5:00 PM | The Red Hawk Singers and Dancers\n\n\n\n\n\n\n\n\n\n\n\nThe Red Hawk Singers and Dancers are a collective of Indigenous Wampanoag artists and activists sharing education through music\, art & culture. \n\n\n\n\n\n\n\n\n\n5:15-6:00 PM | Poly-Groove Records Revue\n\n\n\n\n\n\n\n\n\n\n\n\n\nPOLY-GROOVE RECORDS (PGR) stands as a label\, artist management\, and booking company committed to bringing ‘The Sound of a Good Time!’ to the masses. Their signature THUMP & SOUL movement\, blending Soul\, Rock\, Funk\, Hip-Hop\, and Afrobeats\, resonates across live music venues\, lounges\, festivals\, and concerts throughout southeastern New England. \n\n\n\nPGR is the epicenter of a vibrant sonic landscape\, and prides itself on fostering an exceptional roster of artists who embody the essence of the THUMP & SOUL spirit. Joining forces with PGR means embracing a journey where the joy of music knows no bounds.
URL:https://uncommoncorner.org/event/ipd-special-event-placeholder/
CATEGORIES:Announcement,Live Music,Special Event
ATTACH;FMTTYPE=image/png:https://uncommoncorner.org/wp-content/uploads/sites/64/2024/08/DayOfPlay_banner-1.png
END:VEVENT
END:VCALENDAR