BEGIN:VCALENDAR
VERSION:2.0
PRODID:-//Emerson College UnCommon Corner - ECPv6.15.19//NONSGML v1.0//EN
CALSCALE:GREGORIAN
METHOD:PUBLISH
X-ORIGINAL-URL:https://uncommoncorner.org
X-WR-CALDESC:Events for Emerson College UnCommon Corner
REFRESH-INTERVAL;VALUE=DURATION:PT1H
X-Robots-Tag:noindex
X-PUBLISHED-TTL:PT1H
BEGIN:VTIMEZONE
TZID:America/New_York
BEGIN:DAYLIGHT
TZOFFSETFROM:-0500
TZOFFSETTO:-0400
TZNAME:EDT
DTSTART:20230312T070000
END:DAYLIGHT
BEGIN:STANDARD
TZOFFSETFROM:-0400
TZOFFSETTO:-0500
TZNAME:EST
DTSTART:20231105T060000
END:STANDARD
BEGIN:DAYLIGHT
TZOFFSETFROM:-0500
TZOFFSETTO:-0400
TZNAME:EDT
DTSTART:20240310T070000
END:DAYLIGHT
BEGIN:STANDARD
TZOFFSETFROM:-0400
TZOFFSETTO:-0500
TZNAME:EST
DTSTART:20241103T060000
END:STANDARD
BEGIN:DAYLIGHT
TZOFFSETFROM:-0500
TZOFFSETTO:-0400
TZNAME:EDT
DTSTART:20250309T070000
END:DAYLIGHT
BEGIN:STANDARD
TZOFFSETFROM:-0400
TZOFFSETTO:-0500
TZNAME:EST
DTSTART:20251102T060000
END:STANDARD
END:VTIMEZONE
BEGIN:VEVENT
DTSTART;TZID=America/New_York:20241012T130000
DTEND;TZID=America/New_York:20241012T150000
DTSTAMP:20260419T220753
CREATED:20241009T142211Z
LAST-MODIFIED:20241009T220121Z
UID:3958-1728738000-1728745200@uncommoncorner.org
SUMMARY:Fernando Brandão Quartet
DESCRIPTION:Flautist\, composer\, author\, and educator Fernando Brandão is celebrated for his extensive performances as a bandleader\, sideman\, chamber musician\, and soloist\, showcasing his talent across various ensembles and esteemed orchestras in Brazil and the US. A versatile artist proficient in concert\, alto\, bass flutes\, and pífanos\, Fernando delivers a diverse repertoire encompassing traditional and contemporary Brazilian\, jazz\, and classical music.He has performed at renowned venues and festivals such as the Celebrity Series in Boston\, First Cambridge Jazz Festival\, Beantown Jazz Festival\, Isabella Gardner Museum\, and jazz festivals across multiple US states. Fernando’s seventh album\, “Imagine 5\,” released in 2019\, exemplifies his roles as a producer\, composer\, and bandleader. As a sideman\, he has contributed to over 40 albums\, collaborating with distinguished artists like Luciana Souza\, Toninho Horta\, Maria Teresa Madeira\, Bruno Råberg\, Matthew Nicholl\, Kris Adams\, John Stein\, Pablo Ablanedo\, and many others.A dedicated educator in Brazilian music\, Fernando has served as a Professor at Berklee College of Music and faculty at the Community Music Center of Boston for over 25 years. His lectures on Brazilian music genres\, history\, and composers have been presented at various institutions in the US and Brazil. The widely acclaimed textbook “Brazilian and Afro-Cuban Jazz Conception\,” published by Advance Music\, attests to Fernando’s authoritative contributions. He has received numerous accolades\, including victories in national competitions in Brazil and winning the 1991 Pappoutsakis Flute Competition in Boston.
URL:https://uncommoncorner.org/event/fernando-brandao-quartet/
CATEGORIES:Live Music
ATTACH;FMTTYPE=image/jpeg:https://uncommoncorner.org/wp-content/uploads/sites/64/2024/10/Fernando-Brandao-img.jpg
END:VEVENT
BEGIN:VEVENT
DTSTART;TZID=America/New_York:20241012T150000
DTEND;TZID=America/New_York:20241012T170000
DTSTAMP:20260419T220753
CREATED:20240718T200152Z
LAST-MODIFIED:20240718T200153Z
UID:3358-1728745200-1728752400@uncommoncorner.org
SUMMARY:Manolo Mairena
DESCRIPTION:Singer-songwriter\, producer\, and multi-instrumentalist Manolo Mairena is a Costa Rican artist based in Boston. His captivating music and dynamic stage presence have garnered him an international following. Mairena has released three original albums: “Mi Oportunidad” in 2008\, “De Todo Un Poco” in 2018\, and his latest\, “Esto es lo que Hay\,” in November 2023. \n\n\n\nHis music passionately reflects his love for traditions and culture\, defining his career with exceptional performances that resonate profoundly with audiences. Drawing on a rich tapestry of influences from Latin America and inspired by legendary soneros such as Ismael Cortijo and Ismael Rivera\, Mairena’s style is both diverse and distinct. His performances are consistently praised by fans and industry professionals for their energy and emotional impact. \n\n\n\nThroughout his career\, Mairena has collaborated with a wide array of talented artists\, including Chucho Valdez\, Gonzalo Grau & La Clave Secreta\, and Gonzalo Rubalcaba. He has toured globally and participated in notable projects like the Latin Grammy-nominated “Frutero Moderno\,” “La pasión segun San Mateo\,” and a tribute to the late Tito Rodriguez\, among others. These collaborations have further solidified his reputation as a versatile and passionate musician.
URL:https://uncommoncorner.org/event/manolo-mairena-4/
CATEGORIES:Live Music
ATTACH;FMTTYPE=image/jpeg:https://uncommoncorner.org/wp-content/uploads/sites/64/2024/05/Manolo-Mairena.jpeg
END:VEVENT
BEGIN:VEVENT
DTSTART;TZID=America/New_York:20241012T180000
DTEND;TZID=America/New_York:20241012T200000
DTSTAMP:20260419T220753
CREATED:20241002T164532Z
LAST-MODIFIED:20241002T164602Z
UID:3934-1728756000-1728763200@uncommoncorner.org
SUMMARY:The Femmes
DESCRIPTION:The Femmes are an all-woman and non-binary wedding band specializing in songs by female and non-binary artists. When you’re at a Femmes show\, you’re at a high energy concert experience. Epic sing-alongs\, expertly crafted harmonies\, and musicians who absolutely LOVE to interact with the audience\, the Femmes are Boston’s go-to women’s party band! Our roster includes Berklee alumni\, touring artists\, veteran wedding band performers\, and pit band musicians with over 10 years of professional experience. \n\n\n\nSocial Media: @thefemmesband  \n\n\n\nWebsite: thefemmesband.com
URL:https://uncommoncorner.org/event/the-femmes-23/
CATEGORIES:Live Music
ATTACH;FMTTYPE=image/jpeg:https://uncommoncorner.org/wp-content/uploads/sites/64/2023/06/Untitled-design-25.jpg
END:VEVENT
END:VCALENDAR