BEGIN:VCALENDAR
VERSION:2.0
PRODID:-//Emerson College UnCommon Corner - ECPv6.15.19//NONSGML v1.0//EN
CALSCALE:GREGORIAN
METHOD:PUBLISH
X-ORIGINAL-URL:https://uncommoncorner.org
X-WR-CALDESC:Events for Emerson College UnCommon Corner
REFRESH-INTERVAL;VALUE=DURATION:PT1H
X-Robots-Tag:noindex
X-PUBLISHED-TTL:PT1H
BEGIN:VTIMEZONE
TZID:America/New_York
BEGIN:DAYLIGHT
TZOFFSETFROM:-0500
TZOFFSETTO:-0400
TZNAME:EDT
DTSTART:20230312T070000
END:DAYLIGHT
BEGIN:STANDARD
TZOFFSETFROM:-0400
TZOFFSETTO:-0500
TZNAME:EST
DTSTART:20231105T060000
END:STANDARD
BEGIN:DAYLIGHT
TZOFFSETFROM:-0500
TZOFFSETTO:-0400
TZNAME:EDT
DTSTART:20240310T070000
END:DAYLIGHT
BEGIN:STANDARD
TZOFFSETFROM:-0400
TZOFFSETTO:-0500
TZNAME:EST
DTSTART:20241103T060000
END:STANDARD
BEGIN:DAYLIGHT
TZOFFSETFROM:-0500
TZOFFSETTO:-0400
TZNAME:EDT
DTSTART:20250309T070000
END:DAYLIGHT
BEGIN:STANDARD
TZOFFSETFROM:-0400
TZOFFSETTO:-0500
TZNAME:EST
DTSTART:20251102T060000
END:STANDARD
END:VTIMEZONE
BEGIN:VEVENT
DTSTART;TZID=America/New_York:20241005T130000
DTEND;TZID=America/New_York:20241005T150000
DTSTAMP:20260419T220743
CREATED:20240913T201548Z
LAST-MODIFIED:20240913T201549Z
UID:3831-1728133200-1728140400@uncommoncorner.org
SUMMARY:Palo Rosa y Cuerdas
DESCRIPTION:Experience the mesmerizing fusion of Afro rhythms\, classical guitar\, and Cuban Tres improvisations in every performance. \n\n\n\nThe trio is brought to you by Iris\, a Cuban multi-instrumentalist\, arranger\, and composer whose work in this project showcases a passion for classical repertoire and Afro-Latin rhythms\, as well as the storytelling of folk music\, blending tradition with innovation. Iris\, on guitar\, alongside incredible artists such as Olivia Soler and Rafael Heredia\, creates a joyful journey for audiences to enjoy.
URL:https://uncommoncorner.org/event/palo-rosa-y-cuerdas/
CATEGORIES:Live Music
ATTACH;FMTTYPE=image/jpeg:https://uncommoncorner.org/wp-content/uploads/sites/64/2024/05/Palo-Rosa-Cuerda.jpeg
END:VEVENT
BEGIN:VEVENT
DTSTART;TZID=America/New_York:20241005T150000
DTEND;TZID=America/New_York:20241005T170000
DTSTAMP:20260419T220743
CREATED:20240718T195938Z
LAST-MODIFIED:20240718T195939Z
UID:3352-1728140400-1728147600@uncommoncorner.org
SUMMARY:Leo Blanco
DESCRIPTION:The music of pianist and composer Leo Blanco pulses with global rhythmic elements influenced equally by his South American roots and European classical traditions interwoven with improvisatory developments. \n\n\n\nIn 1997 Blanco became the first Latin American to win to the prestigious Boston Jazz Society Award. The next year\, he received the Billboard Grant Award for his commitment\, achievement and contribution to society through music. Currently\, he is a faculty member at Berklee College of Music. Most recently\, Leo was a 2021 recipient of the Mass Cultural Council Award. \n\n\n\nhttps://www.leoblanco.com/home-english
URL:https://uncommoncorner.org/event/leo-blanco-3/
CATEGORIES:Live Music
ATTACH;FMTTYPE=image/jpeg:https://uncommoncorner.org/wp-content/uploads/sites/64/2024/05/GALERIA3.jpg
END:VEVENT
BEGIN:VEVENT
DTSTART;TZID=America/New_York:20241005T180000
DTEND;TZID=America/New_York:20241005T200000
DTSTAMP:20260419T220743
CREATED:20240620T170135Z
LAST-MODIFIED:20240620T170137Z
UID:2906-1728151200-1728158400@uncommoncorner.org
SUMMARY:Daniel Sturgis
DESCRIPTION:Daniel Sturgis is a talented musician hailing from the vibrant music scene of Cape Cod. With a musical style that seamlessly blends alternative\, funk\, pop\, and rock\, Sturgis has created a captivating sound that is uniquely his own. Influenced by legendary artists such as Jimmy Hendrix\, B.B. King\, and The Beatles\, Sturgis draws inspiration from the rich history of music while also pushing boundaries and experimenting with new sonic landscapes.  \n\n\n\n Having honed his craft at the prestigious Berklee College of Music\, Sturgis is a true master of his instrument. His impressive guitar skills\, combined with his soulful vocals and dynamic stage presence\, make for a captivating live performance that leaves audiences in awe. Sturgis’ talents have not gone unnoticed\, as he emerged victorious in the Cape Cod Battle of the Bands in 2011. This accomplishment solidified his place among the region’s most promising musicians and propelled him to new heights in his career.  \n\n\n\nCurrently\, Daniel Sturgis is focused on his ongoing musical projects\, constantly pushing himself to create fresh and innovative music. Whether he’s writing thought-provoking lyrics or crafting infectious melodies\, Sturgis consistently delivers music that resonates with listeners on a profound level. With a diverse range of influences and a dedication to his craft\, Daniel Sturgis is an artist to watch. With each new endeavor\, he continues to captivate audiences and push the boundaries of his musical style. As he navigates the ever-evolving music industry\, Sturgis remains poised to make a lasting impact with his unique sound and unbridled passion for music. \n\n\n\nFacebook.com/Danielsturgisband \n\n\n\nInstagram: @danielsturgis
URL:https://uncommoncorner.org/event/daniel-sturgis-9/
CATEGORIES:Live Music
ATTACH;FMTTYPE=image/jpeg:https://uncommoncorner.org/wp-content/uploads/sites/64/2023/10/Untitled-design-61.jpg
END:VEVENT
END:VCALENDAR