BEGIN:VCALENDAR
VERSION:2.0
PRODID:-//Emerson College UnCommon Corner - ECPv6.15.19//NONSGML v1.0//EN
CALSCALE:GREGORIAN
METHOD:PUBLISH
X-ORIGINAL-URL:https://uncommoncorner.org
X-WR-CALDESC:Events for Emerson College UnCommon Corner
REFRESH-INTERVAL;VALUE=DURATION:PT1H
X-Robots-Tag:noindex
X-PUBLISHED-TTL:PT1H
BEGIN:VTIMEZONE
TZID:America/New_York
BEGIN:DAYLIGHT
TZOFFSETFROM:-0500
TZOFFSETTO:-0400
TZNAME:EDT
DTSTART:20230312T070000
END:DAYLIGHT
BEGIN:STANDARD
TZOFFSETFROM:-0400
TZOFFSETTO:-0500
TZNAME:EST
DTSTART:20231105T060000
END:STANDARD
BEGIN:DAYLIGHT
TZOFFSETFROM:-0500
TZOFFSETTO:-0400
TZNAME:EDT
DTSTART:20240310T070000
END:DAYLIGHT
BEGIN:STANDARD
TZOFFSETFROM:-0400
TZOFFSETTO:-0500
TZNAME:EST
DTSTART:20241103T060000
END:STANDARD
BEGIN:DAYLIGHT
TZOFFSETFROM:-0500
TZOFFSETTO:-0400
TZNAME:EDT
DTSTART:20250309T070000
END:DAYLIGHT
BEGIN:STANDARD
TZOFFSETFROM:-0400
TZOFFSETTO:-0500
TZNAME:EST
DTSTART:20251102T060000
END:STANDARD
END:VTIMEZONE
BEGIN:VEVENT
DTSTART;TZID=America/New_York:20240927T120000
DTEND;TZID=America/New_York:20240927T210000
DTSTAMP:20260419T220716
CREATED:20240924T173819Z
LAST-MODIFIED:20240924T173821Z
UID:3887-1727438400-1727470800@uncommoncorner.org
SUMMARY:Flannel Friday!
DESCRIPTION:Celebrate Flannel Friday with Harpoon! \n\n\n\nAnyone who makes a purchase at the bar on Friday while wearing flannel can receive a free koozie! Limit one freebie per person.  \n\n\n\n**Purchasing alcohol is not required – any purchase at all qualifies.
URL:https://uncommoncorner.org/event/flannel-friday/
CATEGORIES:Live Music
ATTACH;FMTTYPE=image/png:https://uncommoncorner.org/wp-content/uploads/sites/64/2024/09/image001.png
END:VEVENT
BEGIN:VEVENT
DTSTART;TZID=America/New_York:20241004T140000
DTEND;TZID=America/New_York:20241004T160000
DTSTAMP:20260419T220716
CREATED:20240810T165116Z
LAST-MODIFIED:20240810T165118Z
UID:3494-1728050400-1728057600@uncommoncorner.org
SUMMARY:Zahili Gonzalez Zamora
DESCRIPTION:Zahili Gonzalez Zamora is a Cuban pianist\, composer\, bandleader\, arranger\, and educator. She feels most defined by her Cuban heritage and her status as an immigrant. Her passion for music has taken her to Canada\, to South East Asia and\, now\, to the United States. Her rich musical background\, career experience and extraordinary improvisation skills render her a leader in the modern Latin jazz idiom and an influential\, emulated musician. \n\n\n\n​In 2018\, her Afro-Cuban jazz Trio\, MIXCLA\, released its self-titled album\, which features her original tunes and arrangements. It has received critical acclaim and earned the attention of major agents locally and internationally. The album has thus far advanced in the world of jazz\, adding to her accolades two nominations from the Boston Music Awards (2018 & 2019). \n\n\n\nhttps://www.zahilizamora.com \n\n\n\nhttps://www.instagram.com/zahiligz/
URL:https://uncommoncorner.org/event/zahili-gonzalez-zamora-10/
CATEGORIES:Live Music
ATTACH;FMTTYPE=image/jpeg:https://uncommoncorner.org/wp-content/uploads/sites/64/2023/07/Untitled-design-41.jpg
END:VEVENT
BEGIN:VEVENT
DTSTART;TZID=America/New_York:20241004T160000
DTEND;TZID=America/New_York:20241004T180000
DTSTAMP:20260419T220716
CREATED:20240924T173050Z
LAST-MODIFIED:20240924T173052Z
UID:3692-1728057600-1728064800@uncommoncorner.org
SUMMARY:Fabi & Will
DESCRIPTION:Fabiola Méndez and Will Dailey bring their duo project to the Uncommon Stage\, which originally began back at Roundhead Brewing in Hyde Park\, MA.  Fabi and Will were paired as part of a 6 month mentorship program\, hosted and activated by Departure Arts. \n\n\n\nGuitarist/vocalist/songwriter Will Dailey and cuatrista/singer/composer Fabiola Méndez will share their own music inspired by their conversations together\, while also sharing stories throughout the performance of their recent mentorship journey.
URL:https://uncommoncorner.org/event/fabi-will/
CATEGORIES:Live Music
ATTACH;FMTTYPE=image/jpeg:https://uncommoncorner.org/wp-content/uploads/sites/64/2023/09/Untitled-design-58.jpg
END:VEVENT
BEGIN:VEVENT
DTSTART;TZID=America/New_York:20241004T180000
DTEND;TZID=America/New_York:20241004T200000
DTSTAMP:20260419T220717
CREATED:20240621T175121Z
LAST-MODIFIED:20240621T175123Z
UID:2943-1728064800-1728072000@uncommoncorner.org
SUMMARY:Dwayne Haggins
DESCRIPTION:He’s been described as “the love child of Otis Redding and Doc Watson.” “The John Legend of rockabilly.” And recently\, “a ‘what-took-you-so-long’ fusion of Elvis and Marvin Gaye.” But he is Dwayne Haggins\, and his voice is his own. Whether on the stage of a metropolitan concert hall or the makeshift bandstand of a neighborhood dive\, you will find him exploring uncharted musical territories\, listening for new ways to stir his influences into this night’s expression of his unique sound – strangely familiar\, naturally mysterious\, unmistakably his own. \n\n\n\nNotably\, Haggins has shared the stage with acts such as Joe Bonamassa\, Keb Mo\, Jimmy Vivino\, Chris Lane\, Suzanne Santo\, and Fitz and the Tantrums. Haggins was signed in November of 2021 and his Verdict debut LP was released in June of 2022 titled “Call Me Boston”. \n\n\n\ndwaynehaggins.com \n\n\n\nInstagram & FB: @hagginsmusic
URL:https://uncommoncorner.org/event/dwayne-haggins-19/
CATEGORIES:Live Music
ATTACH;FMTTYPE=image/jpeg:https://uncommoncorner.org/wp-content/uploads/sites/64/2023/05/Untitled-design-14.jpg
END:VEVENT
END:VCALENDAR