BEGIN:VCALENDAR
VERSION:2.0
PRODID:-//Emerson College UnCommon Corner - ECPv6.15.19//NONSGML v1.0//EN
CALSCALE:GREGORIAN
METHOD:PUBLISH
X-WR-CALNAME:Emerson College UnCommon Corner
X-ORIGINAL-URL:https://uncommoncorner.org
X-WR-CALDESC:Events for Emerson College UnCommon Corner
REFRESH-INTERVAL;VALUE=DURATION:PT1H
X-Robots-Tag:noindex
X-PUBLISHED-TTL:PT1H
BEGIN:VTIMEZONE
TZID:America/New_York
BEGIN:DAYLIGHT
TZOFFSETFROM:-0500
TZOFFSETTO:-0400
TZNAME:EDT
DTSTART:20230312T070000
END:DAYLIGHT
BEGIN:STANDARD
TZOFFSETFROM:-0400
TZOFFSETTO:-0500
TZNAME:EST
DTSTART:20231105T060000
END:STANDARD
BEGIN:DAYLIGHT
TZOFFSETFROM:-0500
TZOFFSETTO:-0400
TZNAME:EDT
DTSTART:20240310T070000
END:DAYLIGHT
BEGIN:STANDARD
TZOFFSETFROM:-0400
TZOFFSETTO:-0500
TZNAME:EST
DTSTART:20241103T060000
END:STANDARD
BEGIN:DAYLIGHT
TZOFFSETFROM:-0500
TZOFFSETTO:-0400
TZNAME:EDT
DTSTART:20250309T070000
END:DAYLIGHT
BEGIN:STANDARD
TZOFFSETFROM:-0400
TZOFFSETTO:-0500
TZNAME:EST
DTSTART:20251102T060000
END:STANDARD
END:VTIMEZONE
BEGIN:VEVENT
DTSTART;TZID=America/New_York:20240922T120000
DTEND;TZID=America/New_York:20240922T140000
DTSTAMP:20260419T233921
CREATED:20240918T145624Z
LAST-MODIFIED:20240918T202613Z
UID:3847-1727006400-1727013600@uncommoncorner.org
SUMMARY:Alyssa Barker
DESCRIPTION:Join us for an afternoon of jazz with Alyssa Barker on violin and Chris Bramel on guitar\, presented by Jazz Urbane. This talented duo\, representing the spirit and innovation of Jazz Urbane\, brings a fresh take on classic jazz standards\, blending the warm\, melodic sound of the violin with the rhythmic and harmonic textures of the guitar. Their set features timeless favorites along with surprising jazz interpretations of popular songs\, offering something for everyone. \n\n\n\n\n\n \n\n\n\nEmbark on a musical journey with Alyssa Barker\, a violinist celebrated for her transcendent performances that seamlessly blend classical elegance with contemporary innovation. Alyssa specializes in both acoustic and electric violin performances\, showcasing her versatility and unique ability to bridge traditional and modern musical worlds. Alyssa’s extraordinary talent has graced iconic stages worldwide\, leaving an indelible mark on the classical music scene. Her musical odyssey has flourished under the guidance of renowned mentors\, including Dr. Bill Banfield\, Julius Williams\, and original Trans Siberian Orchestra member Mark Wood. Having studied with these luminaries\, she not only honed her technical prowess but also developed a unique artistic voice that sets her apart. Mark Wood\, praising her exceptional skill and leadership\, remarked\, “Not only is Alyssa a master on the violin\, but she also has tremendous talent in leadership and commitment to her passion\, which is music and life.” Known for her collaborative spirit\, Alyssa has shared the stage with Grammy Award-winning and nominated artists such as Larry Klein\, Allen Stone\, Daymé Arocena\, Kenny Werner\, and Sweet Honey in the Rock. Her performances resonate with a fusion of genres\, showcasing a dynamic range that captivates audiences around the globe. Alyssa’s impressive repertoire includes performances at illustrious venues like Carnegie Hall in New York and Symphony Hall in Boston. Beyond the classical realm\, she has made significant contributions to the world of film and comedy\, featuring on the Original Motion Picture Soundtrack of the Academy Award-contending documentary “Sky Blossom: Diaries of the Next Greatest Generation” and appearing on the latest Sarah Silverman comedy special\, “Someone You Love.”Web@alyssabarkermusic Everywhere
URL:https://uncommoncorner.org/event/alyssa-barker-2/
CATEGORIES:Live Music
ATTACH;FMTTYPE=image/jpeg:https://uncommoncorner.org/wp-content/uploads/sites/64/2024/07/Alyssa-Barker-Electric-scaled.jpg
END:VEVENT
BEGIN:VEVENT
DTSTART;TZID=America/New_York:20240922T160000
DTEND;TZID=America/New_York:20240922T180000
DTSTAMP:20260419T233921
CREATED:20240620T170050Z
LAST-MODIFIED:20240620T170052Z
UID:2904-1727020800-1727028000@uncommoncorner.org
SUMMARY:Daniel Sturgis
DESCRIPTION:Daniel Sturgis is a talented musician hailing from the vibrant music scene of Cape Cod. With a musical style that seamlessly blends alternative\, funk\, pop\, and rock\, Sturgis has created a captivating sound that is uniquely his own. Influenced by legendary artists such as Jimmy Hendrix\, B.B. King\, and The Beatles\, Sturgis draws inspiration from the rich history of music while also pushing boundaries and experimenting with new sonic landscapes.  \n\n\n\n Having honed his craft at the prestigious Berklee College of Music\, Sturgis is a true master of his instrument. His impressive guitar skills\, combined with his soulful vocals and dynamic stage presence\, make for a captivating live performance that leaves audiences in awe. Sturgis’ talents have not gone unnoticed\, as he emerged victorious in the Cape Cod Battle of the Bands in 2011. This accomplishment solidified his place among the region’s most promising musicians and propelled him to new heights in his career.  \n\n\n\nCurrently\, Daniel Sturgis is focused on his ongoing musical projects\, constantly pushing himself to create fresh and innovative music. Whether he’s writing thought-provoking lyrics or crafting infectious melodies\, Sturgis consistently delivers music that resonates with listeners on a profound level. With a diverse range of influences and a dedication to his craft\, Daniel Sturgis is an artist to watch. With each new endeavor\, he continues to captivate audiences and push the boundaries of his musical style. As he navigates the ever-evolving music industry\, Sturgis remains poised to make a lasting impact with his unique sound and unbridled passion for music. \n\n\n\nFacebook.com/Danielsturgisband \n\n\n\nInstagram: @danielsturgis
URL:https://uncommoncorner.org/event/daniel-sturgis-8/
CATEGORIES:Live Music
ATTACH;FMTTYPE=image/jpeg:https://uncommoncorner.org/wp-content/uploads/sites/64/2023/10/Untitled-design-61.jpg
END:VEVENT
END:VCALENDAR