BEGIN:VCALENDAR
VERSION:2.0
PRODID:-//Emerson College UnCommon Corner - ECPv6.15.19//NONSGML v1.0//EN
CALSCALE:GREGORIAN
METHOD:PUBLISH
X-WR-CALNAME:Emerson College UnCommon Corner
X-ORIGINAL-URL:https://uncommoncorner.org
X-WR-CALDESC:Events for Emerson College UnCommon Corner
REFRESH-INTERVAL;VALUE=DURATION:PT1H
X-Robots-Tag:noindex
X-PUBLISHED-TTL:PT1H
BEGIN:VTIMEZONE
TZID:America/New_York
BEGIN:DAYLIGHT
TZOFFSETFROM:-0500
TZOFFSETTO:-0400
TZNAME:EDT
DTSTART:20230312T070000
END:DAYLIGHT
BEGIN:STANDARD
TZOFFSETFROM:-0400
TZOFFSETTO:-0500
TZNAME:EST
DTSTART:20231105T060000
END:STANDARD
BEGIN:DAYLIGHT
TZOFFSETFROM:-0500
TZOFFSETTO:-0400
TZNAME:EDT
DTSTART:20240310T070000
END:DAYLIGHT
BEGIN:STANDARD
TZOFFSETFROM:-0400
TZOFFSETTO:-0500
TZNAME:EST
DTSTART:20241103T060000
END:STANDARD
BEGIN:DAYLIGHT
TZOFFSETFROM:-0500
TZOFFSETTO:-0400
TZNAME:EDT
DTSTART:20250309T070000
END:DAYLIGHT
BEGIN:STANDARD
TZOFFSETFROM:-0400
TZOFFSETTO:-0500
TZNAME:EST
DTSTART:20251102T060000
END:STANDARD
END:VTIMEZONE
BEGIN:VEVENT
DTSTART;TZID=America/New_York:20240921T130000
DTEND;TZID=America/New_York:20240921T150000
DTSTAMP:20260419T233850
CREATED:20240913T193753Z
LAST-MODIFIED:20240921T140117Z
UID:3824-1726923600-1726930800@uncommoncorner.org
SUMMARY:Claudio Ragazzi
DESCRIPTION:GRAMMY WINNER\, EMMY Winner and EMMY Nominated Film Composer and guitarist Claudio Ragazzi has been writing award winning music for film and television\, scoring dozens of projects and performing with some of today’s most respected musicians at renowned concert halls in the world.Claudio attended Berklee College of Music where he graduated Magna Cum Laude\, a winner of the prestigious Duke Ellington Master’s Award and the Boston Music Awards\, Claudio went on to compose music for feature films\, documentaries and television commercials as well as undertaking commissioned works for plays and ballets.Among some selected works Claudio has scored the MIRAMAX Film “Next Stop Wonderland”; award winning Goldheart Productions “The Blue Diner”; John Sayle’s film “Casa de los Babys” in collaboration with Mason Daring and Francis Ford Coppola’s “Tetro” in collaboration with Osvaldo Golijov. Claudio’s music can also be heard in “Something’s Gotta Give” starring Jack Nicholson\, Diane Keaton and Keanu Reeves.Claudio has scored dozens of award winning Feature Documentaries as well as TV productions for the Discovery Channel\, Animal Planet\, National Geographic\, Telemundo\, Univision and PBS\, including American Experience\, NOVA\, Sesame Street\, Arthur\, and Postcards from Buster. Claudio’s live performances include those at Carnegie Hall\, The Hollywood Bowl\, The Blue Note Jazz Club (NY and Tokyo)\, The Lincoln Center and in theatres around the world. He has performed with some of today’s most influential and respected musicians\, including Gary Burton\, Yo-Yo Ma\, Regina Carter\, Randy Brecker\, Danilo Perez\, saxophone legends Joe Lovano\, Branford Marsalis\, Kenny Garrett and Paquito D’Rivera to name a few. A native of Argentina\, Claudio grew up in Buenos Aires\, where he started playing music at a very early age performing with some of Argentina’s most influential musicians. He currently scores films\, performs and teaches Film Composition at prestigious Berklee College of Music.Claudio on the Web
URL:https://uncommoncorner.org/event/claudio-ragazzi/
CATEGORIES:Live Music
ATTACH;FMTTYPE=image/jpeg:https://uncommoncorner.org/wp-content/uploads/sites/64/2024/09/Claudio.jpg
END:VEVENT
BEGIN:VEVENT
DTSTART;TZID=America/New_York:20240921T180000
DTEND;TZID=America/New_York:20240921T200000
DTSTAMP:20260419T233850
CREATED:20240529T180036Z
LAST-MODIFIED:20240921T140235Z
UID:2669-1726941600-1726948800@uncommoncorner.org
SUMMARY:Brooke Annibale Band
DESCRIPTION:This will be a solo performance by indie pop-folk singer-songwriter and guitarist\, Brooke Annibale. Not confined by any one genre\, Brooke’s expressive and beautifully thoughtful songwriting creates a dreamy\, dark\, and enticing sonic landscape. Her songs have been placed on many TV shows including Grey’s Anatomy\, Pretty Little Liars\, and One Tree Hill. Brooke has recently performed on SiriusXM The Coffee House\, AudioTree Live\, Paste and more. ​Brooke’s new album Better By Now is out now.  \n\n\n\nhttp://brookeannibale.com \n\n\n\nhttp://instagram.com/brookeannibale  \n\n\n\nhttp://facebook.com/brookeannibale  \n\n\n\nTweets by brookeannibale  \n\n\n\ntik tok @brookeannibale
URL:https://uncommoncorner.org/event/brooke-annibale-band-2/
CATEGORIES:Live Music
ATTACH;FMTTYPE=image/jpeg:https://uncommoncorner.org/wp-content/uploads/sites/64/2023/05/Untitled-design-15.jpg
END:VEVENT
END:VCALENDAR