BEGIN:VCALENDAR
VERSION:2.0
PRODID:-//Emerson College UnCommon Corner - ECPv6.15.19//NONSGML v1.0//EN
CALSCALE:GREGORIAN
METHOD:PUBLISH
X-ORIGINAL-URL:https://uncommoncorner.org
X-WR-CALDESC:Events for Emerson College UnCommon Corner
REFRESH-INTERVAL;VALUE=DURATION:PT1H
X-Robots-Tag:noindex
X-PUBLISHED-TTL:PT1H
BEGIN:VTIMEZONE
TZID:America/New_York
BEGIN:DAYLIGHT
TZOFFSETFROM:-0500
TZOFFSETTO:-0400
TZNAME:EDT
DTSTART:20230312T070000
END:DAYLIGHT
BEGIN:STANDARD
TZOFFSETFROM:-0400
TZOFFSETTO:-0500
TZNAME:EST
DTSTART:20231105T060000
END:STANDARD
BEGIN:DAYLIGHT
TZOFFSETFROM:-0500
TZOFFSETTO:-0400
TZNAME:EDT
DTSTART:20240310T070000
END:DAYLIGHT
BEGIN:STANDARD
TZOFFSETFROM:-0400
TZOFFSETTO:-0500
TZNAME:EST
DTSTART:20241103T060000
END:STANDARD
BEGIN:DAYLIGHT
TZOFFSETFROM:-0500
TZOFFSETTO:-0400
TZNAME:EDT
DTSTART:20250309T070000
END:DAYLIGHT
BEGIN:STANDARD
TZOFFSETFROM:-0400
TZOFFSETTO:-0500
TZNAME:EST
DTSTART:20251102T060000
END:STANDARD
END:VTIMEZONE
BEGIN:VEVENT
DTSTART;TZID=America/New_York:20240920T140000
DTEND;TZID=America/New_York:20240920T160000
DTSTAMP:20260419T233421
CREATED:20240913T192124Z
LAST-MODIFIED:20240920T154418Z
UID:3822-1726840800-1726848000@uncommoncorner.org
SUMMARY:Gaby Cotter
DESCRIPTION:Gaby Cotter is a vocalist\, songwriter\, and educator deeply rooted in her Panamanian heritage and influenced by the rich tapestry of Latin American sounds. Guided by her passion to connect with others through music and driven by a commitment to artistic and personal growth\, Gaby weaves powerful narratives that resonate deeply with her audience. \n\n\n\nA graduate of Berklee College of Music\, she has captivated audiences in Panama\, Spain\, Italy\, and the United States. Her debut album “Cantora\,” released in April 2024\, features collaborations with Cuban pianist Harold Charon and Panamanian flutist Melvin Lam. \n\n\n\nGaby’s music\, available on major streaming platforms\, celebrates the strength and resilience of women\, offering fresh perspectives on love and relationships.  \n\n\n\nwww.instagram.com/gabycotter \n\n\n\nwww.gabycotter.com
URL:https://uncommoncorner.org/event/gaby-cotter-8/
CATEGORIES:Live Music
ATTACH;FMTTYPE=image/jpeg:https://uncommoncorner.org/wp-content/uploads/sites/64/2024/06/IMAGE_Gaby-Cotter-DUO-scaled.jpg
END:VEVENT
BEGIN:VEVENT
DTSTART;TZID=America/New_York:20240920T160000
DTEND;TZID=America/New_York:20240920T180000
DTSTAMP:20260419T233421
CREATED:20240827T165358Z
LAST-MODIFIED:20240920T154628Z
UID:3637-1726848000-1726855200@uncommoncorner.org
SUMMARY:Gregory Groover Jr
DESCRIPTION:Raised with devotion for music\, Gregory George Groover Jr is a twenty-nine year old tenor saxophonist and educator from Roxbury\, Massachusetts. His love and pursuit of music directed him to the Boston Arts Academy where he graduated in 2011 as both the Elma Lewis Graduate with distinction and the Louis Armstrong Jazz award. His effort and dedication to music led him to earn a full tuition scholarship to Berklee College of Music where he received both his Bachelors and Masters in Music Performance Studies through the Global Jazz Institute\, headed by world-renowned artistic director\, pianist\, and UNESCO Artist for Peace Danilo Perez. \n\n\n\nAs a performer\, Gregory has had the honor to share the stage with prestigious musicians such as Philip Bailey (Earth\, Wind\, and Fire)\, Patrice Rushen\, Terri Lyne Carrington\, Danilo Perez\, John Patitucci\, Brian Blade\, and Esperanza Spalding. As a bandleader and a sideman\, he has performed in music festivals in the United States\, Latin America\, Europe\, and Africa. \n\n\n\nAs an educator\, Gregory has served as the co-chair of music at his alma mater\, the Boston Arts Academy where he provided instruction in Jazz studies to the next generation of artists and scholars. Gregory currently serves as the Assistant Chair of Ensemble at the world renowned\, Berklee College of Music. In addition to teaching\, Gregory continues to perform regularly with his working bands and is celebrating the release of his second album: the Negro Spiritual Songbook Volume II – “The Message”. \n\n\n\nhttps://www.gregorygrooverjr.com \n\n\n\nhttps://www.instagram.com/gregorygrooverjr/
URL:https://uncommoncorner.org/event/gregory-groover-jr-11/
CATEGORIES:Live Music
ATTACH;FMTTYPE=image/jpeg:https://uncommoncorner.org/wp-content/uploads/sites/64/2023/05/Untitled-design-6.jpg
END:VEVENT
BEGIN:VEVENT
DTSTART;TZID=America/New_York:20240920T180000
DTEND;TZID=America/New_York:20240920T200000
DTSTAMP:20260419T233421
CREATED:20240913T194130Z
LAST-MODIFIED:20240920T154632Z
UID:3828-1726855200-1726862400@uncommoncorner.org
SUMMARY:Melo Green
DESCRIPTION:Melo Green is a New England based Indie artist who loves to blend folk\, rock and R+B music. You may know of him from his appearances with Kids on A Hill\, The Frotations\, The Velcro Soul\, The C.O.M.P and Boston Common Band.  In the words of Thich Nhat Hahn\, “Don’t just do something\, sit there” and listen to Melo Green.
URL:https://uncommoncorner.org/event/melo-green/
CATEGORIES:Announcement,Live Music,Special Event
ATTACH;FMTTYPE=image/jpeg:https://uncommoncorner.org/wp-content/uploads/sites/64/2024/07/Melo_Green_2024_HayleyCanal-81-scaled.jpeg
END:VEVENT
END:VCALENDAR