BEGIN:VCALENDAR
VERSION:2.0
PRODID:-//Emerson College UnCommon Corner - ECPv6.15.19//NONSGML v1.0//EN
CALSCALE:GREGORIAN
METHOD:PUBLISH
X-WR-CALNAME:Emerson College UnCommon Corner
X-ORIGINAL-URL:https://uncommoncorner.org
X-WR-CALDESC:Events for Emerson College UnCommon Corner
REFRESH-INTERVAL;VALUE=DURATION:PT1H
X-Robots-Tag:noindex
X-PUBLISHED-TTL:PT1H
BEGIN:VTIMEZONE
TZID:America/New_York
BEGIN:DAYLIGHT
TZOFFSETFROM:-0500
TZOFFSETTO:-0400
TZNAME:EDT
DTSTART:20230312T070000
END:DAYLIGHT
BEGIN:STANDARD
TZOFFSETFROM:-0400
TZOFFSETTO:-0500
TZNAME:EST
DTSTART:20231105T060000
END:STANDARD
BEGIN:DAYLIGHT
TZOFFSETFROM:-0500
TZOFFSETTO:-0400
TZNAME:EDT
DTSTART:20240310T070000
END:DAYLIGHT
BEGIN:STANDARD
TZOFFSETFROM:-0400
TZOFFSETTO:-0500
TZNAME:EST
DTSTART:20241103T060000
END:STANDARD
BEGIN:DAYLIGHT
TZOFFSETFROM:-0500
TZOFFSETTO:-0400
TZNAME:EDT
DTSTART:20250309T070000
END:DAYLIGHT
BEGIN:STANDARD
TZOFFSETFROM:-0400
TZOFFSETTO:-0500
TZNAME:EST
DTSTART:20251102T060000
END:STANDARD
END:VTIMEZONE
BEGIN:VEVENT
DTSTART;TZID=America/New_York:20240908T140000
DTEND;TZID=America/New_York:20240908T160000
DTSTAMP:20260419T233228
CREATED:20240827T205104Z
LAST-MODIFIED:20240827T205106Z
UID:3668-1725804000-1725811200@uncommoncorner.org
SUMMARY:Wamptronica
DESCRIPTION:WAMPTRONICA\, a creative dance music collective of Wampanoag artists\, is gaining attention with their fusion of House Music\, Rare Groove\, Afrobeats\, and Breakbeats. Established in 2021\, their origins lie in dance parties at the Native Arts Gallery in Mashpee. Their sound merges traditional DJing with live instruments and vocals. They are the resident collective for The THUMP & SOUL SESSION\, a monthly dance party at Gallery X in New Bedford. \n\n\n\nThe collective is led by The ZYG 808\, a multi-talented artist and founder of Soul Poets Records. He is joined by Mwalim DaPhunkee Professor\, a versatile composer and musician. Asa Peters\, a musician rooted in various musical traditions\, and Casey Figueroa\, a visual artist and EDM producer\, also contribute to the collective’s sound and visuals. \n\n\n\nTheir debut album\, The Session\, set to release on Poly-Groove Records\, pays homage to New York-style House Music. WAMPTRONICA has a line-up of events this summer\, including street dance parties\, guest appearances\, and remixes for Eightball Records. \n\n\n\nVisit their Linktree page for updates.
URL:https://uncommoncorner.org/event/wamptronica-2/
CATEGORIES:DJ,Live Music
ATTACH;FMTTYPE=image/png:https://uncommoncorner.org/wp-content/uploads/sites/64/2024/05/LOGO-Wamptronica-Full-Color-1.png
END:VEVENT
BEGIN:VEVENT
DTSTART;TZID=America/New_York:20240908T160000
DTEND;TZID=America/New_York:20240908T180000
DTSTAMP:20260419T233228
CREATED:20240620T170009Z
LAST-MODIFIED:20240620T170011Z
UID:2902-1725811200-1725818400@uncommoncorner.org
SUMMARY:Daniel Sturgis
DESCRIPTION:Daniel Sturgis is a talented musician hailing from the vibrant music scene of Cape Cod. With a musical style that seamlessly blends alternative\, funk\, pop\, and rock\, Sturgis has created a captivating sound that is uniquely his own. Influenced by legendary artists such as Jimmy Hendrix\, B.B. King\, and The Beatles\, Sturgis draws inspiration from the rich history of music while also pushing boundaries and experimenting with new sonic landscapes.  \n\n\n\n Having honed his craft at the prestigious Berklee College of Music\, Sturgis is a true master of his instrument. His impressive guitar skills\, combined with his soulful vocals and dynamic stage presence\, make for a captivating live performance that leaves audiences in awe. Sturgis’ talents have not gone unnoticed\, as he emerged victorious in the Cape Cod Battle of the Bands in 2011. This accomplishment solidified his place among the region’s most promising musicians and propelled him to new heights in his career.  \n\n\n\nCurrently\, Daniel Sturgis is focused on his ongoing musical projects\, constantly pushing himself to create fresh and innovative music. Whether he’s writing thought-provoking lyrics or crafting infectious melodies\, Sturgis consistently delivers music that resonates with listeners on a profound level. With a diverse range of influences and a dedication to his craft\, Daniel Sturgis is an artist to watch. With each new endeavor\, he continues to captivate audiences and push the boundaries of his musical style. As he navigates the ever-evolving music industry\, Sturgis remains poised to make a lasting impact with his unique sound and unbridled passion for music. \n\n\n\nFacebook.com/Danielsturgisband \n\n\n\nInstagram: @danielsturgis
URL:https://uncommoncorner.org/event/daniel-sturgis-7/
CATEGORIES:Live Music
ATTACH;FMTTYPE=image/jpeg:https://uncommoncorner.org/wp-content/uploads/sites/64/2023/10/Untitled-design-61.jpg
END:VEVENT
BEGIN:VEVENT
DTSTART;TZID=America/New_York:20240908T180000
DTEND;TZID=America/New_York:20240908T200000
DTSTAMP:20260419T233228
CREATED:20240830T153838Z
LAST-MODIFIED:20240830T153907Z
UID:3730-1725818400-1725825600@uncommoncorner.org
SUMMARY:The Femmes
DESCRIPTION:The Femmes are an all-woman and non-binary wedding band specializing in songs by female and non-binary artists. When you’re at a Femmes show\, you’re at a high energy concert experience. Epic sing-alongs\, expertly crafted harmonies\, and musicians who absolutely LOVE to interact with the audience\, the Femmes are Boston’s go-to women’s party band! Our roster includes Berklee alumni\, touring artists\, veteran wedding band performers\, and pit band musicians with over 10 years of professional experience. \n\n\n\nSocial Media: @thefemmesband  \n\n\n\nWebsite: thefemmesband.com
URL:https://uncommoncorner.org/event/the-femmes-22/
CATEGORIES:Live Music
ATTACH;FMTTYPE=image/jpeg:https://uncommoncorner.org/wp-content/uploads/sites/64/2023/06/Untitled-design-25.jpg
END:VEVENT
END:VCALENDAR