BEGIN:VCALENDAR
VERSION:2.0
PRODID:-//Emerson College UnCommon Corner - ECPv6.15.19//NONSGML v1.0//EN
CALSCALE:GREGORIAN
METHOD:PUBLISH
X-ORIGINAL-URL:https://uncommoncorner.org
X-WR-CALDESC:Events for Emerson College UnCommon Corner
REFRESH-INTERVAL;VALUE=DURATION:PT1H
X-Robots-Tag:noindex
X-PUBLISHED-TTL:PT1H
BEGIN:VTIMEZONE
TZID:America/New_York
BEGIN:DAYLIGHT
TZOFFSETFROM:-0500
TZOFFSETTO:-0400
TZNAME:EDT
DTSTART:20230312T070000
END:DAYLIGHT
BEGIN:STANDARD
TZOFFSETFROM:-0400
TZOFFSETTO:-0500
TZNAME:EST
DTSTART:20231105T060000
END:STANDARD
BEGIN:DAYLIGHT
TZOFFSETFROM:-0500
TZOFFSETTO:-0400
TZNAME:EDT
DTSTART:20240310T070000
END:DAYLIGHT
BEGIN:STANDARD
TZOFFSETFROM:-0400
TZOFFSETTO:-0500
TZNAME:EST
DTSTART:20241103T060000
END:STANDARD
BEGIN:DAYLIGHT
TZOFFSETFROM:-0500
TZOFFSETTO:-0400
TZNAME:EDT
DTSTART:20250309T070000
END:DAYLIGHT
BEGIN:STANDARD
TZOFFSETFROM:-0400
TZOFFSETTO:-0500
TZNAME:EST
DTSTART:20251102T060000
END:STANDARD
END:VTIMEZONE
BEGIN:VEVENT
DTSTART;TZID=America/New_York:20240906T140000
DTEND;TZID=America/New_York:20240906T160000
DTSTAMP:20260419T233423
CREATED:20240827T165712Z
LAST-MODIFIED:20240827T184413Z
UID:3639-1725631200-1725638400@uncommoncorner.org
SUMMARY:Chloe Swindler
DESCRIPTION:Chloe Swindler is a Boston-based multi-instrumentalist\, arranger\, and singer-songwriter from Tucson\, Arizona. As a trumpeter\, vocalist\, and guitarist\, her signature sound brings together R&B\, soul\, funk\, and pop. \n\n\n\nChloe’s music career has been diverse\, featuring work as a soloist and gig band musician\, as well as engagements as a chamber\, orchestral\, jazz\, and studio musician. She has performed\, recorded\, and toured across the United States\, England\, and South Korea\, and has worked with world-renowned artists and groups including Harry Styles\, Lizzo\, Vanessa Williams\, and the Boston Symphony Orchestra. \n\n\n\nChloe started her musical journey at 9 years old with trumpet lessons in middle school. By the time she was 14\, she had taught herself guitar from watching YouTube tutorials and started writing her own songs. She went on to study music performance at Boston University (Bachelor of Music)\, Yale University (Master of Music)\, and the University of California Los Angeles (Doctor of Musical Arts).  \n\n\n\nOver the years\, Chloe has been involved in the music industry as a musician\, educator\, content creator\, researcher\, booking agent\, and a coach for musicians in entrepreneurship\, branding\, and social media. She currently teaches as a Trumpet Professor at the Longy School of Music and as an Assistant Professor in Berklee’s Africana Studies Department. Chloe also runs a private trumpet studio\, Trumpet Fundamentals\, offering in-person and online trumpet lessons. You can learn more at www.trumpetfundamentals.com. \n\n\n\nTo keep up with Chloe’s latest performances\, follow her on social media: @chloeswindlermusic. \n\n\n\nCheck out her website: www.chloeswindler.com.Photo credit: Taylor Rossi (www.taylorrossiphotography.com)
URL:https://uncommoncorner.org/event/chloe-swindler-7/
CATEGORIES:Live Music
ATTACH;FMTTYPE=image/png:https://uncommoncorner.org/wp-content/uploads/sites/64/2024/08/Chloe-Swindler-headshot.png
END:VEVENT
BEGIN:VEVENT
DTSTART;TZID=America/New_York:20240906T160000
DTEND;TZID=America/New_York:20240906T180000
DTSTAMP:20260419T233423
CREATED:20240620T180101Z
LAST-MODIFIED:20240620T180103Z
UID:2919-1725638400-1725645600@uncommoncorner.org
SUMMARY:Jonathan Suazo
DESCRIPTION:Jonathan Suazo is an award-winning saxophonist / composer / cultural advocate and educator who also leads his own project entitled RICANO\, a unique afro Caribbean Jazz concept that blends the sounds of Puerto Rico and Dominican Republic. Jonathan was named one of the top ten emerging jazz artists of 2023 by the GRAMMYS and his debut album “Ricano” (Ropeadope Records) was listed at #6 in the best Jazz albums of 2023 by The New York Times. A Berklee Global Jazz Institute graduate\, Jonathan has also received many honors including the South Arts Jazz Road Tours Grant\, the New Music USA Creator Fund Grant\, A full tuition Scholarship to attend the Berklee Global Jazz Institute Masters Program\, The Project Support Grant for Alumni by the Fundacion Banco Popular for his Ricano album and the Berklee urban Service Award for using the arts to support humanitarianism. Catalina Maria Johnson of Downbeat Jazz Magazine describes his music as “a soundscape propelled by lyrical sax playing” and Giovanni Russonello from The NY Times describes his music as “richly built\, written from the heart and packed with complexity\, always seeking the next level of altitude.” Suazo has collaborated / performed with artists like Miguel Zenón\, Terri Lyne Carrington\, David Sánchez\, Charlie Sepúlveda\, Eric Figueroa\, Gonzalo Grau\, Alex Alvear\, Ricky Rodriguez\, Ileana Cabra (iLÉ)\, Calma Carmona\, Rakalam Bob Moses\, Joe Lovano\, Paoli Mejias\, Humberto Ramirez\, David Rivera\, Tito Matos\, Ricardo Pons\, William Cepeda\, Jon Secada\, Pedro Capó\, Obie Bermudez\, Hans Glawischnig\, Humberto Ramirez\, Silverio Perez\, Tony Escapa; and he’s led his band at venues like The Keystone Korner\, Jazz Showcase Chicago\, the Santo Domingo Jazz Festival\, Springfield Jazzfest\, Sala Sinfónica Pablo Casals PR\, Teatro Francisco Arriví (Puerto Rico)\, Puerto Rico Heineken Jazz Fest (Anfiteatro Tito Puente)\, Segundo Ruiz Belvis Cultural Center\, Elephant Room Austin TX\, SXSW 2023\, Isabella Stewart Gardner Museum\, The MFA Boston\, and many more.
URL:https://uncommoncorner.org/event/jonathan-suazo-3/
CATEGORIES:Live Music
ATTACH;FMTTYPE=image/jpeg:https://uncommoncorner.org/wp-content/uploads/sites/64/2024/06/Jonathan_Suazo_Trio-scaled.jpeg
END:VEVENT
BEGIN:VEVENT
DTSTART;TZID=America/New_York:20240906T180000
DTEND;TZID=America/New_York:20240906T210000
DTSTAMP:20260419T233423
CREATED:20240711T162231Z
LAST-MODIFIED:20240808T172238Z
UID:3202-1725645600-1725656400@uncommoncorner.org
SUMMARY:¡Baila Boston! Salsa on the Common
DESCRIPTION:Celebrate Summer with Salsa in the Common! \n\n\n\nJoin us at Emerson’s UnCommon Stage and the Harpoon Beer Garden for an unforgettable night of dance\, drinks\, and delicious food from Rosa Mexicano. \n\n\n\nHernan Choque of Salsa y Control and Àgora Cultural Architects will light up the corner of Boylston and Tremont with beats that will move your feet!  The evening will feature salsa music from Son Mass\, DJ sets\, family-friendly\, interactive Salsa lessons\, and demos from seasoned Salsa dancers. \n\n\n\nDon’t miss your chance to dance the night away on the Common!
URL:https://uncommoncorner.org/event/baila-boston-salsa-on-the-common-2/
CATEGORIES:Announcement,Live Music,Special Event
ATTACH;FMTTYPE=image/png:https://uncommoncorner.org/wp-content/uploads/sites/64/2024/07/Untitled-design-1.png
END:VEVENT
END:VCALENDAR