BEGIN:VCALENDAR
VERSION:2.0
PRODID:-//Emerson College UnCommon Corner - ECPv6.15.19//NONSGML v1.0//EN
CALSCALE:GREGORIAN
METHOD:PUBLISH
X-ORIGINAL-URL:https://uncommoncorner.org
X-WR-CALDESC:Events for Emerson College UnCommon Corner
REFRESH-INTERVAL;VALUE=DURATION:PT1H
X-Robots-Tag:noindex
X-PUBLISHED-TTL:PT1H
BEGIN:VTIMEZONE
TZID:America/New_York
BEGIN:DAYLIGHT
TZOFFSETFROM:-0500
TZOFFSETTO:-0400
TZNAME:EDT
DTSTART:20230312T070000
END:DAYLIGHT
BEGIN:STANDARD
TZOFFSETFROM:-0400
TZOFFSETTO:-0500
TZNAME:EST
DTSTART:20231105T060000
END:STANDARD
BEGIN:DAYLIGHT
TZOFFSETFROM:-0500
TZOFFSETTO:-0400
TZNAME:EDT
DTSTART:20240310T070000
END:DAYLIGHT
BEGIN:STANDARD
TZOFFSETFROM:-0400
TZOFFSETTO:-0500
TZNAME:EST
DTSTART:20241103T060000
END:STANDARD
BEGIN:DAYLIGHT
TZOFFSETFROM:-0500
TZOFFSETTO:-0400
TZNAME:EDT
DTSTART:20250309T070000
END:DAYLIGHT
BEGIN:STANDARD
TZOFFSETFROM:-0400
TZOFFSETTO:-0500
TZNAME:EST
DTSTART:20251102T060000
END:STANDARD
END:VTIMEZONE
BEGIN:VEVENT
DTSTART;TZID=America/New_York:20240831T130000
DTEND;TZID=America/New_York:20240831T150000
DTSTAMP:20260419T233335
CREATED:20240626T171448Z
LAST-MODIFIED:20240703T184554Z
UID:3035-1725109200-1725116400@uncommoncorner.org
SUMMARY:Georgie Rodríguez
DESCRIPTION:Georgie Rodriguez is an accomplished Puerto Rican multi-instrumentalist with a solid bass and guitar career. He is also an experienced composer\, arranger\, music producer/director\, andrecording musician. His trajectory includes a Grammy Award for Best Tropical Album (2017)¿Dónde Están? with Guasábara Combo\, and Latin Grammy Awards for Best Salsa Album(2010) and Best Merengue Album (1997).Self-taught and a lifelong learner\, Georgie has developed a unique music style reflecting hisorigins and expansive musical journey across styles and genres. From his childhood influences with gospel music and the Puerto Rican cuatro to his latest novel salsa arrangements and compositions for chamber orchestra\, Georgie is a well-rounded musician who masters tropical music\, jazz\, Puerto Rican and Caribbean genres\, and diverse pop styles. Georgie identifies pianist and arranger José Lugo as a significant influence for his vision of preserving traditions while innovating and maintaining high musical standards and rigor.Georgie performs and produces music as a member of prominent Puerto Rican ensembles:Guasábara Combo\, Pedro Guzmán’s Jíbaro Jazz\, Ángel David Mattos & Jazz Boricua\, PabloRosario’s Orinoco and Tatoo’s Sextet Tribute to Joe Cuba. Throughout his career\, he hasperformed and recorded with renowned artists\, including; Alexandre Pires\, Andy Montañez\,Cheo Feliciano\, Danny Rivera\, Gilberto Santa Rosa\, Hermán Olivera\, Isaac Delgado\, JerryMedina\, Luis Perico Ortiz\, Olga Tañón\, Rafael Dávila (tenor)\, Roberto Rohena\, Tego Calderón\,Trina Medina and Vicente García.
URL:https://uncommoncorner.org/event/georgie-rodriguez-4/
CATEGORIES:Live Music
ATTACH;FMTTYPE=image/jpeg:https://uncommoncorner.org/wp-content/uploads/sites/64/2024/06/Georgie-Rodriguez-Photo-1-1.jpg
END:VEVENT
BEGIN:VEVENT
DTSTART;TZID=America/New_York:20240831T150000
DTEND;TZID=America/New_York:20240831T170000
DTSTAMP:20260419T233335
CREATED:20240718T204621Z
LAST-MODIFIED:20240718T204920Z
UID:3387-1725116400-1725123600@uncommoncorner.org
SUMMARY:The Blue Island Project
DESCRIPTION:The Blue Island Project is an exciting quartet formed in Boston in 2019 by the talented Cuban Pianist\, Singer\, and Composer Anibal Cruz.  \n\n\n\nThe band’s performances are always a treat for audiences who appreciate music that is both vibrant and soulful. The repertoire is as diverse as its members\, and takes you on a journey of Anibal’s influences from classical music training back in Cuba to jazz and blues at Berklee\, making his sound in this project a unique mix of Afro-cuban and Brazilian rhythms\, Gospel\, and Jazz. Anibal is in the process of creating the first album for Blue Island\, which will feature amazing guest artists from all over the world. \n\n\n\nhttps://claveandbluesproductions.com/theblueislandproject
URL:https://uncommoncorner.org/event/the-blue-island-project/
CATEGORIES:Live Music
ATTACH;FMTTYPE=image/jpeg:https://uncommoncorner.org/wp-content/uploads/sites/64/2024/05/The-Blue-Island-Project-scaled.jpg
END:VEVENT
BEGIN:VEVENT
DTSTART;TZID=America/New_York:20240831T180000
DTEND;TZID=America/New_York:20240831T200000
DTSTAMP:20260419T233335
CREATED:20240522T150119Z
LAST-MODIFIED:20240522T150121Z
UID:2550-1725127200-1725134400@uncommoncorner.org
SUMMARY:The Femmes
DESCRIPTION:The Femmes are an all-woman and non-binary wedding band specializing in songs by female and non-binary artists. When you’re at a Femmes show\, you’re at a high energy concert experience. Epic sing-alongs\, expertly crafted harmonies\, and musicians who absolutely LOVE to interact with the audience\, the Femmes are Boston’s go-to women’s party band! Our roster includes Berklee alumni\, touring artists\, veteran wedding band performers\, and pit band musicians with over 10 years of professional experience. \n\n\n\nSocial Media: @thefemmesband  \n\n\n\nWebsite: thefemmesband.com
URL:https://uncommoncorner.org/event/the-femmes-18/
CATEGORIES:Live Music
ATTACH;FMTTYPE=image/jpeg:https://uncommoncorner.org/wp-content/uploads/sites/64/2023/06/Untitled-design-25.jpg
END:VEVENT
END:VCALENDAR