BEGIN:VCALENDAR
VERSION:2.0
PRODID:-//Emerson College UnCommon Corner - ECPv6.15.19//NONSGML v1.0//EN
CALSCALE:GREGORIAN
METHOD:PUBLISH
X-ORIGINAL-URL:https://uncommoncorner.org
X-WR-CALDESC:Events for Emerson College UnCommon Corner
REFRESH-INTERVAL;VALUE=DURATION:PT1H
X-Robots-Tag:noindex
X-PUBLISHED-TTL:PT1H
BEGIN:VTIMEZONE
TZID:America/New_York
BEGIN:DAYLIGHT
TZOFFSETFROM:-0500
TZOFFSETTO:-0400
TZNAME:EDT
DTSTART:20230312T070000
END:DAYLIGHT
BEGIN:STANDARD
TZOFFSETFROM:-0400
TZOFFSETTO:-0500
TZNAME:EST
DTSTART:20231105T060000
END:STANDARD
BEGIN:DAYLIGHT
TZOFFSETFROM:-0500
TZOFFSETTO:-0400
TZNAME:EDT
DTSTART:20240310T070000
END:DAYLIGHT
BEGIN:STANDARD
TZOFFSETFROM:-0400
TZOFFSETTO:-0500
TZNAME:EST
DTSTART:20241103T060000
END:STANDARD
BEGIN:DAYLIGHT
TZOFFSETFROM:-0500
TZOFFSETTO:-0400
TZNAME:EDT
DTSTART:20250309T070000
END:DAYLIGHT
BEGIN:STANDARD
TZOFFSETFROM:-0400
TZOFFSETTO:-0500
TZNAME:EST
DTSTART:20251102T060000
END:STANDARD
END:VTIMEZONE
BEGIN:VEVENT
DTSTART;TZID=America/New_York:20240821T180000
DTEND;TZID=America/New_York:20240821T200000
DTSTAMP:20260420T010948
CREATED:20240718T203909Z
LAST-MODIFIED:20240918T153656Z
UID:3375-1724263200-1724270400@uncommoncorner.org
SUMMARY:Sam Spear
DESCRIPTION:By:PenelopeSantana\n\n\n\nThe Sam Spear Quintet delivers hard-hitting bop\, soulful swing\, and blistering ballads. Composed of two saxes\, piano\, bass\, and drums\, the group performs an eclectic mix of original tunes and cleverly crafted arrangements of jazz standards. \n\n\n\nhttps://samspearmusic.com/ \n\n\n\nFacebook: Sam Spear Music  \n\n\n\nInstagram: @sam_spear_music
URL:https://uncommoncorner.org/event/sam-spear-5/
CATEGORIES:Live Music
ATTACH;FMTTYPE=image/jpeg:https://uncommoncorner.org/wp-content/uploads/sites/64/2023/08/sam-spear-bio-pic-scaled-e1697404801195.jpeg
END:VEVENT
END:VCALENDAR