BEGIN:VCALENDAR
VERSION:2.0
PRODID:-//Emerson College UnCommon Corner - ECPv6.15.19//NONSGML v1.0//EN
CALSCALE:GREGORIAN
METHOD:PUBLISH
X-WR-CALNAME:Emerson College UnCommon Corner
X-ORIGINAL-URL:https://uncommoncorner.org
X-WR-CALDESC:Events for Emerson College UnCommon Corner
REFRESH-INTERVAL;VALUE=DURATION:PT1H
X-Robots-Tag:noindex
X-PUBLISHED-TTL:PT1H
BEGIN:VTIMEZONE
TZID:America/New_York
BEGIN:DAYLIGHT
TZOFFSETFROM:-0500
TZOFFSETTO:-0400
TZNAME:EDT
DTSTART:20230312T070000
END:DAYLIGHT
BEGIN:STANDARD
TZOFFSETFROM:-0400
TZOFFSETTO:-0500
TZNAME:EST
DTSTART:20231105T060000
END:STANDARD
BEGIN:DAYLIGHT
TZOFFSETFROM:-0500
TZOFFSETTO:-0400
TZNAME:EDT
DTSTART:20240310T070000
END:DAYLIGHT
BEGIN:STANDARD
TZOFFSETFROM:-0400
TZOFFSETTO:-0500
TZNAME:EST
DTSTART:20241103T060000
END:STANDARD
BEGIN:DAYLIGHT
TZOFFSETFROM:-0500
TZOFFSETTO:-0400
TZNAME:EDT
DTSTART:20250309T070000
END:DAYLIGHT
BEGIN:STANDARD
TZOFFSETFROM:-0400
TZOFFSETTO:-0500
TZNAME:EST
DTSTART:20251102T060000
END:STANDARD
END:VTIMEZONE
BEGIN:VEVENT
DTSTART;TZID=America/New_York:20240815T130000
DTEND;TZID=America/New_York:20240815T150000
DTSTAMP:20260420T011315
CREATED:20240718T203111Z
LAST-MODIFIED:20240814T160012Z
UID:3365-1723726800-1723734000@uncommoncorner.org
SUMMARY:Brooke Sofferman's Adventure Time Trio
DESCRIPTION:The Adventure Time Trio is an energetic\, modern jazz trio\, drawing from Brooke Sofferman’s extensive original material\, and some jazz standards reimagined.  Their interplay is often ESP-like\, each finishing each other’s thoughts and ideas.  The fact that they are good friends off the bandstand\, is also apparent\, and it lends itself to exciting and sometimes ethereal musical communication.Rick Stone – alto saxophoneSean Farias – bassBrooke Sofferman – drums/compositionsEndorser of Sonor Drums\, Istanbul Agop Cymbals and Vater Percussion\, drummer and composer Brooke Sofferman is active on the Boston and New York jazz scene. With 5 CD’s out under his own name and dozens of rave reviews from publications like the Boston Globe and Downbeat\, he also an in demand teacher. He has been teaching at the New England Conservatory Of Music where he received his Bachelors and Masters Degrees for 20 years in addition to teaching at Berklee and UMass Boston. His original bands the Sofferman Perspective\, The Adventure Time Trio and an organ duet entitled Lean 2 keep him busy along with the demand for Brooke as a sideman. \n\n\n\n\n“Here is a promise: You will not hear a local jazz group play with more talent\, more focus\, more intensity than the quintet led by drummer Brooke Sofferman.” \nSteve Greenlee\, Boston Globe Review
URL:https://uncommoncorner.org/event/brooke-sofferman/
CATEGORIES:Live Music
ATTACH;FMTTYPE=image/jpeg:https://uncommoncorner.org/wp-content/uploads/sites/64/2024/07/image3-scaled.jpeg
END:VEVENT
END:VCALENDAR