BEGIN:VCALENDAR
VERSION:2.0
PRODID:-//Emerson College UnCommon Corner - ECPv6.15.19//NONSGML v1.0//EN
CALSCALE:GREGORIAN
METHOD:PUBLISH
X-WR-CALNAME:Emerson College UnCommon Corner
X-ORIGINAL-URL:https://uncommoncorner.org
X-WR-CALDESC:Events for Emerson College UnCommon Corner
REFRESH-INTERVAL;VALUE=DURATION:PT1H
X-Robots-Tag:noindex
X-PUBLISHED-TTL:PT1H
BEGIN:VTIMEZONE
TZID:America/New_York
BEGIN:DAYLIGHT
TZOFFSETFROM:-0500
TZOFFSETTO:-0400
TZNAME:EDT
DTSTART:20230312T070000
END:DAYLIGHT
BEGIN:STANDARD
TZOFFSETFROM:-0400
TZOFFSETTO:-0500
TZNAME:EST
DTSTART:20231105T060000
END:STANDARD
BEGIN:DAYLIGHT
TZOFFSETFROM:-0500
TZOFFSETTO:-0400
TZNAME:EDT
DTSTART:20240310T070000
END:DAYLIGHT
BEGIN:STANDARD
TZOFFSETFROM:-0400
TZOFFSETTO:-0500
TZNAME:EST
DTSTART:20241103T060000
END:STANDARD
BEGIN:DAYLIGHT
TZOFFSETFROM:-0500
TZOFFSETTO:-0400
TZNAME:EDT
DTSTART:20250309T070000
END:DAYLIGHT
BEGIN:STANDARD
TZOFFSETFROM:-0400
TZOFFSETTO:-0500
TZNAME:EST
DTSTART:20251102T060000
END:STANDARD
END:VTIMEZONE
BEGIN:VEVENT
DTSTART;TZID=America/New_York:20240813T170000
DTEND;TZID=America/New_York:20240813T190000
DTSTAMP:20260420T011315
CREATED:20240529T184220Z
LAST-MODIFIED:20240809T211840Z
UID:2720-1723568400-1723575600@uncommoncorner.org
SUMMARY:The Boundary Objects
DESCRIPTION:The Boundary Objects make music at the mythical borders between Bahia and Bamako\, between Barcelona and Boston\, armed only with guitars a calabash\, and all the inputs onstage.
URL:https://uncommoncorner.org/event/the-boundary-objects/
CATEGORIES:Live Music
ATTACH;FMTTYPE=image/jpeg:https://uncommoncorner.org/wp-content/uploads/sites/64/2024/05/unnamed4.jpg
END:VEVENT
END:VCALENDAR