BEGIN:VCALENDAR
VERSION:2.0
PRODID:-//Emerson College UnCommon Corner - ECPv6.15.19//NONSGML v1.0//EN
CALSCALE:GREGORIAN
METHOD:PUBLISH
X-WR-CALNAME:Emerson College UnCommon Corner
X-ORIGINAL-URL:https://uncommoncorner.org
X-WR-CALDESC:Events for Emerson College UnCommon Corner
REFRESH-INTERVAL;VALUE=DURATION:PT1H
X-Robots-Tag:noindex
X-PUBLISHED-TTL:PT1H
BEGIN:VTIMEZONE
TZID:America/New_York
BEGIN:DAYLIGHT
TZOFFSETFROM:-0500
TZOFFSETTO:-0400
TZNAME:EDT
DTSTART:20230312T070000
END:DAYLIGHT
BEGIN:STANDARD
TZOFFSETFROM:-0400
TZOFFSETTO:-0500
TZNAME:EST
DTSTART:20231105T060000
END:STANDARD
BEGIN:DAYLIGHT
TZOFFSETFROM:-0500
TZOFFSETTO:-0400
TZNAME:EDT
DTSTART:20240310T070000
END:DAYLIGHT
BEGIN:STANDARD
TZOFFSETFROM:-0400
TZOFFSETTO:-0500
TZNAME:EST
DTSTART:20241103T060000
END:STANDARD
BEGIN:DAYLIGHT
TZOFFSETFROM:-0500
TZOFFSETTO:-0400
TZNAME:EDT
DTSTART:20250309T070000
END:DAYLIGHT
BEGIN:STANDARD
TZOFFSETFROM:-0400
TZOFFSETTO:-0500
TZNAME:EST
DTSTART:20251102T060000
END:STANDARD
END:VTIMEZONE
BEGIN:VEVENT
DTSTART;TZID=America/New_York:20240805T170000
DTEND;TZID=America/New_York:20240805T190000
DTSTAMP:20260420T011306
CREATED:20240717T185413Z
LAST-MODIFIED:20240722T231454Z
UID:3314-1722877200-1722884400@uncommoncorner.org
SUMMARY:Gale The Band
DESCRIPTION:At the corner of soft rock and Americana is Gale the Band — a five-piece group of friends that have played original music since 2019. Inspired by Fleetwood Mac\, Dawes\, and more\, songwriters Abby Utter (vocals and guitar) and Evan Molinari (bass) explore themes of longing\, self-doubt\, and righteous anger. Tim Chamberlain (drums)\, Mandy Cook (vocals)\, and Bill Curley (guitar) bring the songs to life with a driving\, bluesy sound and intricate harmonies. With the whisper of regret and the shout of frustration\, Gale’s music captures the nuance and compromises of coming of age — and the perpetual joy of electric guitar. The band is recording its debut album — stay tuned to @galetheband on Instagram for updates.
URL:https://uncommoncorner.org/event/gale-the-band/
CATEGORIES:Live Music
ATTACH;FMTTYPE=image/jpeg:https://uncommoncorner.org/wp-content/uploads/sites/64/2024/07/Gale-the-Band-scaled.jpg
END:VEVENT
END:VCALENDAR