BEGIN:VCALENDAR
VERSION:2.0
PRODID:-//Emerson College UnCommon Corner - ECPv6.15.19//NONSGML v1.0//EN
CALSCALE:GREGORIAN
METHOD:PUBLISH
X-WR-CALNAME:Emerson College UnCommon Corner
X-ORIGINAL-URL:https://uncommoncorner.org
X-WR-CALDESC:Events for Emerson College UnCommon Corner
REFRESH-INTERVAL;VALUE=DURATION:PT1H
X-Robots-Tag:noindex
X-PUBLISHED-TTL:PT1H
BEGIN:VTIMEZONE
TZID:America/New_York
BEGIN:DAYLIGHT
TZOFFSETFROM:-0500
TZOFFSETTO:-0400
TZNAME:EDT
DTSTART:20230312T070000
END:DAYLIGHT
BEGIN:STANDARD
TZOFFSETFROM:-0400
TZOFFSETTO:-0500
TZNAME:EST
DTSTART:20231105T060000
END:STANDARD
BEGIN:DAYLIGHT
TZOFFSETFROM:-0500
TZOFFSETTO:-0400
TZNAME:EDT
DTSTART:20240310T070000
END:DAYLIGHT
BEGIN:STANDARD
TZOFFSETFROM:-0400
TZOFFSETTO:-0500
TZNAME:EST
DTSTART:20241103T060000
END:STANDARD
BEGIN:DAYLIGHT
TZOFFSETFROM:-0500
TZOFFSETTO:-0400
TZNAME:EDT
DTSTART:20250309T070000
END:DAYLIGHT
BEGIN:STANDARD
TZOFFSETFROM:-0400
TZOFFSETTO:-0500
TZNAME:EST
DTSTART:20251102T060000
END:STANDARD
END:VTIMEZONE
BEGIN:VEVENT
DTSTART;TZID=America/New_York:20240803T130000
DTEND;TZID=America/New_York:20240803T150000
DTSTAMP:20260420T011315
CREATED:20240711T114452Z
LAST-MODIFIED:20240711T114453Z
UID:3190-1722690000-1722697200@uncommoncorner.org
SUMMARY:Eduardo Betancourt
DESCRIPTION:Considered “one of the iconic harpists of this new age\,” ​Eduardo Betancourt​ is a Grammy-award winning Venezuelan musician\, producer\, arranger\, composer\, instructor\, and multi-instrumentalist with 30 years of experience in traditional and fusion Venezuelan music. In 2010\, Betancourt won a Latin Grammy Award for his participation on the album ​“​Tesoros de la música Venezolana” by Ilan Chester​\, and in 2016\, he was nominated on the ​album ​”​Pa’ Tío Simón” with Rafael “Pollo” Brito​.​ At the 2016 Pepsi Music Awards in Venezuela\, Betancourt’s personal album\, ​AD LIBITUM​\, was nominated three times for “Best Artist\,” “Best Song\,” and “Best Album.” His many accomplishments include more than 100 recordings\, and performances with renowned international artists such as: Simon Diaz\, Oscar D León\, Gilberto Santa Rosa\, Danny Rivera\, Luis Salinas\, Jorge Celedón\, and artists from Venezuela.
URL:https://uncommoncorner.org/event/eduardo-betancourt-2/
CATEGORIES:Live Music
ATTACH;FMTTYPE=image/jpeg:https://uncommoncorner.org/wp-content/uploads/sites/64/2024/07/Eduardo-Betancourt-2-scaled.jpeg
END:VEVENT
BEGIN:VEVENT
DTSTART;TZID=America/New_York:20240803T150000
DTEND;TZID=America/New_York:20240803T170000
DTSTAMP:20260420T011315
CREATED:20240717T185859Z
LAST-MODIFIED:20240717T185901Z
UID:3317-1722697200-1722704400@uncommoncorner.org
SUMMARY:David Lemuel Rivera
DESCRIPTION:David Rivera is a Puerto Rican artist with over 15 years of experience spanning composing\, arranging\, teaching\, podcasting\, and performing various music styles including Jazz\, Latin\, Gospel\, Rock\, and Pop. His band\, David Rivera y La Bámbula\, blends his relatable lyrics with folkloric urban sounds from the Caribbean\, creating innovative rhythms that fuse jazz and robust horn sections. This unique sound appeals to a wide range of music audiences\, from pop listeners to jazz aficionados. The group has been selected to perform at the Ecuador Jazz Fest and serves as the house band at the Fairmont San Juan Hotel in Puerto Rico. In March 2023\, they were featured in “Sesiones desde la Loma\,” attracting over 60\,000 views on YouTube. \n\n\n\nRivera has participated in numerous live concerts and studio sessions alongside legends such as Miguel Zenón\, Pedro Capo\, Obie Bermudez\, Luis Enrique\, Jerry Medina\, William Cepeda\, and Gonzalo Grau. He first gained recognition as the creator and host of the podcast “Akulkul\,” where he explores the creative processes of each guest artist.
URL:https://uncommoncorner.org/event/david-lemuel-rivera-2/
CATEGORIES:Live Music
ATTACH;FMTTYPE=image/jpeg:https://uncommoncorner.org/wp-content/uploads/sites/64/2024/06/David-Rivera.jpg
END:VEVENT
BEGIN:VEVENT
DTSTART;TZID=America/New_York:20240803T180000
DTEND;TZID=America/New_York:20240803T200000
DTSTAMP:20260420T011315
CREATED:20240529T180007Z
LAST-MODIFIED:20240529T180009Z
UID:2667-1722708000-1722715200@uncommoncorner.org
SUMMARY:Brooke Annibale Band
DESCRIPTION:This will be a solo performance by indie pop-folk singer-songwriter and guitarist\, Brooke Annibale. Not confined by any one genre\, Brooke’s expressive and beautifully thoughtful songwriting creates a dreamy\, dark\, and enticing sonic landscape. Her songs have been placed on many TV shows including Grey’s Anatomy\, Pretty Little Liars\, and One Tree Hill. Brooke has recently performed on SiriusXM The Coffee House\, AudioTree Live\, Paste and more. ​Brooke’s new album Better By Now is out now.  \n\n\n\nhttp://brookeannibale.com \n\n\n\nhttp://instagram.com/brookeannibale  \n\n\n\nhttp://facebook.com/brookeannibale  \n\n\n\nTweets by brookeannibale  \n\n\n\ntik tok @brookeannibale
URL:https://uncommoncorner.org/event/brooke-annibale-band/
CATEGORIES:Live Music
ATTACH;FMTTYPE=image/jpeg:https://uncommoncorner.org/wp-content/uploads/sites/64/2023/05/Untitled-design-15.jpg
END:VEVENT
END:VCALENDAR