BEGIN:VCALENDAR
VERSION:2.0
PRODID:-//Emerson College UnCommon Corner - ECPv6.15.19//NONSGML v1.0//EN
CALSCALE:GREGORIAN
METHOD:PUBLISH
X-ORIGINAL-URL:https://uncommoncorner.org
X-WR-CALDESC:Events for Emerson College UnCommon Corner
REFRESH-INTERVAL;VALUE=DURATION:PT1H
X-Robots-Tag:noindex
X-PUBLISHED-TTL:PT1H
BEGIN:VTIMEZONE
TZID:America/New_York
BEGIN:DAYLIGHT
TZOFFSETFROM:-0500
TZOFFSETTO:-0400
TZNAME:EDT
DTSTART:20230312T070000
END:DAYLIGHT
BEGIN:STANDARD
TZOFFSETFROM:-0400
TZOFFSETTO:-0500
TZNAME:EST
DTSTART:20231105T060000
END:STANDARD
BEGIN:DAYLIGHT
TZOFFSETFROM:-0500
TZOFFSETTO:-0400
TZNAME:EDT
DTSTART:20240310T070000
END:DAYLIGHT
BEGIN:STANDARD
TZOFFSETFROM:-0400
TZOFFSETTO:-0500
TZNAME:EST
DTSTART:20241103T060000
END:STANDARD
BEGIN:DAYLIGHT
TZOFFSETFROM:-0500
TZOFFSETTO:-0400
TZNAME:EDT
DTSTART:20250309T070000
END:DAYLIGHT
BEGIN:STANDARD
TZOFFSETFROM:-0400
TZOFFSETTO:-0500
TZNAME:EST
DTSTART:20251102T060000
END:STANDARD
END:VTIMEZONE
BEGIN:VEVENT
DTSTART;TZID=America/New_York:20240802T140000
DTEND;TZID=America/New_York:20240802T160000
DTSTAMP:20260420T010949
CREATED:20240620T152244Z
LAST-MODIFIED:20240620T152246Z
UID:2871-1722607200-1722614400@uncommoncorner.org
SUMMARY:Zahili Gonzalez Zamora
DESCRIPTION:Zahili Gonzalez Zamora is a Cuban pianist\, composer\, bandleader\, arranger\, and educator. She feels most defined by her Cuban heritage and her status as an immigrant. Her passion for music has taken her to Canada\, to South East Asia and\, now\, to the United States. Her rich musical background\, career experience and extraordinary improvisation skills render her a leader in the modern Latin jazz idiom and an influential\, emulated musician. \n\n\n\n​In 2018\, her Afro-Cuban jazz Trio\, MIXCLA\, released its self-titled album\, which features her original tunes and arrangements. It has received critical acclaim and earned the attention of major agents locally and internationally. The album has thus far advanced in the world of jazz\, adding to her accolades two nominations from the Boston Music Awards (2018 & 2019). \n\n\n\nhttps://www.zahilizamora.com \n\n\n\nhttps://www.instagram.com/zahiligz/
URL:https://uncommoncorner.org/event/zahili-gonzalez-zamora-8/
CATEGORIES:Live Music
ATTACH;FMTTYPE=image/jpeg:https://uncommoncorner.org/wp-content/uploads/sites/64/2023/07/Untitled-design-41.jpg
END:VEVENT
BEGIN:VEVENT
DTSTART;TZID=America/New_York:20240802T160000
DTEND;TZID=America/New_York:20240802T180000
DTSTAMP:20260420T010949
CREATED:20240710T195559Z
LAST-MODIFIED:20240710T195601Z
UID:3181-1722614400-1722621600@uncommoncorner.org
SUMMARY:WeAreLoFi
DESCRIPTION:Introducing WeAreLoFi\, a multi-Grammy-nominated\, Golden Globe Award and NAACP image award winning duo who captivates listeners with their signature blend of soulful melodies and laid-back beats. With a passion for creating atmospheric and nostalgic soundscapes\, WeAreLofi effortlessly combines elements of jazz\, hip-hop\, ambient music and MANY more genres to craft a truly unique sonic experience. The group consists of Charles Haynes and Mitch Henry\, whose attention to detail and meticulous production techniques result in tracks that transport listeners to a world of tranquility and introspection. With a growing fan base and ever-expanding catalog of mesmerizing compositions\, WeAreLofi is making waves in the lo-fi scene. Whether you’re seeking relaxation or a transcendent musical journey\, WeAreLofi’s music is the perfect soundtrack for those moments of reflection and escape.
URL:https://uncommoncorner.org/event/wearelofi-5/
CATEGORIES:Live Music
ATTACH;FMTTYPE=image/jpeg:https://uncommoncorner.org/wp-content/uploads/sites/64/2024/07/Copy-of-WeAreLofi-scaled.jpg
END:VEVENT
BEGIN:VEVENT
DTSTART;TZID=America/New_York:20240802T190000
DTEND;TZID=America/New_York:20240802T210000
DTSTAMP:20260420T010949
CREATED:20240621T175309Z
LAST-MODIFIED:20240621T175310Z
UID:2947-1722625200-1722632400@uncommoncorner.org
SUMMARY:Dwayne Haggins
DESCRIPTION:He’s been described as “the love child of Otis Redding and Doc Watson.” “The John Legend of rockabilly.” And recently\, “a ‘what-took-you-so-long’ fusion of Elvis and Marvin Gaye.” But he is Dwayne Haggins\, and his voice is his own. Whether on the stage of a metropolitan concert hall or the makeshift bandstand of a neighborhood dive\, you will find him exploring uncharted musical territories\, listening for new ways to stir his influences into this night’s expression of his unique sound – strangely familiar\, naturally mysterious\, unmistakably his own. \n\n\n\nNotably\, Haggins has shared the stage with acts such as Joe Bonamassa\, Keb Mo\, Jimmy Vivino\, Chris Lane\, Suzanne Santo\, and Fitz and the Tantrums. Haggins was signed in November of 2021 and his Verdict debut LP was released in June of 2022 titled “Call Me Boston”. \n\n\n\ndwaynehaggins.com \n\n\n\nInstagram & FB: @hagginsmusic
URL:https://uncommoncorner.org/event/dwayne-haggins-21/
CATEGORIES:Live Music
ATTACH;FMTTYPE=image/jpeg:https://uncommoncorner.org/wp-content/uploads/sites/64/2023/05/Untitled-design-14.jpg
END:VEVENT
END:VCALENDAR