BEGIN:VCALENDAR
VERSION:2.0
PRODID:-//Emerson College UnCommon Corner - ECPv6.15.19//NONSGML v1.0//EN
CALSCALE:GREGORIAN
METHOD:PUBLISH
X-ORIGINAL-URL:https://uncommoncorner.org
X-WR-CALDESC:Events for Emerson College UnCommon Corner
REFRESH-INTERVAL;VALUE=DURATION:PT1H
X-Robots-Tag:noindex
X-PUBLISHED-TTL:PT1H
BEGIN:VTIMEZONE
TZID:America/New_York
BEGIN:DAYLIGHT
TZOFFSETFROM:-0500
TZOFFSETTO:-0400
TZNAME:EDT
DTSTART:20230312T070000
END:DAYLIGHT
BEGIN:STANDARD
TZOFFSETFROM:-0400
TZOFFSETTO:-0500
TZNAME:EST
DTSTART:20231105T060000
END:STANDARD
BEGIN:DAYLIGHT
TZOFFSETFROM:-0500
TZOFFSETTO:-0400
TZNAME:EDT
DTSTART:20240310T070000
END:DAYLIGHT
BEGIN:STANDARD
TZOFFSETFROM:-0400
TZOFFSETTO:-0500
TZNAME:EST
DTSTART:20241103T060000
END:STANDARD
BEGIN:DAYLIGHT
TZOFFSETFROM:-0500
TZOFFSETTO:-0400
TZNAME:EDT
DTSTART:20250309T070000
END:DAYLIGHT
BEGIN:STANDARD
TZOFFSETFROM:-0400
TZOFFSETTO:-0500
TZNAME:EST
DTSTART:20251102T060000
END:STANDARD
END:VTIMEZONE
BEGIN:VEVENT
DTSTART;TZID=America/New_York:20240704T120000
DTEND;TZID=America/New_York:20240704T140000
DTSTAMP:20260420T022526
CREATED:20240620T203915Z
LAST-MODIFIED:20240620T203916Z
UID:2842-1720094400-1720101600@uncommoncorner.org
SUMMARY:Dan DeCristofaro
DESCRIPTION:Dan DeCristofaro is a soulful singer\, songwriter\, producer and arranger based in Massachusetts. He is a founding member of Blue Light Bandits\, an award winning\, 4-piece independent groove rock band from Worcester\, MA that has amassed over 3 million streams on Spotify over the course of 3 full length albums\, 2 EP’s\, and an array of singles. In 2022 he formed quiet thrill\, a singer / songwriter super duo along with long time friend and collaborator Joel Ansett and Dan DeCristofaro. They released their debut self-titled album in July ‘22 and are currently on a nationwide house tour\, directly engaging with their fans in an intimate setting. Whether he is performing with a band or as a solo artist\, Dan has been a staple of the New England music scene for 10 years.
URL:https://uncommoncorner.org/event/dan-decristofaro/
CATEGORIES:Live Music
ATTACH;FMTTYPE=image/jpeg:https://uncommoncorner.org/wp-content/uploads/sites/64/2024/06/AIV00064-scaled.jpg
END:VEVENT
BEGIN:VEVENT
DTSTART;TZID=America/New_York:20240704T180000
DTEND;TZID=America/New_York:20240704T200000
DTSTAMP:20260420T022526
CREATED:20240522T145909Z
LAST-MODIFIED:20240522T145911Z
UID:2544-1720116000-1720123200@uncommoncorner.org
SUMMARY:The Femmes
DESCRIPTION:The Femmes are an all-woman and non-binary wedding band specializing in songs by female and non-binary artists. When you’re at a Femmes show\, you’re at a high energy concert experience. Epic sing-alongs\, expertly crafted harmonies\, and musicians who absolutely LOVE to interact with the audience\, the Femmes are Boston’s go-to women’s party band! Our roster includes Berklee alumni\, touring artists\, veteran wedding band performers\, and pit band musicians with over 10 years of professional experience. \n\n\n\nSocial Media: @thefemmesband  \n\n\n\nWebsite: thefemmesband.com
URL:https://uncommoncorner.org/event/the-femmes-15/
CATEGORIES:Live Music
ATTACH;FMTTYPE=image/jpeg:https://uncommoncorner.org/wp-content/uploads/sites/64/2023/06/Untitled-design-25.jpg
END:VEVENT
END:VCALENDAR