BEGIN:VCALENDAR
VERSION:2.0
PRODID:-//Emerson College UnCommon Corner - ECPv6.15.19//NONSGML v1.0//EN
CALSCALE:GREGORIAN
METHOD:PUBLISH
X-WR-CALNAME:Emerson College UnCommon Corner
X-ORIGINAL-URL:https://uncommoncorner.org
X-WR-CALDESC:Events for Emerson College UnCommon Corner
REFRESH-INTERVAL;VALUE=DURATION:PT1H
X-Robots-Tag:noindex
X-PUBLISHED-TTL:PT1H
BEGIN:VTIMEZONE
TZID:America/New_York
BEGIN:DAYLIGHT
TZOFFSETFROM:-0500
TZOFFSETTO:-0400
TZNAME:EDT
DTSTART:20230312T070000
END:DAYLIGHT
BEGIN:STANDARD
TZOFFSETFROM:-0400
TZOFFSETTO:-0500
TZNAME:EST
DTSTART:20231105T060000
END:STANDARD
BEGIN:DAYLIGHT
TZOFFSETFROM:-0500
TZOFFSETTO:-0400
TZNAME:EDT
DTSTART:20240310T070000
END:DAYLIGHT
BEGIN:STANDARD
TZOFFSETFROM:-0400
TZOFFSETTO:-0500
TZNAME:EST
DTSTART:20241103T060000
END:STANDARD
BEGIN:DAYLIGHT
TZOFFSETFROM:-0500
TZOFFSETTO:-0400
TZNAME:EDT
DTSTART:20250309T070000
END:DAYLIGHT
BEGIN:STANDARD
TZOFFSETFROM:-0400
TZOFFSETTO:-0500
TZNAME:EST
DTSTART:20251102T060000
END:STANDARD
END:VTIMEZONE
BEGIN:VEVENT
DTSTART;TZID=America/New_York:20240615T150000
DTEND;TZID=America/New_York:20240615T170000
DTSTAMP:20260420T035457
CREATED:20240529T172335Z
LAST-MODIFIED:20240529T173016Z
UID:2639-1718463600-1718470800@uncommoncorner.org
SUMMARY:Fabiola Méndez Trio
DESCRIPTION:Fabiola Méndez is a Puerto Rican cuatro player\, singer\, educator\, and Emmy-nominated composer that has taken part in a musical movement\, crossing over the lines of genres such as Folk\, Afro-Caribbean & Jazz. Recognized as the Latin Artist of the Year 2023 by the Boston Music Awards\, her artistic vision and original music focus on the exploration of culture\, ancestry\, and identity\, inviting the listener to embrace how the power of music and storytelling can unify us. After becoming the first graduate from Berklee College of Music to play the Puerto Rican cuatro as a principal instrument (2018)\, Fabiola focuses on performing and composing\, traveling with her trio to national and international festivals. She has received numerous awards\, including the Quincy Jones Award\, the Brother Thomas Fellowship\, ASCAP Lucille and Jack Yellen Award 2022 and a Children’s and Family Emmy nomination for Outstanding Interactive Media in 2023. \n\n\n\nhttps://www.fabiolamendezmusic.com \n\n\n\n Facebook – www.facebook.com/FabiolaMendezMusic \n\n\n\nIG – @fabiolamendezmusic \n\n\n\n \n\n\n\n \n\n\n\nFacebook\n\nInstagram
URL:https://uncommoncorner.org/event/fabiola-mendez-3/
CATEGORIES:Live Music
ATTACH;FMTTYPE=image/jpeg:https://uncommoncorner.org/wp-content/uploads/sites/64/2024/04/F-Mendez-Dec-2019-Nuttymar-Photography-scaled.jpeg
END:VEVENT
BEGIN:VEVENT
DTSTART;TZID=America/New_York:20240615T180000
DTEND;TZID=America/New_York:20240615T200000
DTSTAMP:20260420T035457
CREATED:20240613T175159Z
LAST-MODIFIED:20240613T175201Z
UID:2815-1718474400-1718481600@uncommoncorner.org
SUMMARY:Maz
DESCRIPTION:Maz is the bridge that links Alternative Hip Hop and the music he grew up on in São Paulo\, Brazil. As a son of a DJ\, much of that influence bleeds through his music today through neck-snapping production and an out-worldly harness of energy in his lyrics. Whether he is experimenting with the sounds of Alternative Rock or staying true to his roots with Brazilian Funk\, his music nowadays breathes a sense of self-awareness and maturity that invites listeners to reflect on their own experiences and backgrounds. From performing at Gov Ball 2024 alongside Kidd Revel to intimate art gallery performances in Boston\, his ethos of unwavering energy is constantly evolving as his creative approach is just as much about self-understanding as it is about the expression of the process itself. \n\n\n\n@maztypebeat everywhere
URL:https://uncommoncorner.org/event/maz/
CATEGORIES:DJ,Live Music
ATTACH;FMTTYPE=image/jpeg:https://uncommoncorner.org/wp-content/uploads/sites/64/2023/08/Untitled-design-49.jpg
END:VEVENT
END:VCALENDAR