BEGIN:VCALENDAR
VERSION:2.0
PRODID:-//Emerson College UnCommon Corner - ECPv6.15.19//NONSGML v1.0//EN
CALSCALE:GREGORIAN
METHOD:PUBLISH
X-WR-CALNAME:Emerson College UnCommon Corner
X-ORIGINAL-URL:https://uncommoncorner.org
X-WR-CALDESC:Events for Emerson College UnCommon Corner
REFRESH-INTERVAL;VALUE=DURATION:PT1H
X-Robots-Tag:noindex
X-PUBLISHED-TTL:PT1H
BEGIN:VTIMEZONE
TZID:America/New_York
BEGIN:DAYLIGHT
TZOFFSETFROM:-0500
TZOFFSETTO:-0400
TZNAME:EDT
DTSTART:20230312T070000
END:DAYLIGHT
BEGIN:STANDARD
TZOFFSETFROM:-0400
TZOFFSETTO:-0500
TZNAME:EST
DTSTART:20231105T060000
END:STANDARD
BEGIN:DAYLIGHT
TZOFFSETFROM:-0500
TZOFFSETTO:-0400
TZNAME:EDT
DTSTART:20240310T070000
END:DAYLIGHT
BEGIN:STANDARD
TZOFFSETFROM:-0400
TZOFFSETTO:-0500
TZNAME:EST
DTSTART:20241103T060000
END:STANDARD
BEGIN:DAYLIGHT
TZOFFSETFROM:-0500
TZOFFSETTO:-0400
TZNAME:EDT
DTSTART:20250309T070000
END:DAYLIGHT
BEGIN:STANDARD
TZOFFSETFROM:-0400
TZOFFSETTO:-0500
TZNAME:EST
DTSTART:20251102T060000
END:STANDARD
END:VTIMEZONE
BEGIN:VEVENT
DTSTART;TZID=America/New_York:20240526T130000
DTEND;TZID=America/New_York:20240526T140000
DTSTAMP:20260424T044339
CREATED:20240521T155130Z
LAST-MODIFIED:20240523T174453Z
UID:2475-1716728400-1716732000@uncommoncorner.org
SUMMARY:LAVA GXRL
DESCRIPTION:AT THE BEGINNING\,\n\n\n\nLAVAGXRL EMERGED FROM THE ETHER.\n\n\n\nFORGED BY FIRE\, INFUSED WITH THE POWER TO TRANSFORM AND DESTROY\, LAVAGXRL EXISTS TEMPORARILY ON THIS PLANE. LAVAGXRL IS A GENDERLESS\, TIMELESS\, MULTIDIMENSIONAL BEING—A STARSEED PLANTED TO PUSH BOUNDARIES AND ENCOURAGE THE ABANDONMENT OF HUMAN MIND-BODY WORSHIP. LET THESE VOLCANIC SOUNDS FROM ANOTHER PLANE DISMANTLE YOUR HALLUCINATIONS. ALLOW YOURSELF TO DISCONNECT FROM THE STRUCTURES OF YOUR REALITY. LET YOUR YOU-NESS DISSIPATE INTO THE MOLTEN CORE. YOU ARE FREE.\n\n\n\nhttps://www.lavagxrl.xyz
URL:https://uncommoncorner.org/event/lava-gxrl/
CATEGORIES:Live Music
END:VEVENT
BEGIN:VEVENT
DTSTART;TZID=America/New_York:20240526T160000
DTEND;TZID=America/New_York:20240526T180000
DTSTAMP:20260424T044339
CREATED:20230819T184109Z
LAST-MODIFIED:20240516T155853Z
UID:1618-1716739200-1716746400@uncommoncorner.org
SUMMARY:Sarah Bernadette
DESCRIPTION:Sarah Bernadette is a New Jersey-born singer-songwriter whose music fuses pop\, jazz\, and R&B influences to create a unique sound. She has her master’s degree from New England Conservatory in Contemporary Improvisation (’21) and her Bachelor of Music in Songwriting and Voice Performance from Berklee College of Music (’18). \n\n\n\nHer music is deeply personal; through her writing and her performances\, she hopes to form meaningful connections with her audience and listeners. She is an expressive performer and improviser with a love for jazz voice.  \n\n\n\nSarah has worked with Kathleen Flynn\, Dominique Eade\, Cristi Catt\, and more recently Grammy-winner Cecile McLorin Salvant\, whom she considers one of her biggest musical inspirations.  \n\n\n\nYou can find Sarah Bernadette’s music on all streaming services\, including her most recent releases: “sad poems on my phone” and her debut album\, “New Leaves”. \n\n\n\nsarahbernadettemusic.com \n\n\n\nInstagram: @sarah.bernadette \n\n\n\nFB: facebook.com/sarahbernadettemusic
URL:https://uncommoncorner.org/event/sarah-bernadette-4/
CATEGORIES:Live Music
ATTACH;FMTTYPE=image/jpeg:https://uncommoncorner.org/wp-content/uploads/sites/64/2023/05/Untitled-design-10.jpg
END:VEVENT
END:VCALENDAR